BEGIN:VCALENDAR
VERSION:2.0
PRODID:-//Coopernuoto - ECPv6.2.3.2//NONSGML v1.0//EN
CALSCALE:GREGORIAN
METHOD:PUBLISH
X-ORIGINAL-URL:https://www.coopernuoto.it
X-WR-CALDESC:Eventi per Coopernuoto
REFRESH-INTERVAL;VALUE=DURATION:PT1H
X-Robots-Tag:noindex
X-PUBLISHED-TTL:PT1H
BEGIN:VTIMEZONE
TZID:Europe/Helsinki
BEGIN:DAYLIGHT
TZOFFSETFROM:+0200
TZOFFSETTO:+0300
TZNAME:EEST
DTSTART:20230326T010000
END:DAYLIGHT
BEGIN:STANDARD
TZOFFSETFROM:+0300
TZOFFSETTO:+0200
TZNAME:EET
DTSTART:20231029T010000
END:STANDARD
BEGIN:DAYLIGHT
TZOFFSETFROM:+0200
TZOFFSETTO:+0300
TZNAME:EEST
DTSTART:20240331T010000
END:DAYLIGHT
BEGIN:STANDARD
TZOFFSETFROM:+0300
TZOFFSETTO:+0200
TZNAME:EET
DTSTART:20241027T010000
END:STANDARD
BEGIN:DAYLIGHT
TZOFFSETFROM:+0200
TZOFFSETTO:+0300
TZNAME:EEST
DTSTART:20250330T010000
END:DAYLIGHT
BEGIN:STANDARD
TZOFFSETFROM:+0300
TZOFFSETTO:+0200
TZNAME:EET
DTSTART:20251026T010000
END:STANDARD
BEGIN:DAYLIGHT
TZOFFSETFROM:+0200
TZOFFSETTO:+0300
TZNAME:EEST
DTSTART:20260329T010000
END:DAYLIGHT
BEGIN:STANDARD
TZOFFSETFROM:+0300
TZOFFSETTO:+0200
TZNAME:EET
DTSTART:20261025T010000
END:STANDARD
END:VTIMEZONE
BEGIN:VEVENT
DTSTART;TZID=Europe/Helsinki:20260312T080000
DTEND;TZID=Europe/Helsinki:20260312T170000
DTSTAMP:20260422T060918
CREATED:20260312T123141Z
LAST-MODIFIED:20260312T123141Z
UID:56070-1773302400-1773334800@www.coopernuoto.it
SUMMARY:Nazionali Fin Esordienti - 12-14/06/2026
DESCRIPTION:Nazionali Fin Esordienti – 12-14/06/2026 \n  \nData: dal 12 al 14 Giugno 2026 \nLuogo: Roma \nCategoria: Esordienti C\, Esordienti B ed Esordienti A propa
URL:https://www.coopernuoto.it/evento-sportivo/nazionali-fin-esordienti-12-14-06-2026/
CATEGORIES:Esordienti A propaganda,Esordienti B,Esordienti C
END:VEVENT
BEGIN:VEVENT
DTSTART;TZID=Europe/Helsinki:20260222T080000
DTEND;TZID=Europe/Helsinki:20260222T170000
DTSTAMP:20260422T060918
CREATED:20260312T123753Z
LAST-MODIFIED:20260312T123753Z
UID:56072-1771747200-1771779600@www.coopernuoto.it
SUMMARY:Trofeo Uisp - 22/02/2026
DESCRIPTION:Trofeo Uisp – 22/02/2026 \n  \nData: 22 Febbraio 2026 \nLuogo: Casalecchio \nCategoria: ragazze propa e Juniores propa
URL:https://www.coopernuoto.it/evento-sportivo/trofeo-uisp-22-02-2026/
CATEGORIES:Assolute propaganda,Ragazze propaganda
END:VEVENT
BEGIN:VEVENT
DTSTART;TZID=Europe/Helsinki:20260129T080000
DTEND;TZID=Europe/Helsinki:20260129T170000
DTSTAMP:20260422T060918
CREATED:20251127T142151Z
LAST-MODIFIED:20260312T112717Z
UID:54663-1769673600-1769706000@www.coopernuoto.it
SUMMARY:ITALIANI INVERNALI ASSOLUTI - dal 29/01 al 01/02/2026 - RISULTATI
DESCRIPTION:ITALIANI INVERNALI ASSOLUTI – dal 29/01 al 01/02/2026 \n  \nDATA: dal 29/01/2026 al 01/02/2026 \nLUOGO: Riccione \nCATEGORIA: Assolute \n  \nRISULTATI: https://fin2026.microplustiming.com/AS_2026_01_29-02_01_Riccione_web.php
URL:https://www.coopernuoto.it/evento-sportivo/italiani-invernali-assoluti-dal-29-01-al-01-02-2026/
CATEGORIES:Ragazze agonismo
END:VEVENT
BEGIN:VEVENT
DTSTART;TZID=Europe/Helsinki:20251127T080000
DTEND;TZID=Europe/Helsinki:20251127T170000
DTSTAMP:20260422T060918
CREATED:20251127T131743Z
LAST-MODIFIED:20251127T131743Z
UID:54649-1764230400-1764262800@www.coopernuoto.it
SUMMARY:3^ Prova Campionato Regionale - 18/01/26
DESCRIPTION:3^ Prova Campionato Regionale – 18/01/26 \n  \nDATA: 18 Gennaio 2026 \nLUOGO: Forlì \nCATEGORIA: – Esordienti A\, Obbligatori \n– Juniores\, Obbligatori + liberi \n– Assolute\, Obbligatori + liberi \n  \nPROGRAMMA ORARI: \nMattina: 08:30 – 16:00
URL:https://www.coopernuoto.it/evento-sportivo/3-prova-campionato-regionale-18-01-26/
CATEGORIES:Esordienti A agonismo,Ragazze agonismo
END:VEVENT
BEGIN:VEVENT
DTSTART;TZID=Europe/Helsinki:20240609T080000
DTEND;TZID=Europe/Helsinki:20240831T170000
DTSTAMP:20260422T060918
CREATED:20240604T075608Z
LAST-MODIFIED:20240604T075608Z
UID:47275-1717920000-1725123600@www.coopernuoto.it
SUMMARY:7° Campionato Regionale FIN - agonismo
DESCRIPTION:MANIFESTAZIONE:     7° CAMPIONATO REGIONALE FIN – agonismo \n  \nDATA:    Domenica  9  Giugno \n  \nLOCALITA’:  Forlì – piscina comunale di Forlì\, via Filippo Turati 17/19 \n  \nPROGRAMMA GARE: \nMATTINA – cat. RAGAZZE \nRiscaldamento  ore 9.00 \nObbligatori  ore 9.30 \nLiberi  ore 11.00  (solo\, duo\, squadra e combo) \n  \nPOMERIGGIO – cat. Es.A \nRiscaldamento  ore 13.30 \nObbligatori  ore 14.00 \nLiberi a seguire \n 
URL:https://www.coopernuoto.it/evento-sportivo/7-campionato-regionale-fin-agonismo/
LOCATION:Piscina Comunale di Forlì\, Via Filippo Turati 17/19\, Forlì\, 47121\, Italia
CATEGORIES:Esordienti A agonismo,Nuoto Artistico,Ragazze agonismo
ORGANIZER;CN="Coopernuoto Agonistica":MAILTO:agonistica@coopernuoto.it
END:VEVENT
BEGIN:VEVENT
DTSTART;TZID=Europe/Helsinki:20240526T080000
DTEND;TZID=Europe/Helsinki:20240831T170000
DTSTAMP:20260422T060918
CREATED:20240411T092830Z
LAST-MODIFIED:20240524T081329Z
UID:46420-1716710400-1725123600@www.coopernuoto.it
SUMMARY:4° Campionato Regionale FIN - propaganda
DESCRIPTION:MANIFESTAZIONE:        4° CAMPIONATO REGIONALE FIN – propaganda \n  \nDATA:    Domenica  26  Maggio \n  \nLOCALITA’:  Forlì – Piscina comunale di Forlì – Via Filippo Turati 17-19 \n  \nCATEGORIE: ES.C\, ES.B\, ES.A\, RAGAZZE\, JUNIOR\, ASSOLUTE \n  \nPROGRAMMA GARE:  \nMATTINA:  ES.C –  ES.B –  ES.A \nRiscaldamento ore 8:30 \nInizio gara ore 9:00 \n  \nPOMERIGGIO:  RAGAZZE  –  JUNIORES  –  ASSOLUTE \nRiscaldamento ore 13:30 \nInizio gare ore 14:00 \n 
URL:https://www.coopernuoto.it/evento-sportivo/4-campionato-regionale-fin-propaganda/
LOCATION:Piscina Comunale di Forlì\, Via Filippo Turati 17/19\, Forlì\, 47121\, Italia
CATEGORIES:Assolute propaganda,Esordienti A propaganda,Esordienti B,Esordienti C,Nuoto Artistico,Ragazze propaganda
ORGANIZER;CN="Coopernuoto Agonistica":MAILTO:agonistica@coopernuoto.it
END:VEVENT
BEGIN:VEVENT
DTSTART;TZID=Europe/Helsinki:20240517T080000
DTEND;TZID=Europe/Helsinki:20240831T170000
DTSTAMP:20260422T060918
CREATED:20240411T090619Z
LAST-MODIFIED:20240411T090619Z
UID:46407-1715932800-1725123600@www.coopernuoto.it
SUMMARY:"Sincro x Tutti!" - Roma
DESCRIPTION:MANIFESTAZIONE:    MANIFESTAZIONE NUOTO ARTISTICO  “ SINCRO X TUTTI! ” \n  \nDATA:    17 – 18 – 19  Maggio   \n  \nLOCALITA’:  ROMA  – Complesso natatorio del Foro Italico\, Piazza Lauro de Bosis\, 3\, 00135 Roma RM \n  \nCATEGORIE:  JUNIORES \n  \nPROGRAMMA GARE:  da definirsi \n 
URL:https://www.coopernuoto.it/evento-sportivo/sincro-x-tutti-roma/
LOCATION:Complesso natatorio Foro Italico\, Piazza Lauro de Bosis\, 3\, Roma\, 00135\, Italia
CATEGORIES:Assolute propaganda,Nuoto Artistico
ORGANIZER;CN="Coopernuoto Agonistica":MAILTO:agonistica@coopernuoto.it
END:VEVENT
BEGIN:VEVENT
DTSTART;VALUE=DATE:20240421
DTEND;VALUE=DATE:20240901
DTSTAMP:20260422T060918
CREATED:20240208T102447Z
LAST-MODIFIED:20240405T093652Z
UID:45663-1713657600-1725148799@www.coopernuoto.it
SUMMARY:3° Campionato Regionale FIN - propaganda
DESCRIPTION:MANIFESTAZIONE:     3° CAMPIONATO REGIONALE FIN – propaganda \n  \nDATA:    Domenica  21  Aprile \n  \nLOCALITA’:  LUGO – piscina comunale\, Piazzale veterani dello sport 2 \n  \nCATEGORIE:  ES. C\, ES. B\, ES. A\, RAGAZZI\, JUNIORES\, ASSOLUTI \n 
URL:https://www.coopernuoto.it/evento-sportivo/3-campionato-regionale-fin-propaganda/
CATEGORIES:Assolute propaganda,Esordienti A propaganda,Esordienti B,Esordienti C,Nuoto Artistico,Ragazze propaganda
ORGANIZER;CN="Coopernuoto Agonistica":MAILTO:agonistica@coopernuoto.it
END:VEVENT
BEGIN:VEVENT
DTSTART;VALUE=DATE:20240414
DTEND;VALUE=DATE:20240901
DTSTAMP:20260422T060918
CREATED:20240208T101511Z
LAST-MODIFIED:20240411T091735Z
UID:45657-1713052800-1725148799@www.coopernuoto.it
SUMMARY:4° Trofeo Uisp Esordienti e 5° Trofeo Uisp Sincro insieme - Ravenna
DESCRIPTION:MANIFESTAZIONE:   4°  Trofeo Uisp Esordienti  e  5° Trofeo Uisp sincro insieme \n  \nDATA:    Domenica  14  Aprile \n  \nLOCALITA’:  Ravenna – Piscina comunale G.Gambi Ravenna\, Via Chiarissimo Falconieri 29/31 (RA) \n  \nCATEGORIE:  ES. C\, ES. B\, ES. A\, RAGAZZI\, JUNIORES\, ASSOLUTI \n  \nPROGRAMMA GARA \nMattina:  categorie C\, B\, A \nES. C ed ES. B: \nriscaldamento ore 8:00 \ninizio gara ore 8:30 \n  \nES. A: \nriscaldamento ore 9:45 \ninizio gara ore 10:45 \n  \nPomeriggio:  categorie Ragazze\, Juniores\, Assolute\, Master \nRAGAZZE: \nriscaldamento ore 12:30 circa \ninizio gara ore 13:30 circa \n  \nJUNIOR e ASSOLUTE: \nriscaldamento 15:00 circa \ninizio gara 16:00 circa \n 
URL:https://www.coopernuoto.it/evento-sportivo/trofeo-uisp-ravenna/
LOCATION:Piscina comunale G.Gambi Ravenna\, Via Chiarissimo Falconieri 29/31\, Ravenna\, 48124\, Italia
CATEGORIES:Assolute propaganda,Esordienti A propaganda,Esordienti B,Esordienti C,Nuoto Artistico,Ragazze propaganda
ORGANIZER;CN="Coopernuoto Agonistica":MAILTO:agonistica@coopernuoto.it
END:VEVENT
BEGIN:VEVENT
DTSTART;TZID=Europe/Helsinki:20240407T130000
DTEND;TZID=Europe/Helsinki:20240831T190000
DTSTAMP:20260422T060918
CREATED:20240208T102206Z
LAST-MODIFIED:20240208T102206Z
UID:45661-1712494800-1725130800@www.coopernuoto.it
SUMMARY:6° Campionato Regionale FIN - agonismo
DESCRIPTION:MANIFESTAZIONE:     6° CAMPIONATO REGIONALE FIN – agonismo \n  \nDATA:    Domenica  7  Aprile \n  \nLOCALITA’:  da definirsi \n  \nCATEGORIE:  JUNIORES \n 
URL:https://www.coopernuoto.it/evento-sportivo/6-campionato-regionale-fin-agonismo/
CATEGORIES:Nuoto Artistico,Ragazze agonismo
ORGANIZER;CN="Coopernuoto Agonistica":MAILTO:agonistica@coopernuoto.it
END:VEVENT
BEGIN:VEVENT
DTSTART;VALUE=DATE:20240324
DTEND;VALUE=DATE:20240901
DTSTAMP:20260422T060918
CREATED:20240208T100644Z
LAST-MODIFIED:20240208T101551Z
UID:45654-1711238400-1725148799@www.coopernuoto.it
SUMMARY:Trofeo Uisp - Forlì
DESCRIPTION:MANIFESTAZIONE:     TROFEO UISP \n  \nDATA:    Domenica  24  Marzo \n  \nLOCALITA’:  Forlì  –  Piscina comunale di Forlì\, Via Filippo Turati 17/19 (FC) \n  \nCATEGORIE:  ES. C\, ES. B\, ES. A\, RAGAZZI\, JUNIORES\, ASSOLUTI \n  \nPROGRAMMA: \nda definirsi
URL:https://www.coopernuoto.it/evento-sportivo/trofeo-uisp-propaganda/
LOCATION:Piscina Comunale di Forlì\, Via Filippo Turati 17/19\, Forlì\, 47121\, Italia
CATEGORIES:Assolute propaganda,Esordienti A propaganda,Esordienti B,Esordienti C,Nuoto Artistico,Ragazze propaganda
ORGANIZER;CN="Coopernuoto Agonistica":MAILTO:agonistica@coopernuoto.it
END:VEVENT
BEGIN:VEVENT
DTSTART;TZID=Europe/Helsinki:20240317T130000
DTEND;TZID=Europe/Helsinki:20240831T190000
DTSTAMP:20260422T060918
CREATED:20240208T095952Z
LAST-MODIFIED:20240208T095952Z
UID:45652-1710680400-1725130800@www.coopernuoto.it
SUMMARY:5° Campionato Regionale FIN - agonismo
DESCRIPTION:MANIFESTAZIONE:     5° CAMPIONATO REGIONALE FIN – agonismo \n  \nDATA:    Domenica  17  Marzo \n  \nLOCALITA’:  Lugo – Piscina comunale Lugo\, piazzale Veterani Dello Sport\, 2\, (RA) \n  \nCATEGORIE:  ES. A\, RAGAZZI \n 
URL:https://www.coopernuoto.it/evento-sportivo/5-campionato-regionale-fin-agonismo/
LOCATION:Piscina comunale di Lugo
CATEGORIES:Esordienti A agonismo,Nuoto Artistico,Ragazze agonismo
ORGANIZER;CN="Coopernuoto Agonistica":MAILTO:agonistica@coopernuoto.it
END:VEVENT
BEGIN:VEVENT
DTSTART;TZID=Europe/Helsinki:20240310T140000
DTEND;TZID=Europe/Helsinki:20240831T190000
DTSTAMP:20260422T060918
CREATED:20240208T093520Z
LAST-MODIFIED:20240208T094415Z
UID:45643-1710079200-1725130800@www.coopernuoto.it
SUMMARY:2° Campionato regionale FIN - propaganda
DESCRIPTION:MANIFESTAZIONE:    2° Campionato regionale FIN – propaganda \n  \nLOCALITA’:  Lugo – Piscina comunale Lugo – Pazziale Veterani dello Sport\, 2 (RA) \n  \nCATEGORIE:  ES. C + ES. B + ES. A + Obbligatori Es. B \n  \nPROGRAMMA: \nda definirsi \n 
URL:https://www.coopernuoto.it/evento-sportivo/2-campionato-regionale-fin-propaganda/
LOCATION:Piscina comunale di Lugo
CATEGORIES:Esordienti A propaganda,Esordienti B,Esordienti C,Nuoto Artistico
ORGANIZER;CN="Coopernuoto Agonistica":MAILTO:agonistica@coopernuoto.it
END:VEVENT
BEGIN:VEVENT
DTSTART;VALUE=DATE:20240309
DTEND;VALUE=DATE:20240901
DTSTAMP:20260422T060918
CREATED:20240208T094232Z
LAST-MODIFIED:20240208T094232Z
UID:45646-1709942400-1725148799@www.coopernuoto.it
SUMMARY:"Sincro x Tutti!" - Verona
DESCRIPTION:MANIFESTAZIONE:    MANIFESTAZIONE NUOTO ARTISTICO  “ SINCRO X TUTTI! ” \n  \nDATA:    9 – 10  Marzo \n  \nLOCALITA’:  VERONA – Centro Federale FIN\, Via Colonnello Galliano 2  \n  \nCATEGORIE:  RAGAZZE \n  \nPROGRAMMA: \nDuo e Trio\,  da definirsi le giornate.
URL:https://www.coopernuoto.it/evento-sportivo/sincro-x-tutti-verona/
LOCATION:Centro Federale Alta specializzazione Verona\, Via Colonnello Galliano 2\, Verona\, Italia
CATEGORIES:Nuoto Artistico,Ragazze propaganda
ORGANIZER;CN="Coopernuoto Agonistica":MAILTO:agonistica@coopernuoto.it
END:VEVENT
BEGIN:VEVENT
DTSTART;TZID=Europe/Helsinki:20240303T130000
DTEND;TZID=Europe/Helsinki:20240831T190000
DTSTAMP:20260422T060918
CREATED:20240208T095333Z
LAST-MODIFIED:20240208T095333Z
UID:45650-1709470800-1725130800@www.coopernuoto.it
SUMMARY:4° Campionato Regionale FIN - agonismo
DESCRIPTION:MANIFESTAZIONE:     4° CAMPIONATO REGIONALE FIN – agonismo \n  \nDATA:    Domenica  3  Marzo \n  \nLOCALITA’:  Lugo – Piscina comunale Lugo\, piazzale Veterani Dello Sport\, 2\, (RA) \n  \nCATEGORIE:  ES. A\, RAGAZZI\, ASSOLUTI \n 
URL:https://www.coopernuoto.it/evento-sportivo/4-campionato-regionale-fin-agonismo/
LOCATION:Piscina comunale di Lugo
CATEGORIES:Esordienti A agonismo,Nuoto Artistico,Ragazze agonismo
ORGANIZER;CN="Coopernuoto Agonistica":MAILTO:agonistica@coopernuoto.it
END:VEVENT
BEGIN:VEVENT
DTSTART;TZID=Europe/Helsinki:20240222T080000
DTEND;TZID=Europe/Helsinki:20240831T190000
DTSTAMP:20260422T060918
CREATED:20231212T110634Z
LAST-MODIFIED:20240412T112737Z
UID:44852-1708588800-1725130800@www.coopernuoto.it
SUMMARY:Campionato Italiano Invernale Juniores - agonismo
DESCRIPTION:MANIFESTAZIONE: \nCAMPIONATO ITALIANO INVERNALE JUNIORES  \nagonismo \n  \n  \nDATA:     22-25  Febbraio \n  \nLOCALITA’:  RICCIONE \n  \nCATEGORIE:  JUNIORES \n  \n  \nPROGRAMMA: \nDa definirsi \n 
URL:https://www.coopernuoto.it/evento-sportivo/campionato-italiano-invernale-juniores-agonismo/
LOCATION:Stadio del Nuoto Riccione\, Via Monte Rosa\, 60\, Riccione\, 47838\, Italia
CATEGORIES:Nuoto Artistico,Ragazze agonismo
END:VEVENT
BEGIN:VEVENT
DTSTART;VALUE=DATE:20240211
DTEND;VALUE=DATE:20240901
DTSTAMP:20260422T060918
CREATED:20231212T100911Z
LAST-MODIFIED:20240208T092335Z
UID:44837-1707609600-1725148799@www.coopernuoto.it
SUMMARY:1° Campionato Regionale FIN - propaganda
DESCRIPTION:MANIFESTAZIONE:        1° CAMPIONATO REGIONALE FIN – propaganda \n  \nDATA:    Domenica 11 Febbraio \n  \nLOCALITA’:  Lugo – Piscina comunale di Lugo – Piazzale Veterani dello Sport\, 2 (RA) \n  \nCATEGORIE: RAGAZZE\, JUNIOR\, ASSOLUTE. + ES.B (solo obbligatori) \n  \n  \nPROGRAMMA \nObbligatori Es.B: \nRiscaldamento ore 13:30 \nInizio gare ore 14:00 \n  \nLiberi: \nRiscaldamento Solo e Duo ore 15:00 \nRiscaldamento Squadra ore 15:15 \nInizio gara 15:30/45 \n 
URL:https://www.coopernuoto.it/evento-sportivo/1-campionato-regionale-fin-propaganda/
LOCATION:Piscina comunale di Lugo
CATEGORIES:Assolute propaganda,Esordienti B,Nuoto Artistico,Ragazze propaganda
ORGANIZER;CN="Coopernuoto Agonistica":MAILTO:agonistica@coopernuoto.it
END:VEVENT
BEGIN:VEVENT
DTSTART;TZID=Europe/Helsinki:20240204T140000
DTEND;TZID=Europe/Helsinki:20240831T180000
DTSTAMP:20260422T060918
CREATED:20240208T103109Z
LAST-MODIFIED:20240208T103230Z
UID:45665-1707055200-1725127200@www.coopernuoto.it
SUMMARY:3° Campionato Regionale FIN - agonismo
DESCRIPTION:MANIFESTAZIONE:     3° CAMPIONATO REGIONALE FIN – agonismo \n  \nDATA:    Domenica  4  Febbraio \n  \nLOCALITA’:  Lugo – Piscina comunale Lugo\, piazzale Veterani Dello Sport\, 2\, (RA) \n  \nCATEGORIE:  ES. A\, RAGAZZI\, JUNIORES\, ASSOLUTI \n  \n 
URL:https://www.coopernuoto.it/evento-sportivo/3-campionato-regionale-fin-agonismo-2/
LOCATION:Piscina comunale di Lugo
CATEGORIES:Esordienti A agonismo,Nuoto Artistico,Ragazze agonismo
ORGANIZER;CN="Coopernuoto Agonistica":MAILTO:agonistica@coopernuoto.it
END:VEVENT
BEGIN:VEVENT
DTSTART;VALUE=DATE:20240204
DTEND;VALUE=DATE:20240901
DTSTAMP:20260422T060918
CREATED:20231212T104315Z
LAST-MODIFIED:20240308T124227Z
UID:44847-1707004800-1725148799@www.coopernuoto.it
SUMMARY:3° Campionato Regionale FIN - agonismo
DESCRIPTION:MANIFESTAZIONE: \n3° CAMPIONATO REGIONALE FIN – agonismo \n  \n  \nDATA:    Domenica  4  Febbraio \n  \n  \nCATEGORIE:  ES. A\, RAGAZZE\, JUNIOR\, ASS \n  \nPROGRAMMA: \nGiornata intera\, da definirsi
URL:https://www.coopernuoto.it/evento-sportivo/3-campionato-regionale-fin-agonismo/
CATEGORIES:Esordienti A agonismo,Nuoto Artistico,Ragazze agonismo
ORGANIZER;CN="Coopernuoto Agonistica":MAILTO:agonistica@coopernuoto.it
END:VEVENT
BEGIN:VEVENT
DTSTART;TZID=Europe/Helsinki:20240126T080000
DTEND;TZID=Europe/Helsinki:20240831T190000
DTSTAMP:20260422T060918
CREATED:20231212T095317Z
LAST-MODIFIED:20240208T104251Z
UID:44834-1706256000-1725130800@www.coopernuoto.it
SUMMARY:"Sincro x Tutti!" - Livorno
DESCRIPTION:MANIFESTAZIONE:    MANIFESTAZIONE NUOTO ARTISTICO  “ SINCRO X TUTTI! ” \n  \nDATA:    26 – 27 – 28  Gennaio \n  \nLOCALITA’: LIVORNO – piscina Camalich\, Via Salvator Allende 7 \n  \nCATEGORIE:  JUNIORES \n  \nPROGRAMMA: \n\nprogramma gare\nordine di partenza\n\n  \n 
URL:https://www.coopernuoto.it/evento-sportivo/sincro-x-tutti-livorno/
LOCATION:Piscina Camalich – Livorno\, Via Salvator Allende\, 7\, Livorno\, 57128\, Italia
CATEGORIES:Assolute propaganda,Nuoto Artistico
ORGANIZER;CN="Coopernuoto Agonistica":MAILTO:agonistica@coopernuoto.it
END:VEVENT
BEGIN:VEVENT
DTSTART;VALUE=DATE:20240114
DTEND;VALUE=DATE:20240901
DTSTAMP:20260422T060918
CREATED:20231212T104030Z
LAST-MODIFIED:20240118T101410Z
UID:44845-1705190400-1725148799@www.coopernuoto.it
SUMMARY:2° Campionato Regionale FIN - agonismo - RISULTATI
DESCRIPTION:MANIFESTAZIONE:     2° CAMPIONATO REGIONALE FIN – agonismo \n  \nDATA:    Domenica  14  Gennaio \n  \nLOCALITA’:  Lugo – Piscina comunale Lugo\, piazzale Veterani Dello Sport\, 2\, (RA) \n  \nCATEGORIE:  ES. A\, JUNIOR\, ASS \n  \nRISULTATI:  qui \n 
URL:https://www.coopernuoto.it/evento-sportivo/2-campionato-regionale-fin-agonismo/
CATEGORIES:Esordienti A agonismo,Nuoto Artistico,Ragazze agonismo
END:VEVENT
BEGIN:VEVENT
DTSTART;TZID=Europe/Helsinki:20231219T080000
DTEND;TZID=Europe/Helsinki:20240107T170000
DTSTAMP:20260422T060918
CREATED:20231219T094335Z
LAST-MODIFIED:20231222T105841Z
UID:44959-1702972800-1704646800@www.coopernuoto.it
SUMMARY:NATALE 2023/2024
DESCRIPTION:ORARI ALLENAMENTI NATALIZI \n  \nBuon Natale e Buone Feste a tutti!
URL:https://www.coopernuoto.it/evento-sportivo/natale-2023-2024/
CATEGORIES:Assolute propaganda,Esordienti A agonismo,Esordienti A propaganda,Esordienti B,Ragazze agonismo,Ragazze propaganda
END:VEVENT
BEGIN:VEVENT
DTSTART;VALUE=DATE:20231217
DTEND;VALUE=DATE:20240901
DTSTAMP:20260422T060918
CREATED:20231212T093755Z
LAST-MODIFIED:20240118T100907Z
UID:44830-1702771200-1725148799@www.coopernuoto.it
SUMMARY:1° Campionato Regionale FIN - agonismo
DESCRIPTION:MANIFESTAZIONE:    1° CAMPIONATO REGIONALE FIN – agonismo \n  \nDATA:    Domenica 17 Dicembre \n  \nLOCALITA’:  FORLI’ – piscina comunale\, Via Filippo Turati 17/19 \n  \nCATEGORIE:  RAGAZZE \n  \nPROGRAMMA: \nRiscaldamento: ore 8:30 \nInizio gara obbligatori: ore 9:00 \n  \n  \nALLENATRICI: Dallolio\, Marciano\, Crisci
URL:https://www.coopernuoto.it/evento-sportivo/1-campionato-regionale-fin/
LOCATION:Piscina Comunale di Forlì\, Via Filippo Turati 17/19\, Forlì\, 47121\, Italia
CATEGORIES:Nuoto Artistico,Ragazze agonismo
ORGANIZER;CN="Coopernuoto Agonistica":MAILTO:agonistica@coopernuoto.it
END:VEVENT
BEGIN:VEVENT
DTSTART;TZID=Europe/Helsinki:20231202T140000
DTEND;TZID=Europe/Helsinki:20240831T170000
DTSTAMP:20260422T060918
CREATED:20231219T100408Z
LAST-MODIFIED:20231219T100408Z
UID:44973-1701525600-1725123600@www.coopernuoto.it
SUMMARY:Stelline - RISULTATI
DESCRIPTION:Gara Stelline\, Sabato 2/12 – CARPI : \n\nRisultati
URL:https://www.coopernuoto.it/evento-sportivo/stelline-risultati/
LOCATION:Piscina Coopernuoto Carpi\, P.le delle piscine 4\, Carpi\, 41012\, Italia
CATEGORIES:Esordienti A agonismo,Esordienti B,Esordienti C,Nuoto Artistico,Ragazze agonismo
ORGANIZER;CN="Coopernuoto Agonistica":MAILTO:agonistica@coopernuoto.it
END:VEVENT
BEGIN:VEVENT
DTSTART;TZID=Europe/Helsinki:20231123T080000
DTEND;TZID=Europe/Helsinki:20240630T170000
DTSTAMP:20260422T060918
CREATED:20231123T125658Z
LAST-MODIFIED:20231123T125936Z
UID:44602-1700726400-1719766800@www.coopernuoto.it
SUMMARY:Calendario Agonistico completo 23-24
DESCRIPTION:
URL:https://www.coopernuoto.it/evento-sportivo/calendario-agonistico-completo-23-24/
CATEGORIES:Esordienti A agonismo,Ragazze agonismo
ATTACH;FMTTYPE=application/pdf:https://www.coopernuoto.it/cms/wp-content/uploads/2023/11/calendario-ago22-23-COMPL.pdf
END:VEVENT
BEGIN:VEVENT
DTSTART;TZID=Europe/Helsinki:20231123T080000
DTEND;TZID=Europe/Helsinki:20231123T170000
DTSTAMP:20260422T060918
CREATED:20231123T131328Z
LAST-MODIFIED:20231123T131328Z
UID:44605-1700726400-1700758800@www.coopernuoto.it
SUMMARY:
DESCRIPTION:calendario completo: \nhttps://www.coopernuoto.it/cms/wp-content/uploads/2023/11/PROGRAMMA-GARE-PRO.-2023-24.pdf
URL:https://www.coopernuoto.it/evento-sportivo/44605/
CATEGORIES:Assolute propaganda,Esordienti A propaganda,Esordienti B,Esordienti C,Ragazze propaganda
ATTACH;FMTTYPE=application/pdf:https://www.coopernuoto.it/cms/wp-content/uploads/2023/11/PROGRAMMA-GARE-PRO.-2023-24.pdf
END:VEVENT
END:VCALENDAR