BEGIN:VCALENDAR
VERSION:2.0
PRODID:-//Coopernuoto - ECPv6.2.3.2//NONSGML v1.0//EN
CALSCALE:GREGORIAN
METHOD:PUBLISH
X-ORIGINAL-URL:https://www.coopernuoto.it
X-WR-CALDESC:Eventi per Coopernuoto
REFRESH-INTERVAL;VALUE=DURATION:PT1H
X-Robots-Tag:noindex
X-PUBLISHED-TTL:PT1H
BEGIN:VTIMEZONE
TZID:Europe/Helsinki
BEGIN:DAYLIGHT
TZOFFSETFROM:+0200
TZOFFSETTO:+0300
TZNAME:EEST
DTSTART:20260329T010000
END:DAYLIGHT
BEGIN:STANDARD
TZOFFSETFROM:+0300
TZOFFSETTO:+0200
TZNAME:EET
DTSTART:20261025T010000
END:STANDARD
END:VTIMEZONE
BEGIN:VEVENT
DTSTART;TZID=Europe/Helsinki:20260110T080000
DTEND;TZID=Europe/Helsinki:20260831T170000
DTSTAMP:20260422T011831
CREATED:20251127T135427Z
LAST-MODIFIED:20251127T135623Z
UID:54661-1768032000-1788195600@www.coopernuoto.it
SUMMARY:STELLINE - 10/01/2026
DESCRIPTION:STELLINE – 10/01/2026 \n  \nDATA: 10 Gennaio 2026 \nLUOGO: Carpi \nCATEGORIA: Tutte \n  \n 
URL:https://www.coopernuoto.it/evento-sportivo/stelline-10-01-2026/
CATEGORIES:Esordienti A agonismo,Esordienti B,Esordienti C,Ragazze agonismo
END:VEVENT
BEGIN:VEVENT
DTSTART;TZID=Europe/Helsinki:20260208T080000
DTEND;TZID=Europe/Helsinki:20260831T170000
DTSTAMP:20260422T011831
CREATED:20251127T150540Z
LAST-MODIFIED:20251127T150540Z
UID:54677-1770537600-1788195600@www.coopernuoto.it
SUMMARY:1° TROFEO FIN - 8/02/2026
DESCRIPTION:1° TROFEO FIN – 8/02/2026 \n  \nDATA: 8 Febbraio 2026 \nLUOGO: Forlì \nCATEGORIA: – Esordienti C\, Obbligatori \n– Esordienti B\, Obbligatori \n– Ragazzi\, Solo – Duo – Squadra \n– Junior\, Solo – Duo – Squadra \n– Assolute\, Solo – Duo – Squadra \n  \nPROGRAMMA ORARI: \nMattino: 08:30 – 13:00 \nPomeriggio: 14:00 – 18:00
URL:https://www.coopernuoto.it/evento-sportivo/1-trofeo-fin-8-02-2026/
CATEGORIES:Assolute propaganda,Esordienti B,Esordienti C
END:VEVENT
BEGIN:VEVENT
DTSTART;TZID=Europe/Helsinki:20260301T080000
DTEND;TZID=Europe/Helsinki:20260831T170000
DTSTAMP:20260422T011831
CREATED:20251127T150911Z
LAST-MODIFIED:20251127T150911Z
UID:54679-1772352000-1788195600@www.coopernuoto.it
SUMMARY:2° TROFEO FIN - 1/03/2026
DESCRIPTION:2° TROFEO FIN – 1/03/2026 \n  \nDATA: 1 Marzo 2026 \nLUOGO: Forlì \nCATEGORIA: – Esordienti C\, Obbligatori – Solo – Duo – Squadra \n– Esordienti B\, Obbligatori – Solo – Duo – Squadra \n– Esordienti A\, Obbligatori – Solo – Duo – Squadra \n  \nPROGRAMMA ORARI:  \nMattina: 08:30 – 13:00 \nPomeriggio: 14:00 – 18:30
URL:https://www.coopernuoto.it/evento-sportivo/2-trofeo-fin-1-03-2026/
CATEGORIES:Esordienti A propaganda,Esordienti B,Esordienti C
END:VEVENT
BEGIN:VEVENT
DTSTART;TZID=Europe/Helsinki:20260328T080000
DTEND;TZID=Europe/Helsinki:20260831T170000
DTSTAMP:20260422T011831
CREATED:20260312T115321Z
LAST-MODIFIED:20260312T115321Z
UID:56066-1774684800-1788195600@www.coopernuoto.it
SUMMARY:Trofeo UISP - 28/03/2026
DESCRIPTION:Trofeo UISP – 28/03/2026 \n  \nData: 28 Marzo 2026 \nLuogo: da definirsi \nCategoria: Esordienti C\, Esordienti B\, Esordienti A propa
URL:https://www.coopernuoto.it/evento-sportivo/trofeo-uisp-28-03-2026/
CATEGORIES:Esordienti A propaganda,Esordienti B,Esordienti C
END:VEVENT
BEGIN:VEVENT
DTSTART;TZID=Europe/Helsinki:20260419T080000
DTEND;TZID=Europe/Helsinki:20260831T170000
DTSTAMP:20260422T011831
CREATED:20251127T151723Z
LAST-MODIFIED:20251127T151723Z
UID:54683-1776585600-1788195600@www.coopernuoto.it
SUMMARY:4° TROFEO FIN - 19/04/2026
DESCRIPTION:4° TROFEO FIN – 19/04/2026 \n  \nDATA: 19 Aprile 2026 \nLUOGO: Mirandola \nCATEGORIA: – Esordienti C\, Solo – Duo – Trio – Squadra \n– Esordienti B\, Solo – Duo – Trio – Squadra – Combo \n– Esordienti B\, Solo – Duo – Trio – Squadra – Combo \n  \nPROGRAMMA ORARI:  \nMattina: 08:30 – 13:00 \nPomeriggio: 14:30 – 18:30
URL:https://www.coopernuoto.it/evento-sportivo/4-trofeo-fin-19-04-2026/
CATEGORIES:Esordienti A propaganda,Esordienti B,Esordienti C
END:VEVENT
BEGIN:VEVENT
DTSTART;TZID=Europe/Helsinki:20260423T080000
DTEND;TZID=Europe/Helsinki:20260831T170000
DTSTAMP:20260422T011831
CREATED:20260312T115630Z
LAST-MODIFIED:20260312T115630Z
UID:56068-1776931200-1788195600@www.coopernuoto.it
SUMMARY:Trofeo Spring - 23-26/04/2026
DESCRIPTION:Trofeo Spring – 23-26/04/2026 \n  \nData: dal 23 al 26 Aprile 2026 \nLuogo: San Marino \nCategoria: Esordienti C\, Esordienti B\, Esordienti A propa\, Ragazze Propa\, Assolute propa \n  \ntrasferta di squadra organizzata per questa manifestazione.
URL:https://www.coopernuoto.it/evento-sportivo/trofeo-spring-23-26-04-2026/
CATEGORIES:Assolute propaganda,Esordienti A propaganda,Esordienti B,Esordienti C,Ragazze propaganda
END:VEVENT
BEGIN:VEVENT
DTSTART;TZID=Europe/Helsinki:20260517T080000
DTEND;TZID=Europe/Helsinki:20260831T170000
DTSTAMP:20260422T011831
CREATED:20251127T152351Z
LAST-MODIFIED:20251127T152351Z
UID:54685-1779004800-1788195600@www.coopernuoto.it
SUMMARY:5° TROFEO FIN - 17/05/2026
DESCRIPTION:5° TROFEO FIN – 17/05/2026 \n  \nDATA: 17 Maggio 2026 \nLUOGO: da definirsi \nCATEGORIA: – Esordienti C\, Duo – Squadra – Combo \n– Esordienti B\, Duo – Squadra – Combo \n– Esordienti A\, Duo – Squadra – Combo \n– Ragazze\, Duo – Squadra – Combo \n– Junior\, Duo – Squadra – Combo \n– Assolute\, Duo – Squadra – Combo \n  \nPROGRAMMA ORARI: \nMattino: 08:30 – 13:00 \nPomeriggio: 14:30 – 18:00
URL:https://www.coopernuoto.it/evento-sportivo/5-trofeo-fin-17-05-2026/
CATEGORIES:Assolute propaganda,Esordienti A propaganda,Esordienti B,Esordienti C,Ragazze propaganda
END:VEVENT
END:VCALENDAR