BEGIN:VCALENDAR
VERSION:2.0
PRODID:-//Coopernuoto - ECPv6.2.3.2//NONSGML v1.0//EN
CALSCALE:GREGORIAN
METHOD:PUBLISH
X-ORIGINAL-URL:https://www.coopernuoto.it
X-WR-CALDESC:Eventi per Coopernuoto
REFRESH-INTERVAL;VALUE=DURATION:PT1H
X-Robots-Tag:noindex
X-PUBLISHED-TTL:PT1H
BEGIN:VTIMEZONE
TZID:Europe/Helsinki
BEGIN:DAYLIGHT
TZOFFSETFROM:+0200
TZOFFSETTO:+0300
TZNAME:EEST
DTSTART:20250330T010000
END:DAYLIGHT
BEGIN:STANDARD
TZOFFSETFROM:+0300
TZOFFSETTO:+0200
TZNAME:EET
DTSTART:20251026T010000
END:STANDARD
BEGIN:DAYLIGHT
TZOFFSETFROM:+0200
TZOFFSETTO:+0300
TZNAME:EEST
DTSTART:20260329T010000
END:DAYLIGHT
BEGIN:STANDARD
TZOFFSETFROM:+0300
TZOFFSETTO:+0200
TZNAME:EET
DTSTART:20261025T010000
END:STANDARD
END:VTIMEZONE
BEGIN:VEVENT
DTSTART;TZID=Europe/Helsinki:20251214T080000
DTEND;TZID=Europe/Helsinki:20260831T170000
DTSTAMP:20260422T043225
CREATED:20251127T131152Z
LAST-MODIFIED:20251127T131152Z
UID:54647-1765699200-1788195600@www.coopernuoto.it
SUMMARY:2^ Prova Campionato Regionale - 14/12/25
DESCRIPTION:2^ Prova Campionato Regionale – 14/12/25 \n  \nDATA: 14 Dicembre 2025 \nLUOGO: Forlì \nCATEGORIA: – Ragazze\, obbligatori \n– Juniores\, obbligatori + liberi \n– Assolute\, Obbligatori + liberi \n  \nPROGRAMMA ORARI: \nMattina: 8:30 – 13:00 \nPomeriggio: 14:00 – 18:00
URL:https://www.coopernuoto.it/evento-sportivo/2-prova-campionato-regionale-14-12-25/
CATEGORIES:Ragazze agonismo
END:VEVENT
BEGIN:VEVENT
DTSTART;TZID=Europe/Helsinki:20260110T080000
DTEND;TZID=Europe/Helsinki:20260831T170000
DTSTAMP:20260422T043225
CREATED:20251127T135427Z
LAST-MODIFIED:20251127T135623Z
UID:54661-1768032000-1788195600@www.coopernuoto.it
SUMMARY:STELLINE - 10/01/2026
DESCRIPTION:STELLINE – 10/01/2026 \n  \nDATA: 10 Gennaio 2026 \nLUOGO: Carpi \nCATEGORIA: Tutte \n  \n 
URL:https://www.coopernuoto.it/evento-sportivo/stelline-10-01-2026/
CATEGORIES:Esordienti A agonismo,Esordienti B,Esordienti C,Ragazze agonismo
END:VEVENT
BEGIN:VEVENT
DTSTART;TZID=Europe/Helsinki:20260222T080000
DTEND;TZID=Europe/Helsinki:20260831T170000
DTSTAMP:20260422T043225
CREATED:20251127T132656Z
LAST-MODIFIED:20251127T132656Z
UID:54651-1771747200-1788195600@www.coopernuoto.it
SUMMARY:4^ Prova Campionato Regionale - 22/02/26
DESCRIPTION:4^ Prova Campionato Regionale – 22/02/26 \n  \nDATA: 22 Febbraio 2026 \nLUOGO: Ravenna \nCATEGORIA: – Esordienti A\, Obbligatori \n– Ragazze\, Obbligatori + soli e duo \n– Juniores\, Obbligatori + libero \n– Assolute\, Obbligatori + libero \n  \nPROGRAMMA ORARI: 8:30 – 16:00
URL:https://www.coopernuoto.it/evento-sportivo/4-prova-campionato-regionale-22-02-26/
CATEGORIES:Esordienti A agonismo,Ragazze agonismo
END:VEVENT
BEGIN:VEVENT
DTSTART;TZID=Europe/Helsinki:20260305T080000
DTEND;TZID=Europe/Helsinki:20260831T170000
DTSTAMP:20260422T043225
CREATED:20251127T142701Z
LAST-MODIFIED:20260312T112336Z
UID:54665-1772697600-1788195600@www.coopernuoto.it
SUMMARY:ITALIANI INVERNALI JUNIORES -  5-8/03/2026 - RISULTATI
DESCRIPTION:ITALIANI INVERNALI JUNIORES – 5-8/03/2026 \n  \nDATA: dal 5 all’8 Marzo 2026 \nLUOGO: Ostia \nCATEGORIA: Juniores \n  \nRISULTATI: https://fin2026.microplustiming.com/AS_2026_03_05-08_Ostia_Roma_web.php?s=TG9hZENhbGVuZGFyaW8oJzAnKTs=&cat=JUX&page=013&spec=003&bat=001&td=CGR1&hg=&descIT=T2JibGlnYXRvcmkgLSBPYmJsaWdhdG9yaSAgIEp1bmlvcmVz&descEN=RmlndXJlcyAtIE9iYmxpZ2F0b3JpICAgSnVuaW9yZXM=&descFR=IC0gT2JibGlnYXRvcmkgICBKdW5pb3Jlcw==&curCatSel_M_F=
URL:https://www.coopernuoto.it/evento-sportivo/italiani-invernali-juniores-5-8-03-2026/
CATEGORIES:Ragazze agonismo
END:VEVENT
BEGIN:VEVENT
DTSTART;TZID=Europe/Helsinki:20260329T080000
DTEND;TZID=Europe/Helsinki:20260831T170000
DTSTAMP:20260422T043225
CREATED:20251127T133038Z
LAST-MODIFIED:20251127T133038Z
UID:54653-1774771200-1788195600@www.coopernuoto.it
SUMMARY:5^ Prova Campionato Regionale - 29/03/26
DESCRIPTION:5^ Prova Campionato Regionale – 29/03/26 \n  \nDATA: 29 Marzo 2026 \nLUOGO: Ravenna \nCATEGORIA: – Esordienti A\, Obbligatori + libero \n– Ragazze\, Obbligatori\, solo e duo \n  \nPROGRAMMA ORARI: 8:30 – 15:00 \n 
URL:https://www.coopernuoto.it/evento-sportivo/5-prova-campionato-regionale-29-03-26/
CATEGORIES:Esordienti A agonismo,Ragazze agonismo
END:VEVENT
BEGIN:VEVENT
DTSTART;TZID=Europe/Helsinki:20260409T080000
DTEND;TZID=Europe/Helsinki:20260831T170000
DTSTAMP:20260422T043225
CREATED:20251127T142927Z
LAST-MODIFIED:20251127T142927Z
UID:54667-1775721600-1788195600@www.coopernuoto.it
SUMMARY:ITALIANI INVERNALI RAGAZZE -  9-11/04/2026
DESCRIPTION:ITALIANI INVERNALI RAGAZZE – 9-11/04/2026 \n  \nDATA: dal 9 all’11 Aprile 2026 \nLUOGO: Ostia \nCATEGORIA: Ragazze
URL:https://www.coopernuoto.it/evento-sportivo/italiani-invernali-ragazze-9-11-04-2026/
CATEGORIES:Ragazze agonismo
END:VEVENT
BEGIN:VEVENT
DTSTART;TZID=Europe/Helsinki:20260426T080000
DTEND;TZID=Europe/Helsinki:20260831T170000
DTSTAMP:20260422T043225
CREATED:20251127T133411Z
LAST-MODIFIED:20251127T133411Z
UID:54655-1777190400-1788195600@www.coopernuoto.it
SUMMARY:6^ Prova Campionato Regionale - 26/04/26
DESCRIPTION:6^ Prova Campionato Regionale – 26/04/26 \n  \nDATA: 26 Aprile 2026 \nLUOGO: Forlì \nCATEGORIA: – Ragazze\, eventuali recupero obbligatori \n– Juniores\, Obbligatori + liberi \n– Assolute\, Liberi \n  \nPROGRAMMA ORARI: \nMattina: 08:30 – 13:00 \nPomeriggio: 14:00 – 16:00
URL:https://www.coopernuoto.it/evento-sportivo/6-prova-campionato-regionale-26-04-26/
CATEGORIES:Ragazze agonismo
END:VEVENT
END:VCALENDAR