BEGIN:VCALENDAR
VERSION:2.0
PRODID:-//Coopernuoto - ECPv6.2.3.2//NONSGML v1.0//EN
CALSCALE:GREGORIAN
METHOD:PUBLISH
X-ORIGINAL-URL:https://www.coopernuoto.it
X-WR-CALDESC:Eventi per Coopernuoto
REFRESH-INTERVAL;VALUE=DURATION:PT1H
X-Robots-Tag:noindex
X-PUBLISHED-TTL:PT1H
BEGIN:VTIMEZONE
TZID:Europe/Helsinki
BEGIN:DAYLIGHT
TZOFFSETFROM:+0200
TZOFFSETTO:+0300
TZNAME:EEST
DTSTART:20260329T010000
END:DAYLIGHT
BEGIN:STANDARD
TZOFFSETFROM:+0300
TZOFFSETTO:+0200
TZNAME:EET
DTSTART:20261025T010000
END:STANDARD
END:VTIMEZONE
BEGIN:VEVENT
DTSTART;TZID=Europe/Helsinki:20260307T080000
DTEND;TZID=Europe/Helsinki:20260831T170000
DTSTAMP:20260422T055925
CREATED:20260312T123950Z
LAST-MODIFIED:20260312T124008Z
UID:56074-1772870400-1788195600@www.coopernuoto.it
SUMMARY:Interregionale Nord FIN - 7-8 Marzo 2026
DESCRIPTION:Interregionale Nord FIN – 7-8 Marzo 2026 \n  \nData: 7 e 8 Marzo 2026 \nLuogo: Verona \nCategoria: Ragazze propa
URL:https://www.coopernuoto.it/evento-sportivo/56074/
CATEGORIES:Ragazze propaganda
END:VEVENT
END:VCALENDAR