BEGIN:VCALENDAR
VERSION:2.0
PRODID:-//Coopernuoto - ECPv6.2.3.2//NONSGML v1.0//EN
CALSCALE:GREGORIAN
METHOD:PUBLISH
X-ORIGINAL-URL:https://www.coopernuoto.it
X-WR-CALDESC:Eventi per Coopernuoto
REFRESH-INTERVAL;VALUE=DURATION:PT1H
X-Robots-Tag:noindex
X-PUBLISHED-TTL:PT1H
BEGIN:VTIMEZONE
TZID:Europe/Helsinki
BEGIN:DAYLIGHT
TZOFFSETFROM:+0200
TZOFFSETTO:+0300
TZNAME:EEST
DTSTART:20250330T010000
END:DAYLIGHT
BEGIN:STANDARD
TZOFFSETFROM:+0300
TZOFFSETTO:+0200
TZNAME:EET
DTSTART:20251026T010000
END:STANDARD
BEGIN:DAYLIGHT
TZOFFSETFROM:+0200
TZOFFSETTO:+0300
TZNAME:EEST
DTSTART:20260329T010000
END:DAYLIGHT
BEGIN:STANDARD
TZOFFSETFROM:+0300
TZOFFSETTO:+0200
TZNAME:EET
DTSTART:20261025T010000
END:STANDARD
END:VTIMEZONE
BEGIN:VEVENT
DTSTART;TZID=Europe/Helsinki:20251101T080000
DTEND;TZID=Europe/Helsinki:20260903T170000
DTSTAMP:20260422T025743
CREATED:20251029T135346Z
LAST-MODIFIED:20251105T140543Z
UID:54152-1761984000-1788454800@www.coopernuoto.it
SUMMARY:V Trofeo Coopernuoto  01- 02/11/25 RISULTATI
DESCRIPTION:V Trofeo Coopernuoto 01- 02/11/25 \n  \nData: 01 e 02 Novembre 2025 \nRisultati: https://www.goandswim.com/follow/PublicEvent.aspx?Event=bc8cf56024584a389f993542efe46bce
URL:https://www.coopernuoto.it/evento-sportivo/v-trofeo-coopernuoto-01-02-11-25/
CATEGORIES:Assoluti alto livello
END:VEVENT
BEGIN:VEVENT
DTSTART;TZID=Europe/Helsinki:20251123T080000
DTEND;TZID=Europe/Helsinki:20260831T170000
DTSTAMP:20260422T025743
CREATED:20251029T141931Z
LAST-MODIFIED:20251126T133354Z
UID:54158-1763884800-1788195600@www.coopernuoto.it
SUMMARY:XIV Trofeo Città di Reggio Emilia  23/11/2025 - RISULTATI
DESCRIPTION:XIV Trofeo Città di Reggio Emilia \n  \nData: 23 Novembre 2025 \nLuogo: Piscina Melato (RE) \nCategoria: Alto Livello \n  \nRISULTATI: https://nuoto.ficr.it/#/NUO/programma/XIII%20TROFEO%20CITTA%E2%80%99%20DI%20REGGIO%20EMILIA/2025/83/5210 
URL:https://www.coopernuoto.it/evento-sportivo/xiv-trofeo-citta-di-reggio-emilia-23-11-2025/
CATEGORIES:Assoluti alto livello
END:VEVENT
BEGIN:VEVENT
DTSTART;TZID=Europe/Helsinki:20251206T080000
DTEND;TZID=Europe/Helsinki:20260831T170000
DTSTAMP:20260422T025743
CREATED:20251029T144304Z
LAST-MODIFIED:20251209T104814Z
UID:54166-1765008000-1788195600@www.coopernuoto.it
SUMMARY:CRCVC 1° TURNO - 1° Parte   06/12/25 - Concentramento D - RISULTATI
DESCRIPTION:MANIFESTAZIONE: \n  \nCRCVC – 1° giornata – CONC. D \n  \nDATA:    Sabato 6 Dicembre 2025 \n  \n  \nLOCALITA’: Reggio Emilia – Piscina Melato \n  \n  \nCATEGORIE: ALTO LIVELLO \n  \nRISULTATI: https://www.goandswim.com/follow/PublicEvent.aspx?Event=395ea2af781647d584a2333e0ff509d5 \n 
URL:https://www.coopernuoto.it/evento-sportivo/torneo-inverno-1turno-2-parte-06-12-25/
CATEGORIES:Assoluti alto livello
ATTACH;FMTTYPE=application/pdf:https://www.coopernuoto.it/cms/wp-content/uploads/2025/10/convocazione-1--giornata-concentramento-D.pdf
END:VEVENT
BEGIN:VEVENT
DTSTART;TZID=Europe/Helsinki:20251206T080000
DTEND;TZID=Europe/Helsinki:20261001T170000
DTSTAMP:20260422T025743
CREATED:20251105T164526Z
LAST-MODIFIED:20251105T165842Z
UID:54297-1765008000-1790874000@www.coopernuoto.it
SUMMARY:CRCVC 1°Prova - 1° Parte 06/12/2025 - Concentramento D
DESCRIPTION:CRCVC 1°Prova – 1° Parte 06/12/2025 – Concentramento D \n  \nData: 06 Dicembre 2025 \nLuogo: Piscina Melato (RE) \nCategoria: Alto Livello
URL:https://www.coopernuoto.it/evento-sportivo/crcvc-1prova-1-parte-06-12-2025-concentramento-d/
CATEGORIES:Assoluti alto livello
END:VEVENT
BEGIN:VEVENT
DTSTART;TZID=Europe/Helsinki:20251206T080000
DTEND;TZID=Europe/Helsinki:20260831T170000
DTSTAMP:20260422T025743
CREATED:20251105T165106Z
LAST-MODIFIED:20251209T105532Z
UID:54299-1765008000-1788195600@www.coopernuoto.it
SUMMARY:CRCVC 1° PROVA - 1° PARTE 06/12/25 - Concentramento C (gruppo Ravenna-Cesena) - RISULTATI
DESCRIPTION:MANIFESTAZIONE: \n  \nCRCVC – 1° giornata – CONC. C \n  \nDATA:   Sabato 6 Dicembre 2025 \n  \nLOCALITA’: Riccione – Stadio del nuoto \n  \nCATEGORIE: ALTO LIVELLO \n  \nRISULTATI: https://www.goandswim.com/follow/PublicEvent.aspx?Event=f64a13ff85c9456c854feb229f051444
URL:https://www.coopernuoto.it/evento-sportivo/crcvc-1-prova-1-parte-06-12-25-concentramento-c-gruppo-ravenna-cesena/
CATEGORIES:Assoluti alto livello
ATTACH;FMTTYPE=application/pdf:https://www.coopernuoto.it/cms/wp-content/uploads/2025/11/convocazione-1--giornata-concentramento-C.pdf
END:VEVENT
BEGIN:VEVENT
DTSTART;TZID=Europe/Helsinki:20251207T080000
DTEND;TZID=Europe/Helsinki:20260831T170000
DTSTAMP:20260422T025743
CREATED:20251029T144525Z
LAST-MODIFIED:20251209T105225Z
UID:54168-1765094400-1788195600@www.coopernuoto.it
SUMMARY:CRCVC 1°Prova - 2° Parte  07/12/2025 - concentramento D - RISULTATI
DESCRIPTION:MANIFESTAZIONE: \n  \nCRCVC – 2° giornata – CONC. D \n  \nDATA:   Domenica 7 Dicembre 2025 \n  \n  \nLOCALITA’: Parma – Piscina Moletolo\, via L. Anedda\, 23\, 43122 \n  \n  \nCATEGORIE: ALTO LIVELLO \n  \nRISULTATI: https://www.goandswim.com/follow/PublicEvent.aspx?Event=395ea2af781647d584a2333e0ff509d5
URL:https://www.coopernuoto.it/evento-sportivo/crcvc-1prova-2-parte-07-12-2025/
CATEGORIES:Assoluti alto livello
ATTACH;FMTTYPE=application/pdf:https://www.coopernuoto.it/cms/wp-content/uploads/2025/10/convocazione-2--giornata-concentramento-D.pdf
END:VEVENT
BEGIN:VEVENT
DTSTART;TZID=Europe/Helsinki:20251207T080000
DTEND;TZID=Europe/Helsinki:20260831T170000
DTSTAMP:20260422T025743
CREATED:20251105T165308Z
LAST-MODIFIED:20251209T105645Z
UID:54302-1765094400-1788195600@www.coopernuoto.it
SUMMARY:CRCVC 1° PROVA - 2° PARTE 07/12/25 - Concentramento C (gruppo Ravenna-Cesena) - RISULTATI
DESCRIPTION:MANIFESTAZIONE: \nCRCVC – 2° giornata – CONC. C \n  \nDATA:   Domenica 7 Dicembre 2025 \n  \nLOCALITA’: Riccione – Stadio del nuoto \n  \nCATEGORIE: ALTO LIVELLO \nRISULTATI: https://www.goandswim.com/follow/PublicEvent.aspx?Event=f64a13ff85c9456c854feb229f051444
URL:https://www.coopernuoto.it/evento-sportivo/crcvc-1-prova-2-parte-07-12-25-concentramento-c-gruppo-ravenna-cesena/
CATEGORIES:Assoluti alto livello
ATTACH;FMTTYPE=application/pdf:https://www.coopernuoto.it/cms/wp-content/uploads/2025/11/convocazione-2--giornata-concentramento-C.pdf
END:VEVENT
BEGIN:VEVENT
DTSTART;TZID=Europe/Helsinki:20251208T080000
DTEND;TZID=Europe/Helsinki:20260831T170000
DTSTAMP:20260422T025743
CREATED:20251029T145553Z
LAST-MODIFIED:20251209T105321Z
UID:54170-1765180800-1788195600@www.coopernuoto.it
SUMMARY:CRCVC 1°Prova - 3° Parte  08/12/25 - concentramento D - RISULTATI
DESCRIPTION:MANIFESTAZIONE: \n  \nCRCVC – 3° giornata – CONC. D \n  \nDATA:   Lunedì 8 Dicembre 2025 \n  \n  \nLOCALITA’: Carpi – Piscina O. Campedelli\, Piazzale delle Piscine\, 4\, 41012 \n  \n  \nCATEGORIE: ALTO LIVELLO \n  \n  \nRISULTATI: https://www.goandswim.com/follow/PublicEvent.aspx?Event=395ea2af781647d584a2333e0ff509d5
URL:https://www.coopernuoto.it/evento-sportivo/crcvc-1prova-3-parte-08-12-25/
CATEGORIES:Assoluti alto livello
ATTACH;FMTTYPE=application/pdf:https://www.coopernuoto.it/cms/wp-content/uploads/2025/10/convocazione-3--giornata.pdf
END:VEVENT
BEGIN:VEVENT
DTSTART;TZID=Europe/Helsinki:20251208T080000
DTEND;TZID=Europe/Helsinki:20260831T170000
DTSTAMP:20260422T025743
CREATED:20251105T165446Z
LAST-MODIFIED:20251209T105751Z
UID:54304-1765180800-1788195600@www.coopernuoto.it
SUMMARY:CRCVC 1° PROVA - 3° PARTE 08/12/25 - Concentramento C (gruppo Ravenna-Cesena) - RISULTATI
DESCRIPTION:MANIFESTAZIONE: \n  \nCRCVC – 3° giornata – CONC. C \n  \nDATA:   Lunedì 8 Dicembre 2025 \n  \nLOCALITA’: Riccione – Stadio del nuoto \n  \nCATEGORIE: ALTO LIVELLO \n  \nRISULTATI: https://www.goandswim.com/follow/PublicEvent.aspx?Event=f64a13ff85c9456c854feb229f051444
URL:https://www.coopernuoto.it/evento-sportivo/crcvc-1-prova-3-parte-08-12-25-concentramento-c-gruppo-ravenna-cesena/
CATEGORIES:Assoluti alto livello
ATTACH;FMTTYPE=application/pdf:https://www.coopernuoto.it/cms/wp-content/uploads/2025/11/convocazione-3--giornata-concentramento-C.pdf
END:VEVENT
BEGIN:VEVENT
DTSTART;TZID=Europe/Helsinki:20251211T080000
DTEND;TZID=Europe/Helsinki:20260831T170000
DTSTAMP:20260422T025743
CREATED:20251029T145926Z
LAST-MODIFIED:20251029T145926Z
UID:54174-1765440000-1788195600@www.coopernuoto.it
SUMMARY:Campionato Italiano Assoluti  11-13/12/25
DESCRIPTION:Campionato Italiano Assoluti \n  \nData: 11-13 Dicembre 2026 \nLuogo: Riccione  \nCategoria: Selezione Alto Livello
URL:https://www.coopernuoto.it/evento-sportivo/campionato-italiano-assoluti-11-13-12-25/
CATEGORIES:Assoluti alto livello
END:VEVENT
BEGIN:VEVENT
DTSTART;TZID=Europe/Helsinki:20251221T080000
DTEND;TZID=Europe/Helsinki:20260831T170000
DTSTAMP:20260422T025743
CREATED:20251029T150311Z
LAST-MODIFIED:20260219T112752Z
UID:54178-1766304000-1788195600@www.coopernuoto.it
SUMMARY:Coppa Brema  21/12/2025 - RISULTATI
DESCRIPTION:Coppa Brema \n  \nData: 21 Dicembre 2025 \nLuogo: Riccione \nCategoria: Selezione Alto Livello \n  \nRISULTATI: https://nuoto.ficr.it/#/NUO/programma/COPPA%20CADUTI%20DI%20BREMA%202025%20-%202026%20EMILIA%20ROMAGNA/2025/83/5245
URL:https://www.coopernuoto.it/evento-sportivo/coppa-brema-21-12-2025/
CATEGORIES:Assoluti alto livello
END:VEVENT
BEGIN:VEVENT
DTSTART;TZID=Europe/Helsinki:20260124T080000
DTEND;TZID=Europe/Helsinki:20260831T170000
DTSTAMP:20260422T025743
CREATED:20251029T153916Z
LAST-MODIFIED:20260127T114106Z
UID:54184-1769241600-1788195600@www.coopernuoto.it
SUMMARY:Trofeo Aquatica Ravenna  24-25/01/26 - RISULTATI
DESCRIPTION:Trofeo Aquatica Ravenna \n  \nData: 24-25 Gennaio 2026 \nLuogo: Ravenna \nCategoria: Alto Livello \n  \nRISULTATI: https://risultati.goandswim.it/evento/79fc62b6c150459585b553233ec0b81c \n 
URL:https://www.coopernuoto.it/evento-sportivo/trofeo-aquatica-ravenna-24-25-01-26/
CATEGORIES:Assoluti alto livello
END:VEVENT
BEGIN:VEVENT
DTSTART;TZID=Europe/Helsinki:20260208T080000
DTEND;TZID=Europe/Helsinki:20260831T170000
DTSTAMP:20260422T025743
CREATED:20260203T125810Z
LAST-MODIFIED:20260217T143941Z
UID:55414-1770537600-1788195600@www.coopernuoto.it
SUMMARY:2^ PROVA CRCVC - 1^GIORNATA 8/02/26 - RISULTATI
DESCRIPTION:MANIFESTAZIONE: \n2^ prova CRCVC – 1° giornata \nDATA:    Domenica 08 Febbraio 2026 \n  \nLOCALITA’: Parma –via Luigi Anedda\, 23\, 43122 (PR) \n  \nCATEGORIE: ALTO LIVELLO \nRISULTATI: https://risultati.goandswim.it/evento/95f28391caee411c83be3dc0895b1767 \n 
URL:https://www.coopernuoto.it/evento-sportivo/2-prova-crcvc-1giornata-8-02-26/
CATEGORIES:Assoluti alto livello
ATTACH;FMTTYPE=application/pdf:https://www.coopernuoto.it/cms/wp-content/uploads/2026/02/convocazione-1--giornata.pdf
END:VEVENT
BEGIN:VEVENT
DTSTART;TZID=Europe/Helsinki:20260214T080000
DTEND;TZID=Europe/Helsinki:20260831T170000
DTSTAMP:20260422T025743
CREATED:20251029T154357Z
LAST-MODIFIED:20260217T144045Z
UID:54188-1771056000-1788195600@www.coopernuoto.it
SUMMARY:CRCVC 2°Prova - 2°Parte  14/02/2026 - RISULTATI
DESCRIPTION:MANIFESTAZIONE: \n2^ prova CRCVC – 2° giornata \n  \nDATA:   Domenica 14 Febbraio 2026 \n  \nLOCALITA’: Reggio Emilia –via Maria Melato\, 42122 (RE)\, Piscina Ferretti-Ferrari \n  \nCATEGORIE: ALTO LIVELLO \n  \nRISULTATI: https://risultati.goandswim.it/evento/95f28391caee411c83be3dc0895b1767 \n 
URL:https://www.coopernuoto.it/evento-sportivo/crcvc-2prova-2parte-14-02-2026/
CATEGORIES:Assoluti alto livello
ATTACH;FMTTYPE=application/pdf:https://www.coopernuoto.it/cms/wp-content/uploads/2025/10/convocazione-1--giornata.pdf
END:VEVENT
BEGIN:VEVENT
DTSTART;TZID=Europe/Helsinki:20260215T080000
DTEND;TZID=Europe/Helsinki:20260831T170000
DTSTAMP:20260422T025743
CREATED:20251029T154846Z
LAST-MODIFIED:20260217T144240Z
UID:54190-1771142400-1788195600@www.coopernuoto.it
SUMMARY:CRCVC 2°Prova - 3°Parte  15/02/2026 - RISULTATI
DESCRIPTION:MANIFESTAZIONE: \n  \n2^ prova CRCVC – 3° giornata \n  \nDATA:   Domenica 15 Febbraio 2026 \n  \n  \nLOCALITA’: Carpi – Piazzale delle piscine\, 4\, 41012 (MO) \n  \n  \nCATEGORIE: ALTO LIVELLO \n  \nRISULTATI: https://risultati.goandswim.it/evento/95f28391caee411c83be3dc0895b1767 \n 
URL:https://www.coopernuoto.it/evento-sportivo/crcvc-2prova-3parte-15-02-2026/
CATEGORIES:Assoluti alto livello
ATTACH;FMTTYPE=application/pdf:https://www.coopernuoto.it/cms/wp-content/uploads/2025/10/convocazione-1--giornata-1.pdf
END:VEVENT
BEGIN:VEVENT
DTSTART;TZID=Europe/Helsinki:20260222T080000
DTEND;TZID=Europe/Helsinki:20260831T170000
DTSTAMP:20260422T025743
CREATED:20251211T085828Z
LAST-MODIFIED:20260226T112940Z
UID:54849-1771747200-1788195600@www.coopernuoto.it
SUMMARY:TROFEO CITTA' DI SASSUOLO - 22/02/2026 - RISULTATI
DESCRIPTION:MANIFESTAZIONE:           11°Trofeo “città di Sassuolo”  \n  \nDATA:   Domenica 22 Febbraio 2026 \n  \n  \nLOCALITA’: Piscina comunale di Sassuolo\, via I. Nievo\, 12 Sassuolo (MO) \n  \nCATEGORIE: ALTO LIVELLO e MEDIO LIVELLO \n  \nRISULTATI: https://risultati.goandswim.it/evento/c5d8ad405a1246c388f1baad3d632529 \n  \n  \n 
URL:https://www.coopernuoto.it/evento-sportivo/trofeo-citta-di-sassuolo-22-02-2026/
CATEGORIES:Assoluti alto livello,Assoluti medio livello
ATTACH;FMTTYPE=application/pdf:https://www.coopernuoto.it/cms/wp-content/uploads/2025/12/convocazione-3.pdf
END:VEVENT
BEGIN:VEVENT
DTSTART;TZID=Europe/Helsinki:20260222T080000
DTEND;TZID=Europe/Helsinki:20260903T170000
DTSTAMP:20260422T025743
CREATED:20260219T110036Z
LAST-MODIFIED:20260226T113417Z
UID:55670-1771747200-1788454800@www.coopernuoto.it
SUMMARY:4°TROFEO MOTION - 22/02/2026 - RISULTATI
DESCRIPTION:MANIFESTAZIONE: 4° Trofeo Motion – Meeting FIN-AICS \n  \nDATA: Domenica 22 Febbraio 2026 \n  \nLOCALITÀ: Piscina Comunale di Forlì\, Via Filippo Turati\, 17/19\, 47121 Forlì (FC) \n  \nCATEGORIA: Alto Livello  \n  \nDIVISA: Polo e Cuffia COOPERNUOTO \n  \nRISULTATI: https://nuoto.ficr.it/#/NUO/programma/4%C3%82%C2%B0%20TROFEO%20MOTION%20%20MEETING%20FIN%20-%20AICS/2026/83/5260 \n 
URL:https://www.coopernuoto.it/evento-sportivo/4trofeo-motion-22-02-2026/
CATEGORIES:Assoluti alto livello
ATTACH;FMTTYPE=application/pdf:https://www.coopernuoto.it/cms/wp-content/uploads/2026/02/MANIFESTAZIONE.pdf
END:VEVENT
BEGIN:VEVENT
DTSTART;TZID=Europe/Helsinki:20260301T080000
DTEND;TZID=Europe/Helsinki:20260831T170000
DTSTAMP:20260422T025743
CREATED:20260225T110347Z
LAST-MODIFIED:20260311T153140Z
UID:55750-1772352000-1788195600@www.coopernuoto.it
SUMMARY:Campionato Regionale di Categoria e Assoluto Indoor di fondo - 01/03/2026 - RISULTATI
DESCRIPTION:Campionato Regionale di Categoria e Assoluto Indoor di fondo  \n  \nData: Domenica 1 Marzo 2026 \nLuogo: Piscina Olimpionica Carmen Longo\, via dello sport\, 6\, 40134 Bologna \nCategoria: Selezione Alto Livello \n  \nProgramma gare:  \n  \nRiscaldamento ore 14:30 \ninizio gare ore 15:30 \n  \n3000 mt\, 5000 mt \n  \nRISULTATI: https://risultati.goandswim.it/evento/3b6dad884cf84b1c99651c65e80c65a7
URL:https://www.coopernuoto.it/evento-sportivo/campionato-regionale-di-categoria-e-assoluto-indoor-di-fondo-01-03-2026/
CATEGORIES:Assoluti alto livello
ATTACH;FMTTYPE=application/pdf:https://www.coopernuoto.it/cms/wp-content/uploads/2026/02/MANIFESTAZIONE-1.pdf
END:VEVENT
BEGIN:VEVENT
DTSTART;TZID=Europe/Helsinki:20260307T080000
DTEND;TZID=Europe/Helsinki:20260928T170000
DTSTAMP:20260422T025743
CREATED:20251029T155811Z
LAST-MODIFIED:20260311T152813Z
UID:54196-1772870400-1790614800@www.coopernuoto.it
SUMMARY:Finali CRCVC  07-08/03/2026 - RISULTATI
DESCRIPTION:MANIFESTAZIONE:  CRCVC – FINALI \nDATA: Sabato 07 Marzo e   Domenica 08 Marzo \n  \nLOCALITA’: Riccione\, Via Monte Rosa\, 60\, 47838. \n  \nCATEGORIE: FINALISTI ALTO LIVELLO \n  \nPROGRAMMA: \n  \nSabato pomeriggio: Riscaldamento unico ore: 15.00 – 15.50 \nInizio gare ore 16.00 \n  \n50 SL\, 400 MX\, 50 RN\, 4×100 SL \n  \nDomenica mattina: Riscaldamento unico ore 8.30 – 9.20 \nInizio gare ore 9.30 \n  \n50 FA\, 200 SL\, 100 DO\, 800 SL \n  \nDomenica pomeriggio: Riscaldamento ore 14.00 – 14.50 \nInizio gare ore 15.00 \n  \n100 FA\, 200 RN\, 50 DO\, 4×200 SL \n  \nRISULTATI: https://risultati.goandswim.it/evento/ada797258c0d497e843467b0d00f1147
URL:https://www.coopernuoto.it/evento-sportivo/finali-crcvc-07-08-03-2026/
CATEGORIES:Assoluti alto livello
ATTACH;FMTTYPE=application/pdf:https://www.coopernuoto.it/cms/wp-content/uploads/2025/10/convocazione-1°weeken-finali.pdf
END:VEVENT
BEGIN:VEVENT
DTSTART;TZID=Europe/Helsinki:20260314T080000
DTEND;TZID=Europe/Helsinki:20260831T170000
DTSTAMP:20260422T025743
CREATED:20251029T155951Z
LAST-MODIFIED:20260326T133212Z
UID:54198-1773475200-1788195600@www.coopernuoto.it
SUMMARY:Finali CRCVC  14-15/03/2026 - RISULTATI
DESCRIPTION:MANIFESTAZIONE: CRCVC – FINALI \n  \nDATA: Sabato 14 Marzo e Domenica 15 Marzo \n  \nLOCALITA’: Riccione\, via Monte Rosa\, 60\, 47838. \n  \nCATEGORIE: FINALISTI ALTO LIVELLO \n  \n  \nRISULTATI: https://risultati.goandswim.it/evento/ada797258c0d497e843467b0d00f1147 \n  \n  \n  \n 
URL:https://www.coopernuoto.it/evento-sportivo/finali-crcvc-14-15-03-2026/
CATEGORIES:Assoluti alto livello
ATTACH;FMTTYPE=application/pdf:https://www.coopernuoto.it/cms/wp-content/uploads/2025/10/convocazione-2°weeken-finali.pdf
END:VEVENT
BEGIN:VEVENT
DTSTART;TZID=Europe/Helsinki:20260327T080000
DTEND;TZID=Europe/Helsinki:20260831T170000
DTSTAMP:20260422T025743
CREATED:20251029T160911Z
LAST-MODIFIED:20251029T160911Z
UID:54202-1774598400-1788195600@www.coopernuoto.it
SUMMARY:Criteria Sezione Femminile  27-29/03/2026
DESCRIPTION:Criteria Sezione Femminile \n  \nData: 27-29 Marzo 2026 \nLuogo: Riccione \nCategoria: Selezione Alto Livello
URL:https://www.coopernuoto.it/evento-sportivo/criteria-sezione-femminile-27-29-03-2026/
CATEGORIES:Assoluti alto livello
END:VEVENT
BEGIN:VEVENT
DTSTART;TZID=Europe/Helsinki:20260414T080000
DTEND;TZID=Europe/Helsinki:20260831T170000
DTSTAMP:20260422T025743
CREATED:20251029T161851Z
LAST-MODIFIED:20251029T161851Z
UID:54208-1776153600-1788195600@www.coopernuoto.it
SUMMARY:Campionati Italiani Assoluti  14-18/04/2026
DESCRIPTION:Campionati Italiani Assoluti \n  \nData: 14-18 Aprile 2026 \nLuogo: Riccione \nCategoria: Selezione Alto Livello
URL:https://www.coopernuoto.it/evento-sportivo/campionati-italiani-assoluti-14-18-04-2026/
CATEGORIES:Assoluti alto livello
END:VEVENT
BEGIN:VEVENT
DTSTART;TZID=Europe/Helsinki:20260501T080000
DTEND;TZID=Europe/Helsinki:20260831T170000
DTSTAMP:20260422T025743
CREATED:20260407T130728Z
LAST-MODIFIED:20260407T141342Z
UID:56743-1777622400-1788195600@www.coopernuoto.it
SUMMARY:15° MEETING SQUALO BLU - 1\,2\,3/05/2026
DESCRIPTION:15° MEETING SQUALO BLU \n  \nDATA: dal 1 al 3 Maggio 2026 \nLUOGO: Multieventi Sport Domus\, via Rancaglia\, 30\, Serravalle (SRM) \nCATEGORIA: atleti convocati alla rappresentativa FIN CRER Ragazzi \n  \nPROGRAMMA GARE: \n01/05 POMERIGGIO                                                                                   02/05 MATTINA                                                                     02/05 POMERIGGIO\nGARE                                            CATEGORIA                                                    GARE                                        CATEGORIA                                GARE                                              CATEGORIA  \n200 MISTI                                    ASSOLUTI                                                        200 FARFALLA                    ASSOLUTI                                    50 FARFALLA                                      es. B\n400 STILE LIBERO                    ASSOLUTI                                                        200 DORSO                          ASSOLUTI                                    50 DORSO                                             es. B\n50 FARFALLA                             RAG/JUN/ASS                                                200 RANA                             ASSOLUTI                                    100 RANA                                              es. A\n50 DORSO                                    RAG/JUN/ASS                                                200 STILE LIBERO            ASSOLUTI                                    100 STILE LIBERO                              es. A\n50 RANA                                       RAG/JUN/ASS                                                                                                                                                         200 MISTI                                             es. A\n50 STILE LIBERO                      RAG/JUN/ASS                                                                                                                                                         100 RANA                                              RAG/JUN/SENIOR\n100 STILE LIBERO                             RAG/JUN/SENIOR\n400 MISTI                                            ASSOLUTI \n03/05 MATTINA                                                                                                             03/05 POMERIGGIO\nGARE                                          CATEGORIA                                                                         GARE                                                CATEGORIA \n50 STILE LIBERO                      es. B/A                                                                                100 FARFALLA                                B/A/RAG/JUN/ASS \n50 RANA                                       es. B/A                                                                                100 DORSO                                      B/A/RAG/JUN/ASS\n100 FARFALLA                           es. A                                                                                     100 RANA                                         B/A/RAG/JUN/ASS\n100 DORSO                                  es. A                                                                                    100 STILE LIBERO                         B/A/RAG/JUN/ASS\n100 FARFALLA                           RAG/JUN/ASS\n100 DORSO                                  RAG/JUN/ASS \n800 STILE                                    ASSOLUTI FEMMINE\n1500 STILE                                  ASSOLUTI MASCHI \n  \nATLETI CONVOCATI: \n\nBarozzi Arianna\nBravi Rebecca\nBergonzini Cristian Vittorio\nCasetti Alessandro
URL:https://www.coopernuoto.it/evento-sportivo/15-meeting-squalo-blu-123-05-2026/
CATEGORIES:Assoluti alto livello
END:VEVENT
BEGIN:VEVENT
DTSTART;TZID=Europe/Helsinki:20260509T080000
DTEND;TZID=Europe/Helsinki:20260831T170000
DTSTAMP:20260422T025743
CREATED:20260415T083702Z
LAST-MODIFIED:20260415T083719Z
UID:56993-1778313600-1788195600@www.coopernuoto.it
SUMMARY:XVI TROFEO DEL TRICOLORE - 09-10/05/2026
DESCRIPTION:XVI TROFEO DEL TRICOLORE \n  \nDATA: 9 e 10 Maggio 2026 \nLUOGO: Piscina Melato\, in via Melato\, 2\, Reggio Emilia \nCATEGORIA: Alto Livello \n  \nPROGRAMMA GARE: \n  \n-SABATO MATTINA: Riscaldamento ore 9:00 \nInizio Gare ore 10:00 \n                                         50 SL\, 50 FA\, 50 RN\, 50 DO\, 1500 SL\, 50 MX \n-SABATO POMERIGGIO: Riscaldamento ore 14:00 \nInizio gare ore: 15:00 \n200 SL\, 200 FA\, 200 RN\, 200 DO \n50 SL FINALE\, 50 FA FINALE\, 50 RN FINALE\, 50 DO FINALE \n  \n-DOMENICA POMERIGGIO: Riscaldamento ore 8:00 \nInizio gare ore 9:00 \n100 SL\, 100 FA\, 100 RN\, 100 DO\, 800 SL \n-DOMENICA POMERIGGIO: Riscaldamento ore: 14:00 \nInizio gare ore: 15:00 \n200 MX\, 400 SL \n100 SL FINALI\, 100 FA FINALI\, 100 FA FINALI\, 100 DORSO FINALI \n 
URL:https://www.coopernuoto.it/evento-sportivo/xvi-trofeo-del-tricolore-09-10-05-2026/
CATEGORIES:Assoluti alto livello
END:VEVENT
END:VCALENDAR