BEGIN:VCALENDAR
VERSION:2.0
PRODID:-//Coopernuoto - ECPv6.2.3.2//NONSGML v1.0//EN
CALSCALE:GREGORIAN
METHOD:PUBLISH
X-ORIGINAL-URL:https://www.coopernuoto.it
X-WR-CALDESC:Eventi per Coopernuoto
REFRESH-INTERVAL;VALUE=DURATION:PT1H
X-Robots-Tag:noindex
X-PUBLISHED-TTL:PT1H
BEGIN:VTIMEZONE
TZID:Europe/Helsinki
BEGIN:DAYLIGHT
TZOFFSETFROM:+0200
TZOFFSETTO:+0300
TZNAME:EEST
DTSTART:20230326T010000
END:DAYLIGHT
BEGIN:STANDARD
TZOFFSETFROM:+0300
TZOFFSETTO:+0200
TZNAME:EET
DTSTART:20231029T010000
END:STANDARD
BEGIN:DAYLIGHT
TZOFFSETFROM:+0200
TZOFFSETTO:+0300
TZNAME:EEST
DTSTART:20240331T010000
END:DAYLIGHT
BEGIN:STANDARD
TZOFFSETFROM:+0300
TZOFFSETTO:+0200
TZNAME:EET
DTSTART:20241027T010000
END:STANDARD
BEGIN:DAYLIGHT
TZOFFSETFROM:+0200
TZOFFSETTO:+0300
TZNAME:EEST
DTSTART:20250330T010000
END:DAYLIGHT
BEGIN:STANDARD
TZOFFSETFROM:+0300
TZOFFSETTO:+0200
TZNAME:EET
DTSTART:20251026T010000
END:STANDARD
END:VTIMEZONE
BEGIN:VEVENT
DTSTART;TZID=Europe/Helsinki:20250601T080000
DTEND;TZID=Europe/Helsinki:20250831T170000
DTSTAMP:20260422T005209
CREATED:20250521T121219Z
LAST-MODIFIED:20250521T121219Z
UID:52018-1748764800-1756659600@www.coopernuoto.it
SUMMARY:4° TROFEO Gdf MODENA - 1 e 2 GIUGNO 2025
DESCRIPTION:MANIFESTAZIONE: 49° Meeting Nazionale \nCittà di Modena – 4° Trofeo GdF Modena  \n  \nLOCALITÀ: MODENA – Piscina Comunale Dogali \n     Via Dogali\, 12 \n  \n  \nDATA: 1 – 2 Giugno 2025 \n  \nCATEGORIE: MEDIO LIVELLO \nDomenica 1° giugno inizio gare h 10.00\n800 stile F ASS (rag-jun-cad-sen)\n1500 stile M ASS (rag-jun-cad-sen)\nDomenica 1° giugno inizio gare h 15.00\n200 misti M rag-jun-ass.\n400 misti F rag-jun-ass.\n200 rana M rag-jun-ass.\n100 stile libero F rag-jun-ass.\n50 stile libero M rag-jun-ass.\n100 dorso F rag-jun-ass.\n200 dorso M rag-jun-ass.\n200 farfalla F rag-jun-ass.\n100 farfalla M rag-jun-ass.\n50 rana F rag-jun-ass.\n400 stile libero M rag-jun-ass.\n1500 stile F ASS (rag-jun-cad-sen)\n\nLunedì 2 Giugno inizio gare h 8.30\n100 dorso M rag-jun-ass.\n50 dorso F rag-jun-ass.\n200 stile libero M rag-jun-ass.\n200 stile libero F rag-jun-ass.\n100 rana M rag-jun-ass.\n200 rana F rag-jun-ass.\n50 farfalla M rag-jun-ass.\n100 farfalla F rag-jun-ass.\n400 misti M rag-jun-ass.\n200 misti F rag-jun-ass.\n Lunedì 2 Giugno inizio gare h 15.00\n50 stile libero F rag-jun-ass.\n100 stile libero M rag-jun-ass.\n50 farfalla F rag-jun-ass.\n200 farfalla M rag-jun-ass.\n400 stile libero F rag-jun-ass.\n50 rana M rag-jun-ass.\n100 rana F rag-jun-ass.\n50 dorso M rag-jun-ass.\n200 dorso F rag-jun-ass.\n800 stile M ASS (rag-jun-cad-sen)\n  \nALLENATORI: Paterlini\, Brioni\, Fabbricatore\, Ferri. \n 
URL:https://www.coopernuoto.it/evento-sportivo/4-trofeo-gdf-modena-1-e-2-giugno-2025/
CATEGORIES:Assoluti medio livello
ATTACH;FMTTYPE=application/pdf:https://www.coopernuoto.it/cms/wp-content/uploads/2025/05/medio-livello-convocazione.pdf
END:VEVENT
BEGIN:VEVENT
DTSTART;TZID=Europe/Helsinki:20250511T080000
DTEND;TZID=Europe/Helsinki:20251204T170000
DTSTAMP:20260422T005209
CREATED:20250205T112726Z
LAST-MODIFIED:20250304T124759Z
UID:50651-1746950400-1764867600@www.coopernuoto.it
SUMMARY:3° TAPPA YOUNG CHALLENGE - 11 MAGGIO 2025
DESCRIPTION:3° TAPPA YOUNG CHALLENGE – 11 MAGGIO 2025 \ndomenica pomeriggio \nDATA: 11/05/2025 \nLUOGO: Casalecchio (BO) \nCATEGORIA: Medio Livello \n  \nprogramma gare da definire
URL:https://www.coopernuoto.it/evento-sportivo/3-tappa-young-challenge-11-maggio-2025/
CATEGORIES:Assoluti medio livello
END:VEVENT
BEGIN:VEVENT
DTSTART;TZID=Europe/Helsinki:20250511T080000
DTEND;TZID=Europe/Helsinki:20250831T170000
DTSTAMP:20260422T005209
CREATED:20241119T121908Z
LAST-MODIFIED:20241119T121908Z
UID:49453-1746950400-1756659600@www.coopernuoto.it
SUMMARY:3° TAPPA TEAM YOUNG CHALLENGE - 11/05/2025
DESCRIPTION:3° TAPPA TEAM YOUNG CHALLENGE – 11/05/2025 \n  \nCATEGORIA: MEDIO LIVELLO \nLUOGO:  da definire \nPROGRAMMA GARE: da definire
URL:https://www.coopernuoto.it/evento-sportivo/3-tappa-team-young-challenge-11-05-2025/
CATEGORIES:Assoluti medio livello
END:VEVENT
BEGIN:VEVENT
DTSTART;TZID=Europe/Helsinki:20250504T080000
DTEND;TZID=Europe/Helsinki:20250831T170000
DTSTAMP:20260422T005209
CREATED:20250319T140029Z
LAST-MODIFIED:20250319T140327Z
UID:51256-1746345600-1756659600@www.coopernuoto.it
SUMMARY:CAMPIONATO REGIONALE ASSOLUTO ESTIVO LIFESAVING - 4/05/2025
DESCRIPTION:CAMPIONATO REGIONALE ASSOLUTO ESTIVO LIFESAVING – 4/05/2025 \n  \nDATA: 4/05/2025 \nLUOGO: Piscina comunale Reggio Emilia\, Via Melato\, vasca da 50 mt. \nCATEGORIA: Medio Livello
URL:https://www.coopernuoto.it/evento-sportivo/campionato-regionale-assoluto-estivo-lifesaving-4-05-2025/
CATEGORIES:Assoluti medio livello
END:VEVENT
BEGIN:VEVENT
DTSTART;TZID=Europe/Helsinki:20250223T080000
DTEND;TZID=Europe/Helsinki:20250831T170000
DTSTAMP:20260422T005209
CREATED:20241121T142013Z
LAST-MODIFIED:20250604T130932Z
UID:49510-1740297600-1756659600@www.coopernuoto.it
SUMMARY:10° TROFEO CITTA' DI SASSUOLO - 23/02/2025 - RISULTATI
DESCRIPTION:MANIFESTAZIONE:  10° Trofeo “città di sassuolo” \n  \nDATA: Domenica 23 Febbraio 2025 \nLOCALITÀ: Piscina Comunale di Sassuolo\, Via I. Nievo\, 12 Sassuolo MO \nCATEGORIA: Alto Livello e Medio Livello \nDIVISA: Polo e Cuffia COOPERNUOTO \n  \nPROGRAMMA GARE: \n  \nDOMENICA MATTINA: Inizio riscaldamento femmine 8.00 – 8.25 \nInizio riscaldamento maschi 8.25 – 8.50 \nInizio gare ore 9.00 \n200 FA F – 400 MX M – 50 DO F – 50 RA M – 100 RA F – 100 SL M – 200 DO F – 100 DO M – 200 SL F – 100 FA M – 100 MX F – 200 RA M – 50 FA F – 50 SL M – 200 MX F – 400 SL M – 800 SL F \n  \nDOMENICA POMERIGGIO: Inizio riscaldamento maschi e femmine \ninsieme 13.30 – 14.50 \nInizio gare ore 15.00 \n  \n  \n200 FA M – 400 MX F – 50 DO M – 50 RA F – 100 RA M – 100 SL F – 200 DO M – 100 DO F – 200 SL M – 100 FA F – 100 MX M – 200 RA F – 50 FA M – 50 SL F – 200 MX M – 400 SL F – 1500 SL M \n  \nRISULTATI: https://nuoto.ficr.it/#/NUO/programma/10%C3%82%C2%B0%20TROFEO%20%22CITTA’%20DI%20SASSUOLO%22/2025/83/4900 \n  \n  \n 
URL:https://www.coopernuoto.it/evento-sportivo/trofeo-zazzarini-23-02-2025/
CATEGORIES:Assoluti alto livello,Assoluti medio livello
ATTACH;FMTTYPE=application/pdf:https://www.coopernuoto.it/cms/wp-content/uploads/2024/11/MANIFESTAZIONE.pdf
END:VEVENT
BEGIN:VEVENT
DTSTART;TZID=Europe/Helsinki:20250205T080000
DTEND;TZID=Europe/Helsinki:20250831T170000
DTSTAMP:20260422T005209
CREATED:20250205T132432Z
LAST-MODIFIED:20250605T121703Z
UID:50671-1738742400-1756659600@www.coopernuoto.it
SUMMARY:CAMPIONATI ITALIANI UISP - 13\, 14 e 15 GIUGNO 2025
DESCRIPTION:CAMPIONATI ITALIANI UISP – 13\, 14 e 15 GIUGNO 2025 \n  \nDATA: 13\,14 e 15/06/2025 \nLUOGO: Riccione \nCATEGORIA: Esordienti C\, Esordienti B e Medio Livello  \n  \nCATEGORIA: ESO C  \nVenerdì 13 giugno 2025  \npomeriggio  \nVasca mt.25 interna femmine: riscaldamento 14\,00 – 14\,20 \nVasca mt.25 interna maschi: riscaldamento 14\,30 – 14\,50 \nInizio Gare 15\,00 \n25 Rana – 50 Dorso – 4×50 stile libero \nSabato 14 Giugno 2025 \nMattina  \nVasca mt.25 interna femmine: riscaldamento 8\,00 – 8\,20 \nVasca mt.25 interna maschi: riscaldamento 8\,30 – 8\,50 \nInizio Gare ore 9:00 \n25 Dorso – 100 Misti – 100 Rana  \npomeriggio  \nVasca mt.25 interna femmine: riscaldamento 14\,00 – 14\,20 \nVasca mt.25 interna maschi: riscaldamento 14\,50 – 15\,10 \nInizio Gare 15\,15 \n25 stile libero – 100 stile libero – 50 farfalla – 4×50 mista \nDomenica 15 Giugno 2024  \nMattina  \nVasca mt.25 interna femmine: riscaldamento 8\,00 – 8\,20 \nVasca mt.25 interna maschi: riscaldamento 8\,30 – 8\,50 \nInizio Gare ore 9:00 \n25 Farfalla – 100 Dorso – 50 stile libero – staffetta 4×50 mistaffetta mista \n  \n  \nCATEGORIA ESO B e MEDIO LIVELLO \nPartenza CON AUTOBUS Borghi Viaggi: venerdì 13/06 ore 7.00 dal parcheggio scambiatore Autostrada di Parma per gli atleti di Parma\, ore 7.30 dal piazzale Fiere di Mancasale (RE) per gli atleti di Novellara e Correggio e per gli atleti di Carpi e Mirandola ore 8.00 dalla Piazzola di sosta via Cave di Ramo uscita Autostrada Mo Nord di fronte Steak House  \nRientro : Domenica 15/06 – rientro nel pomeriggio con arrivo parcheggio uscita Autostrada di Modena Nord\, successivamente piazzale Fiere di Mancasale (RE) e per ultimo parcheggio scambiatore uscita Autostrada di Parma. Gli orari di rientro verranno comunicati successivamente dagli allenatori di riferimento. \n  \n  \nCuffia e maglietta UNISPORT \n  \nALLENATORI: Sberveglieri\, Guareschi\, Ferri\, Bertacchi\, Baraldi\, Pala\, Mammi\, Varini\, Zonca\, Brioni\, Martinelli\, Paterlini\, Zilioli\, Fabbricatore\, Mencarelli.
URL:https://www.coopernuoto.it/evento-sportivo/campionati-italiani-uisp-13-14-e-15-giugno-2025/
CATEGORIES:Assoluti medio livello,Esordienti B,Esordienti C
ATTACH;FMTTYPE=application/pdf:https://www.coopernuoto.it/cms/wp-content/uploads/2025/02/convocazione-eso-c.pdf
END:VEVENT
BEGIN:VEVENT
DTSTART;TZID=Europe/Helsinki:20250205T080000
DTEND;TZID=Europe/Helsinki:20250831T170000
DTSTAMP:20260422T005209
CREATED:20250205T115609Z
LAST-MODIFIED:20250205T115609Z
UID:50665-1738742400-1756659600@www.coopernuoto.it
SUMMARY:TROFEO CITTA' DI MODENA - 01 e 02 GIUGNO 2025
DESCRIPTION:TROFEO CITTA’ DI MODENA – 01 e 02 GIUGNO 2025 \n  \nDATA: 01 e 02/06/2025 \nLUOGO: Dogali (MO) \nCATEGORIA: Medio Livello \n  \nprogramma gare da definire
URL:https://www.coopernuoto.it/evento-sportivo/trofeo-citta-di-modena-01-e-02-giugno-2025/
CATEGORIES:Assoluti medio livello
END:VEVENT
BEGIN:VEVENT
DTSTART;TZID=Europe/Helsinki:20250205T080000
DTEND;TZID=Europe/Helsinki:20250831T170000
DTSTAMP:20260422T005209
CREATED:20250205T111819Z
LAST-MODIFIED:20250205T111819Z
UID:50643-1738742400-1756659600@www.coopernuoto.it
SUMMARY:41° TROFEO ENDAS - 27 Aprile 2025
DESCRIPTION:41° TROFEO ENDAS – 27 Aprile 2025 \n  \nDATA: 27/04/2025 \n LUOGO: Ravenna \nCATEGORIA: Medio Livello \nprogramma gare da definire
URL:https://www.coopernuoto.it/evento-sportivo/41-trofeo-endas-27-aprile-2025/
CATEGORIES:Assoluti medio livello
END:VEVENT
BEGIN:VEVENT
DTSTART;TZID=Europe/Helsinki:20250205T080000
DTEND;TZID=Europe/Helsinki:20250205T170000
DTSTAMP:20260422T005209
CREATED:20250205T112118Z
LAST-MODIFIED:20250205T112118Z
UID:50645-1738742400-1738774800@www.coopernuoto.it
SUMMARY:CAMP. REGIONALE NUOTO SALVAMENTO - 4 MAGGIO 2025
DESCRIPTION:CAMP. REGIONALE NUOTO SALVAMENTO – 4 MAGGIO 2025 \n  \nDATA: 4/05/2025 \nLUOGO: Melato (RE) \nCATEGORIA: Medio Livello \nprogramma gare da definire
URL:https://www.coopernuoto.it/evento-sportivo/camp-regionale-nuoto-salvamento-4-maggio-2025/
CATEGORIES:Assoluti medio livello
END:VEVENT
BEGIN:VEVENT
DTSTART;TZID=Europe/Helsinki:20250119T080000
DTEND;TZID=Europe/Helsinki:20250831T170000
DTSTAMP:20260422T005209
CREATED:20241119T121703Z
LAST-MODIFIED:20250227T122344Z
UID:49451-1737273600-1756659600@www.coopernuoto.it
SUMMARY:2° TAPPA TEAM YOUNG CHALLENGE - 19/01/2025 RISULTATI
DESCRIPTION:MANIFESTAZIONE: \n2^TAPPA CIRCUITO YOUNG CHALLENGE UISP \n  \nLOCALITÀ: PISCINA COMUNALE DI FORLI’  \nVia Filippo Turati\, 17/19- 47121 FORLI’ \n  \nDATA: Domenica 19 Gennaio 2025 \n  \nCATEGORIA: MEDIO LIVELLO \nPROGRAMMA \n  \nGARE IN PROGRAMMA E ORARIO  \n  \nMATTINA: 100 SL – 100 FA – 4X50 SL ALL IN \nore 9.00 accesso impianto \nore 9.10 riscaldamento maschi \nore 9.30 riscaldamento femmine \nore 10.00 inizio gare \n  \nPOMERIGGIO: 100 DO – 100 RA – 4X50 SL MIXED – AUSTRALIANA FEMMINILE \nore 14.40 riscaldamento maschi \nore 15.00 riscaldamento femmine \nore 15.30 inizio gare \nCuffia e maglietta UNISPORT \nALLENATORI: Emiliano Brioni\, Stefano Paterlini\, Angelo Fabbricatore\, Ilaria Ferri\, Giuseppe Bonsanto. \n  \nPROGRAMMA 2 TAPPA: \n https://www.coopernuoto.it/cms/wp-content/uploads/2024/11/PROGRAMMA-2-TAPPA.pdf \nRISULTATI: \nhttps://www.goandswim.com/follow/PublicEvent.aspx?Event=78b427d11a804a36b1994fe40e1e9177 \n  \n 
URL:https://www.coopernuoto.it/evento-sportivo/2-tappa-team-young-challenge-19-01-2025/
CATEGORIES:Assoluti medio livello
ATTACH;FMTTYPE=application/pdf:https://www.coopernuoto.it/cms/wp-content/uploads/2024/11/CONVOCAZIONE-2.pdf
END:VEVENT
BEGIN:VEVENT
DTSTART;TZID=Europe/Helsinki:20241110T080000
DTEND;TZID=Europe/Helsinki:20250828T170000
DTSTAMP:20260422T005209
CREATED:20241023T111618Z
LAST-MODIFIED:20250107T130616Z
UID:49098-1731225600-1756400400@www.coopernuoto.it
SUMMARY:1° Tappa “YOUNG CHALLENGE” 10/11/2024 - RISULTATI
DESCRIPTION:1° Tappa “YOUNG CHALLENGE” 10/11/2024 \nLUOGO: San Giovanni  Persiceto (BO) \nCATEGORIE: Medio Livello \nAPERTURA IMPIANTO:  ORE 13:15 \nINIZIO RISCALDAMENTO settore maschile 13:30 \nINIZIO RISCALDAMENTO settore femminile 13:50 \nINIZIO GARE: 14:20 \n  \nRISULTATI: https://www.coopernuoto.it/cms/wp-content/uploads/2024/10/RISULTATI_GARE-1-tappa.pdf
URL:https://www.coopernuoto.it/evento-sportivo/1-tappa-young-challenge-10-11-2024/
LOCATION:Piscina San Giovanni Persiceto\, Via Castelfranco 16/B
CATEGORIES:Assoluti medio livello,Nuoto
END:VEVENT
BEGIN:VEVENT
DTSTART;TZID=Europe/Helsinki:20241110T080000
DTEND;TZID=Europe/Helsinki:20241130T170000
DTSTAMP:20260422T005209
CREATED:20241017T111656Z
LAST-MODIFIED:20250107T130857Z
UID:49025-1731225600-1732986000@www.coopernuoto.it
SUMMARY:1° TAPPA CHALLENGE TOP SPEED 10 NOVEMBRE 2024
DESCRIPTION:1° TAPPA CHALLENGE TOP SPEED 10 NOVEMBRE 2024 \n  \nLUOGO :  PISCINE IDROPOLIS SOGESE\nVia Castelfranco 16/b San Giovanni in Persiceto (BO) \nPROGRAMMA GARE:\n50 FA – 50 DO – 4X50 MIXED MX – 50 RA – 50 SL – GARA A INSEGUIMENTO – AUSTRALIANA MASCHILE  \nORARIO: \nOre 13:15 accesso impianto\nOre 13:30 riscaldamento maschi\nOre 13:50 riscaldamento femmine\nOre 14:00 inizio gare \n  \nCATEGORIE: MEDIO LIVELLO \n  \nALLENATORI: BRIONI\, PATERLINI\, FABBRICATORE\, FERRI\, BONSANTO. \n 
URL:https://www.coopernuoto.it/evento-sportivo/1-prova-circuito-regionale-10-novembre-2024/
CATEGORIES:Assoluti medio livello,Nuoto
ORGANIZER;CN="Coopernuoto Agonistica":MAILTO:agonistica@coopernuoto.it
END:VEVENT
BEGIN:VEVENT
DTSTART;TZID=Europe/Helsinki:20240614T080000
DTEND;TZID=Europe/Helsinki:20240831T170000
DTSTAMP:20260422T005209
CREATED:20240222T094355Z
LAST-MODIFIED:20240412T112401Z
UID:45862-1718352000-1725123600@www.coopernuoto.it
SUMMARY:Campionato Nazionale Estivo Giovani - 14 e 16/06/2024
DESCRIPTION:Campionato Nazionale Estivo Giovani \n14/06/2024 e 16/06/2024 \nRiccione \norari e programma da definirsi.
URL:https://www.coopernuoto.it/evento-sportivo/campionato-nazionale-estivo-giovani-14-e-16-06-2024/
CATEGORIES:Assoluti medio livello,Esordienti B,Esordienti C
END:VEVENT
BEGIN:VEVENT
DTSTART;TZID=Europe/Helsinki:20240601T080000
DTEND;TZID=Europe/Helsinki:20240831T170000
DTSTAMP:20260422T005209
CREATED:20240222T095342Z
LAST-MODIFIED:20240418T113525Z
UID:45864-1717228800-1725123600@www.coopernuoto.it
SUMMARY:Trofeo Città di Modena - 01 e 02/06/2024
DESCRIPTION:MANIFESTAZIONE:    48° Meeting Nazionale \nCittà di Modena – 3° Trofeo GdF Modena  \n  \nLOCALITÀ: MODENA – Piscina Comunale Dogali \n     Via Dogali\, 12 \nDATA:  1 – 2 giugno 2024 \nRiscaldamento dalle ore 14.00 \n200 misti M Eso A-rag-jun-ass. \n400 misti F Eso A-rag-jun-ass. \n200 rana M Eso A-rag-jun-ass. \n100 stile libero F Eso B e A-rag-jun-ass. \n50 stile libero M Eso B e A-rag-jun-ass. \n100 dorso F Eso A-rag-jun-ass. \n200 dorso M Eso A-rag-jun-ass. \n200 farfalla F Eso A-rag-jun-ass. \n100 farfalla M Eso A-rag-jun-ass. \n50 rana F Eso B e A-rag-jun-ass. \n400 stile libero M Eso A-rag-jun-ass \n  \nDomenica 2 Giugno Riscaldamento h 8.00 \n100 dorso M Eso A-rag-jun-ass. \n50 dorso F Eso B e A-rag-jun-ass. \n200 stile libero M Eso A-rag-jun-ass. \n200 stile libero F Eso A-rag-jun-ass. \n100 rana M Eso A-rag-jun-ass. \n200 rana F Eso A-rag-jun-ass. \n50 farfalla M Eso B e A-rag-jun-ass. \n100 farfalla F Eso A-rag-jun-ass. \n400 misti M Eso A-rag-jun-ass. \n200 misti F Eso A-rag-jun-ass. \nDomenica 2 Giugno Riscaldamento h 14.00 \n50 stile libero F Eso B e A-rag-jun-ass. \n100 stile libero M Eso B e A-rag-jun-ass. \n50 farfalla F Eso B e A-rag-jun-ass. \n200 farfalla M Eso A-rag-jun-ass. \n400 stile libero F Eso A-rag-jun-ass. \n50 rana M Eso B e A-rag-jun-ass. \n100 rana F Eso A-rag-jun-ass. \n50 dorso M Eso B e A-rag-jun-ass. \n200 dorso F Eso A-rag-jun-ass.
URL:https://www.coopernuoto.it/evento-sportivo/trofeo-citta-di-modena-01-e-02-06-2024/
CATEGORIES:Assoluti medio livello,Esordienti A
ATTACH;FMTTYPE=application/pdf:https://www.coopernuoto.it/cms/wp-content/uploads/2024/02/convocazione-48°-Meeting-Naz-Citta-di-Modena-3°-Trofeo-GdF-Modena-convocazione-es.A-e-MEDIO-LIVELLO.pdf
END:VEVENT
BEGIN:VEVENT
DTSTART;TZID=Europe/Helsinki:20240511T080000
DTEND;TZID=Europe/Helsinki:20240831T170000
DTSTAMP:20260422T005209
CREATED:20240222T140123Z
LAST-MODIFIED:20240509T132957Z
UID:45886-1715414400-1725123600@www.coopernuoto.it
SUMMARY:XV TROFEO CITTA' DEL TRICOLORE - 11 e 12/05/2024
DESCRIPTION:XV TROFEO CITTA’ DEL TRICOLORE \n11 e 12/05/2024 \nLUOGO: Piscina Comunale Ferretti – Ferrari\, via Melato 2. \nSabato\nriscaldamento femmine\n14.00 14.20\nRiscaldamento maschi\n14.20 14.40 \nInizio gare 15.00\nTermine gare previsto 19.15 \nDomenica mattina\nRiscaldamento femmine 7.30 7.50\nRiscaldamento maschi 7.50 8.10\nInizio gare 8.30 \nTermine turno mattino 12.40 \n(In pausa pranzo vasca disposizione fino ad inizio gare del pomeriggio) \nDomenica pomeriggio \n inizio gare ore 14.15 \nFine manifestazione 18.45
URL:https://www.coopernuoto.it/evento-sportivo/xv-trofeo-citta-del-tricolore-11-e-12-05-2024-2/
CATEGORIES:Assoluti alto livello,Assoluti medio livello
END:VEVENT
BEGIN:VEVENT
DTSTART;TZID=Europe/Helsinki:20240428T080000
DTEND;TZID=Europe/Helsinki:20240831T170000
DTSTAMP:20260422T005209
CREATED:20240227T095504Z
LAST-MODIFIED:20240426T082153Z
UID:45931-1714291200-1725123600@www.coopernuoto.it
SUMMARY:3^ Tappa YoungChallenge - 28/04/2024
DESCRIPTION:MANIFESTAZIONE:    3^ Tappa Young – Challenge \nDATA:    28/04/2024 \nLUOGO:   Casalecchio di Reno  –  Piscina M.L. King\, Via dello Sport 13 \n  \nGARE:   100MX  –  4×50 SL mista  –  200 MX  –  4×50 SL \n  \nORARI: \n\nore 14:20  accesso impianto\nore 14:30  riscaldamento\nore 14:50  riscaldamento maschi\nore 15:20  inizio gare\n\n 
URL:https://www.coopernuoto.it/evento-sportivo/3-tappa-young-challenge-12-05-2024/
CATEGORIES:Assoluti medio livello
END:VEVENT
BEGIN:VEVENT
DTSTART;TZID=Europe/Helsinki:20240421T080000
DTEND;TZID=Europe/Helsinki:20240831T170000
DTSTAMP:20260422T005209
CREATED:20240222T113909Z
LAST-MODIFIED:20240416T101600Z
UID:45879-1713686400-1725123600@www.coopernuoto.it
SUMMARY:XXXX Trofeo Endas - 21/04/2024
DESCRIPTION:MANIFESTAZIONE: \n  \nXXXX TROFEO ENDAS  \n  \nDATA: Domenica 21 Aprile 2024 \n  \n  \n  \nLOCALITÀ: Piscina Comunale Gianni Gambi di Ravenna\, via Falconieri 29. \n  \n  \nCATEGORIA: Medio Livello \nProgramma:  Riscaldamento Femmine 13.15/13.45 \nRiscaldamento Maschi 13.45/14.15 \nInizio gare 14.30 \n100 FA – 200 SL – 100 DO – 100 SL – 200 Misti (categoria R/Jun/Assoluti ) – 50 SL – 100 RA – Australiana (riservata alle prime 8 squadre in classifica). \n  \nPolo e cuffia COOPERNUOTO \n  \n  \nALLENATORI: da definirsi. \n  \n 
URL:https://www.coopernuoto.it/evento-sportivo/xxxx-trofeo-endas-21-04-2024/
CATEGORIES:Assoluti medio livello
ATTACH;FMTTYPE=application/pdf:https://www.coopernuoto.it/cms/wp-content/uploads/2024/02/Convocazioni-XXXX-Trofeo-Endas.pdf
END:VEVENT
BEGIN:VEVENT
DTSTART;TZID=Europe/Helsinki:20240211T080000
DTEND;TZID=Europe/Helsinki:20240930T170000
DTSTAMP:20260422T005209
CREATED:20240111T095500Z
LAST-MODIFIED:20240112T113813Z
UID:45169-1707638400-1727715600@www.coopernuoto.it
SUMMARY:9° Trofeo "Città di Sassuolo" - 11/02/2024
DESCRIPTION:MANIFESTAZIONE:     9° Trofeo “Città di Sassuolo” \n  \nLOCALITÀ: SASSUOLO\, Via Ippolito Nievo 12\, Sassuolo \n  \nDATA: 11 FEBBRAIO 2024 \n  \nCATEGORIE: Assoluti Medio Livello \n  \nPROGRAMMA \n  \nRiscaldamento femmine 8.00-8.25 \nRiscaldamento maschi    8.25-8.50 \nInizio gare 9.00 \n  \n200 FA f\, 400 MX m\, 50 DO f\, 50 RA m\, 100 RA f\, 100 DO m\, 200 DO f\, \n200 SL m\, 100 SL f\, 400 SL m\, 200 MX f\, 200 RA m\, 50 FA f\, 50 SL m\, \n100 MX f\, 100 FA m\, 800 SL f \n  \nRiscaldamento Femmine 14.00 – 14.25 \nRiscaldamento Maschi 14.25 – 14.50 \nInizio gare 15.00 \n  \n200 FA m\, 400 MX f\, 50 DO m\, 50 RA f\, 100 RA m \, 100 DO f\, 200 DO m\, \n200 SL f\, 100 SL m\, 400 SL f\, 200 MX m\, 200 RA f\, 50 FA m\, 50 SL f\, \n100 MX m\, 100 FA f\, 1500 SL m \n  \nALLENATORI: Brioni\, Paterlini\, Fabbricatore\, Ferri\, Giovanardi
URL:https://www.coopernuoto.it/evento-sportivo/9-trofeo-citta-di-sassuolo-11-02-2024/
CATEGORIES:Assoluti medio livello
ATTACH;FMTTYPE=application/pdf:https://www.coopernuoto.it/cms/wp-content/uploads/2024/01/convocazione-9°-Trofeo-Citta-di-Sassuolo.pdf
END:VEVENT
BEGIN:VEVENT
DTSTART;TZID=Europe/Helsinki:20240128T080000
DTEND;TZID=Europe/Helsinki:20240916T170000
DTSTAMP:20260422T005209
CREATED:20240111T100405Z
LAST-MODIFIED:20240206T123603Z
UID:45176-1706428800-1726506000@www.coopernuoto.it
SUMMARY:2° tappa Trofeo YOUNG CHALLENGE - 28/01/24 - RISULTATI
DESCRIPTION:MANIFESTAZIONE: \n  \n2^TAPPA CIRCUITO YOUNG CHALLENGE UISP \n  \n  \nLOCALITÀ: FORLI’ – Via Filippo Turati\, 17/19\, Forlì \n  \nDATA: Domenica 28 Gennaio 2024 \n  \nCATEGORIA: ASSOLUTI MEDIO LIVELLO \n  \nPROGRAMMA: \nMATTINA \nore 9.00 accesso impianto \n9.10 – 9.30 riscaldamento maschi \n9.30 – 9.50 riscaldamento femmine \nOre 10.00 inizio gare \nPOMERIGGIO \nore 14.30  accesso spogliatoio \nOre 14.50 – 15.00 riscaldamento maschi \nOre 15.00- 15.20 riscaldamento femmine \nOre 15.30 inizio gare \n  \nRISULTATI: https://www.goandswim.com/follow/PublicEvent.aspx?Event=df423bc5b40947c8ae26a9e2af21c812 \nCuffia e maglietta UNISPORT \n  \nALLENATORI: Brioni\, Paterlini\, Fabbricatore\, Ferri\, Giovanardi \n 
URL:https://www.coopernuoto.it/evento-sportivo/2-tappa-trofeo-young-challenge-28-01-24/
CATEGORIES:Assoluti medio livello
ATTACH;FMTTYPE=application/pdf:https://www.coopernuoto.it/cms/wp-content/uploads/2024/01/Convocazioni-CIRCUITO-YOUNG-CHALLENGE_2022-2023-UISP-1.pdf
END:VEVENT
BEGIN:VEVENT
DTSTART;TZID=Europe/Helsinki:20231219T080000
DTEND;TZID=Europe/Helsinki:20240107T170000
DTSTAMP:20260422T005209
CREATED:20231219T094129Z
LAST-MODIFIED:20231222T103737Z
UID:44955-1702972800-1704646800@www.coopernuoto.it
SUMMARY:NATALE 2023/2024 CORREGGIO
DESCRIPTION:ORARI ALLENAMENTI  NATALIZI \n  \nBuon Natale e Buone Feste a tutti!!
URL:https://www.coopernuoto.it/evento-sportivo/natale-2023-2024-correggio/
CATEGORIES:Assoluti medio livello,Esordienti A,Esordienti B
END:VEVENT
BEGIN:VEVENT
DTSTART;TZID=Europe/Helsinki:20231219T080000
DTEND;TZID=Europe/Helsinki:20240107T170000
DTSTAMP:20260422T005209
CREATED:20231219T093910Z
LAST-MODIFIED:20231222T104007Z
UID:44952-1702972800-1704646800@www.coopernuoto.it
SUMMARY:NATALE 2023/2024 PARMA
DESCRIPTION:ORARI ALLENAMENTI  NATALIZI \n  \nBuon Natale e Buone Feste a tutti!!
URL:https://www.coopernuoto.it/evento-sportivo/natale-2023-2024-parma/
CATEGORIES:Assoluti alto livello,Assoluti medio livello,Esordienti A,Esordienti B
END:VEVENT
BEGIN:VEVENT
DTSTART;TZID=Europe/Helsinki:20231219T080000
DTEND;TZID=Europe/Helsinki:20240107T170000
DTSTAMP:20260422T005209
CREATED:20231219T093736Z
LAST-MODIFIED:20231222T104615Z
UID:44949-1702972800-1704646800@www.coopernuoto.it
SUMMARY:NATALE 2023/2024 MIRANDOLA
DESCRIPTION:ORARI ALLENAMENTI  NATALIZI \n  \nBuon Natale e Buone Feste a tutti!
URL:https://www.coopernuoto.it/evento-sportivo/natale-2023-2024-mirandola/
CATEGORIES:Assoluti alto livello,Assoluti medio livello,Esordienti A,Esordienti B
END:VEVENT
BEGIN:VEVENT
DTSTART;TZID=Europe/Helsinki:20231219T080000
DTEND;TZID=Europe/Helsinki:20240107T170000
DTSTAMP:20260422T005209
CREATED:20231219T093536Z
LAST-MODIFIED:20231222T103241Z
UID:44945-1702972800-1704646800@www.coopernuoto.it
SUMMARY:NATALE 2023/2024 CARPI
DESCRIPTION:ORARI ALLENAMENTI  NATILIZI  \n  \nBuon Natale e Buone Feste a tutti!!
URL:https://www.coopernuoto.it/evento-sportivo/natale-2023-2024-carpi/
CATEGORIES:Assoluti alto livello,Assoluti medio livello,Esordienti A,Esordienti B
END:VEVENT
BEGIN:VEVENT
DTSTART;TZID=Europe/Helsinki:20231219T080000
DTEND;TZID=Europe/Helsinki:20240107T170000
DTSTAMP:20260422T005209
CREATED:20231219T093032Z
LAST-MODIFIED:20231222T104723Z
UID:44942-1702972800-1704646800@www.coopernuoto.it
SUMMARY:NATALE 2023/2024 NOVELLARA
DESCRIPTION:ORARI ALLENAMENTI  NATALIZI \n  \nBuona Natale e Buone Feste a tutti!!
URL:https://www.coopernuoto.it/evento-sportivo/natale-2023-2024-novellara/
CATEGORIES:Assoluti alto livello,Assoluti medio livello,Esordienti A,Esordienti B
END:VEVENT
BEGIN:VEVENT
DTSTART;TZID=Europe/Helsinki:20231208T140000
DTEND;TZID=Europe/Helsinki:20240831T200000
DTSTAMP:20260422T005209
CREATED:20231019T084008Z
LAST-MODIFIED:20231219T095014Z
UID:43927-1702044000-1725134400@www.coopernuoto.it
SUMMARY:CRCVC 1^ prova - RISULTATI
DESCRIPTION:MANIFESTAZIONE:       CRCVC – 1^prova \n  \n1° giornata: Venerdì 08/12 – CARPI \n\nRisultati  F\nRisultati  M\n\n  \n2° giornata: Sabato 09/12 – REGGIO EMILIA \n\nRisultati  F\nRisultati  M\n\n  \n3° giornata: Domenica 10/12 – PARMA \n\nRisultati  F\nRisultati  M\n\n  \n  \nCATEGORIE: ALTO LIVELLO e MEDIO LIVELLO \n 
URL:https://www.coopernuoto.it/evento-sportivo/campionato-regionale-di-categoria-vasca-corta-crcvc-1-prova/
CATEGORIES:Assoluti alto livello,Assoluti medio livello,Nuoto
ORGANIZER;CN="Coopernuoto Agonistica":MAILTO:agonistica@coopernuoto.it
END:VEVENT
BEGIN:VEVENT
DTSTART;TZID=Europe/Helsinki:20231105T000000
DTEND;TZID=Europe/Helsinki:20240630T235900
DTSTAMP:20260422T005209
CREATED:20231031T071644Z
LAST-MODIFIED:20231117T110630Z
UID:44165-1699142400-1719791940@www.coopernuoto.it
SUMMARY:1^ Tappa Young Challenge - RISULTATI
DESCRIPTION:MANIFESTAZIONE:  1^TAPPA CIRCUITO YOUNG CHALLENGE UISP \n  \nLOCALITÀ: CERVIA – P.le Val d’Isère 1 \n  \nDATA: Domenica 5 Novembre 2023 \n  \nCATEGORIA: MEDIO LIVELLO \n  \nrisultati mattino: http://www.goandswim.com/follow/PublicEvent.aspx?Event=df423bc5b40947c8ae26a9e2af21c812 \nrisultati pomeriggio: http://www.goandswim.com/follow/PublicEvent.aspx?Event=df423bc5b40947c8ae26a9e2af21c812
URL:https://www.coopernuoto.it/evento-sportivo/1-tappa-young-challenge/
LOCATION:cervia p.le Val d’Isère 1
CATEGORIES:Assoluti medio livello,Nuoto
ATTACH;FMTTYPE=application/pdf:https://www.coopernuoto.it/cms/wp-content/uploads/2023/10/Convocazioni-CIRCUITO-YOUNG-CHALLENGE_2023-2024-UISP.pdf
ORGANIZER;CN="Coopernuoto Agonistica":MAILTO:agonistica@coopernuoto.it
END:VEVENT
END:VCALENDAR