BEGIN:VCALENDAR
VERSION:2.0
PRODID:-//Coopernuoto - ECPv6.2.3.2//NONSGML v1.0//EN
CALSCALE:GREGORIAN
METHOD:PUBLISH
X-ORIGINAL-URL:https://www.coopernuoto.it
X-WR-CALDESC:Eventi per Coopernuoto
REFRESH-INTERVAL;VALUE=DURATION:PT1H
X-Robots-Tag:noindex
X-PUBLISHED-TTL:PT1H
BEGIN:VTIMEZONE
TZID:Europe/Helsinki
BEGIN:DAYLIGHT
TZOFFSETFROM:+0200
TZOFFSETTO:+0300
TZNAME:EEST
DTSTART:20250330T010000
END:DAYLIGHT
BEGIN:STANDARD
TZOFFSETFROM:+0300
TZOFFSETTO:+0200
TZNAME:EET
DTSTART:20251026T010000
END:STANDARD
END:VTIMEZONE
BEGIN:VEVENT
DTSTART;TZID=Europe/Helsinki:20250511T080000
DTEND;TZID=Europe/Helsinki:20251204T170000
DTSTAMP:20260422T122049
CREATED:20250205T112726Z
LAST-MODIFIED:20250304T124759Z
UID:50651-1746950400-1764867600@www.coopernuoto.it
SUMMARY:3° TAPPA YOUNG CHALLENGE - 11 MAGGIO 2025
DESCRIPTION:3° TAPPA YOUNG CHALLENGE – 11 MAGGIO 2025 \ndomenica pomeriggio \nDATA: 11/05/2025 \nLUOGO: Casalecchio (BO) \nCATEGORIA: Medio Livello \n  \nprogramma gare da definire
URL:https://www.coopernuoto.it/evento-sportivo/3-tappa-young-challenge-11-maggio-2025/
CATEGORIES:Assoluti medio livello
END:VEVENT
END:VCALENDAR