BEGIN:VCALENDAR
VERSION:2.0
PRODID:-//Coopernuoto - ECPv6.2.3.2//NONSGML v1.0//EN
CALSCALE:GREGORIAN
METHOD:PUBLISH
X-ORIGINAL-URL:https://www.coopernuoto.it
X-WR-CALDESC:Eventi per Coopernuoto
REFRESH-INTERVAL;VALUE=DURATION:PT1H
X-Robots-Tag:noindex
X-PUBLISHED-TTL:PT1H
BEGIN:VTIMEZONE
TZID:Europe/Helsinki
BEGIN:DAYLIGHT
TZOFFSETFROM:+0200
TZOFFSETTO:+0300
TZNAME:EEST
DTSTART:20250330T010000
END:DAYLIGHT
BEGIN:STANDARD
TZOFFSETFROM:+0300
TZOFFSETTO:+0200
TZNAME:EET
DTSTART:20251026T010000
END:STANDARD
BEGIN:DAYLIGHT
TZOFFSETFROM:+0200
TZOFFSETTO:+0300
TZNAME:EEST
DTSTART:20260329T010000
END:DAYLIGHT
BEGIN:STANDARD
TZOFFSETFROM:+0300
TZOFFSETTO:+0200
TZNAME:EET
DTSTART:20261025T010000
END:STANDARD
END:VTIMEZONE
BEGIN:VEVENT
DTSTART;TZID=Europe/Helsinki:20250531T080000
DTEND;TZID=Europe/Helsinki:20251224T170000
DTSTAMP:20260422T115903
CREATED:20250205T115119Z
LAST-MODIFIED:20250521T120738Z
UID:50661-1748678400-1766595600@www.coopernuoto.it
SUMMARY:TROFEO CITTA' DI MODENA - 31 MAGGIO 2025
DESCRIPTION:MANIFESTAZIONE: 49° Meeting Nazionale \nCittà di Modena – 4° Trofeo GdF Modena  \n  \nLOCALITÀ: MODENA – Piscina Comunale Dogali \n     Via Dogali\, 12 \n  \n  \nDATA: 31 Maggio 2025 \n  \n  \nCATEGORIE: ESO A \nSabato 31 Maggio inizio gare h 09.30\n50 dorso F Eso A-B\n50 rana M Eso A-B\n100 rana F Eso A-B\n100 dorso M Eso A-B\n100 stile libero F Eso A-B\n200 stile libero M Eso A-B\n400 stile libero F Eso A\n200 rana M Eso A\n200 misti F Eso A-B\n100 farfalla M Eso A-B\n50 farfalla F Eso A-B\n50 stile libero M Eso A-B\n200 dorso F Eso A\n200 farfalla M Eso A\n4×50 STILE F 2 A e 2 B\n4×50 STILE M 2 A e 2 B\n400 misti F Eso A\n400 misti M Eso A\n  \nSabato 31 Maggio inizio gare h 15.30\n50 dorso M Eso A-B\n50 rana F Eso A-B\n100 rana M Eso A-B\n100 dorso F Eso A-B\n100 stile libero M Eso A-B\n200 stile libero F Eso A-B\n400 stile libero M Eso A\n200 rana F Eso A\n200 misti M Eso A-B\n100 farfalla F Eso A-B\n50 farfalla M Eso A-B\n50 stile libero F Eso A-B\n200 dorso M Eso A\n200 farfalla F Eso A\n4×50 MISTA M 2 A e 2 B\n4×50 MISTA F 2 A e 2 B\n1500 stile M Eso A\n800 stile F Eso A\n  \nALLENATORI: Civa\, Valentini\, Martinelli\, Zonca\, Guareschi\, Foscato. \n  \n 
URL:https://www.coopernuoto.it/evento-sportivo/trofeo-citta-di-modena-31-maggio-2025/
CATEGORIES:Esordienti A
ATTACH;FMTTYPE=application/pdf:https://www.coopernuoto.it/cms/wp-content/uploads/2025/02/MANIFESTAZIONE-eso-A.pdf
END:VEVENT
BEGIN:VEVENT
DTSTART;TZID=Europe/Helsinki:20250620T080000
DTEND;TZID=Europe/Helsinki:20260113T170000
DTSTAMP:20260422T115903
CREATED:20250205T133117Z
LAST-MODIFIED:20250604T124545Z
UID:50675-1750406400-1768323600@www.coopernuoto.it
SUMMARY:VII TROFEO CITTA' DI CHIANCIANO - 20\, 21 E 22 GIUGNO 2025
DESCRIPTION:VII TROFEO CITTA’ DI CHIANCIANO – 20\, 21 E 22 GIUGNO 2025 \n  \nDATA: 20\, 21 e 22/06/2025 \nLUOGO: Chianciano (SI) \nCATEGORIA: Esordienti A \n  \nORARI PARTENZA/RIENTRO TRSFERTA: \nPartenza: venerdì 20/06 – ritrovo ore 7:00 parcheggio scambiatore Autostrada di Pr per gli atleti di Parma e/o Onda della Pietra. \nOre 7:30 piazzale Fiere di Mancasale (RE) per gli atleti di Novellara\, Reggio Emilia e/o Onda della Pietra \nOre 8:00 Piazzola di sosta via Cave di Ramo uscita Autostrada Mo Nord di fronte Steak House per gli atleti di Carpi e Mirandola. \nRientro: Domenica 22/06 – partenza da Pistoia nel pomeriggio\, arrivo parcheggio uscita Autostrada di Modena Nord\, successivamente piazzale Fiere di Mancasale (RE) e per ultimo parcheggio scambiatore uscita Autostrada di Parma.
URL:https://www.coopernuoto.it/evento-sportivo/vii-trofeo-citta-di-chianciano-20-21-e-22-giugno-2025/
CATEGORIES:Esordienti A
END:VEVENT
BEGIN:VEVENT
DTSTART;TZID=Europe/Helsinki:20251123T080000
DTEND;TZID=Europe/Helsinki:20260831T170000
DTSTAMP:20260422T115903
CREATED:20251029T143444Z
LAST-MODIFIED:20251126T132526Z
UID:54162-1763884800-1788195600@www.coopernuoto.it
SUMMARY:Torneo Inverno 1°Turno-1°Prova  23/11/25 - RISULTATI
DESCRIPTION:MANIFESTAZIONE: 1° Turno 1^ parte Torneo Inverno \nDATA: Domenica 23 Novembre 2025 \nLOCALITÀ: Moletolo (PR) – Via Luigi Anedda\, 23\, 43122. \nCATEGORIA: ES. A – ES. B   \nDIVISA: Polo e Cuffia COOPERNUOTO \n  \nRISULTATI:  https://www.goandswim.com/follow/PublicEvent.aspx?Event=925010ed193249c59513464c02002bb3 \n 
URL:https://www.coopernuoto.it/evento-sportivo/torneo-inverno-1turno-1prova-23-11-25/
CATEGORIES:Esordienti A,Esordienti B
ATTACH;FMTTYPE=application/pdf:https://www.coopernuoto.it/cms/wp-content/uploads/2025/10/MANIFESTAZIONE-1°-turno-1^parte.pdf
END:VEVENT
BEGIN:VEVENT
DTSTART;TZID=Europe/Helsinki:20251130T080000
DTEND;TZID=Europe/Helsinki:20260831T170000
DTSTAMP:20260422T115903
CREATED:20251029T144107Z
LAST-MODIFIED:20251203T144140Z
UID:54164-1764489600-1788195600@www.coopernuoto.it
SUMMARY:Torneo Inverno 1°Turno - 2° Parte  30/11/2025 - RISULTATI
DESCRIPTION:MANIFESTAZIONE: 1° Turno 2^ parte Torneo Inverno \nDATA: Domenica 30 Novembre 2025 \n  \nLOCALITÀ: Piscina Melato (RE) – Via Maria Melato\, 42122. \nCATEGORIA: ES. A – ES. B  \n  \nDIVISA: Polo e Cuffia COOPERNUOTO \n  \nRISULTATI: https://www.goandswim.com/follow/PublicEvent.aspx?Event=925010ed193249c59513464c02002bb3 \n 
URL:https://www.coopernuoto.it/evento-sportivo/torneo-inverno-1turno-2-parte-30-11-2025/
CATEGORIES:Esordienti A,Esordienti B
ATTACH;FMTTYPE=application/pdf:https://www.coopernuoto.it/cms/wp-content/uploads/2025/10/MANIFESTAZIONE-1°-turno-2^-parte-1.pdf
END:VEVENT
BEGIN:VEVENT
DTSTART;TZID=Europe/Helsinki:20251214T080000
DTEND;TZID=Europe/Helsinki:20260831T170000
DTSTAMP:20260422T115903
CREATED:20251029T150108Z
LAST-MODIFIED:20260114T110355Z
UID:54176-1765699200-1788195600@www.coopernuoto.it
SUMMARY: Coppa di Natale Torneo Invernale Esordienti - 14/12/25 - RISULTATI
DESCRIPTION: Coppa di Natale Torneo Invernale Esordienti \n  \nLOCALITÀ: Piscina O. Campedelli – Piazzale delle\nPiscine\, 4 – Carpi (Mo)\nDATA: 14 Dicembre 2025\nCATEGORIE: Finalisti Esordienti A e B \n  \nPROGRAMMA GARE:\nORARI INDICATIVI DELLA MANIFESTAZIONE\n14:30 riscaldamento eso B\n15:10 inizio gare ES. B\n16:40 riscaldamento eso A (+ premiazioni ES. B)\n17:20 inizio gare ES. A \n  \nRISULTATI: https://www.goandswim.com/follow/PublicEvent.aspx?Event=fc1f7cf3ebef40d1a3fa19b3a0655c7b
URL:https://www.coopernuoto.it/evento-sportivo/finale-coppa-inverno-14-12-25/
CATEGORIES:Esordienti A,Esordienti B
ATTACH;FMTTYPE=application/pdf:https://www.coopernuoto.it/cms/wp-content/uploads/2025/10/MANIFESTAZIONE-3.pdf
END:VEVENT
END:VCALENDAR