BEGIN:VCALENDAR
VERSION:2.0
PRODID:-//Coopernuoto - ECPv6.2.3.2//NONSGML v1.0//EN
CALSCALE:GREGORIAN
METHOD:PUBLISH
X-ORIGINAL-URL:https://www.coopernuoto.it
X-WR-CALDESC:Eventi per Coopernuoto
REFRESH-INTERVAL;VALUE=DURATION:PT1H
X-Robots-Tag:noindex
X-PUBLISHED-TTL:PT1H
BEGIN:VTIMEZONE
TZID:Europe/Helsinki
BEGIN:DAYLIGHT
TZOFFSETFROM:+0200
TZOFFSETTO:+0300
TZNAME:EEST
DTSTART:20240331T010000
END:DAYLIGHT
BEGIN:STANDARD
TZOFFSETFROM:+0300
TZOFFSETTO:+0200
TZNAME:EET
DTSTART:20241027T010000
END:STANDARD
BEGIN:DAYLIGHT
TZOFFSETFROM:+0200
TZOFFSETTO:+0300
TZNAME:EEST
DTSTART:20250330T010000
END:DAYLIGHT
BEGIN:STANDARD
TZOFFSETFROM:+0300
TZOFFSETTO:+0200
TZNAME:EET
DTSTART:20251026T010000
END:STANDARD
BEGIN:DAYLIGHT
TZOFFSETFROM:+0200
TZOFFSETTO:+0300
TZNAME:EEST
DTSTART:20260329T010000
END:DAYLIGHT
BEGIN:STANDARD
TZOFFSETFROM:+0300
TZOFFSETTO:+0200
TZNAME:EET
DTSTART:20261025T010000
END:STANDARD
END:VTIMEZONE
BEGIN:VEVENT
DTSTART;TZID=Europe/Helsinki:20241215T080000
DTEND;TZID=Europe/Helsinki:20251002T170000
DTSTAMP:20260422T145354
CREATED:20241023T112526Z
LAST-MODIFIED:20250107T122403Z
UID:49105-1734249600-1759424400@www.coopernuoto.it
SUMMARY:TROFEO CITTA' DI REGGIO EMILIA - 15/12/2024 - RISULTATI
DESCRIPTION:TROFEO CITTA’ DI REGGIO EMILIA 15/12/2024 \nLUOGO: Reggio Emilia \nCATEGORIE: ESORDIENTI B \n  \nDOMENICA MATTINA:  \nInizio riscaldamento FEMMINILE: 8.00 \nInizio riscaldamento MASCHILE: 8.15 \nInizio manifestazione : 8.45 \nPROGRAMMA GARE: 100 misti\, 50 farfalla\, 100 dorso\, 50 rana\, 100 stile\, 100 farfalla\, 50 dorso\, 100 rana\, 50 stile. \n  \nRISULTATI: https://www.coopernuoto.it/cms/wp-content/uploads/2024/10/Riepilogo-risultati-esordienti-Reggio-Emilia.pdf  \n 
URL:https://www.coopernuoto.it/evento-sportivo/trofeo-citta-di-reggio-emilia-15-12-2024-2/
LOCATION:Piscina Melato Reggio Emilia\, Via Melato\, 2\, Reggio Emilia\, Italia
CATEGORIES:Esordienti B,Nuoto
ATTACH;FMTTYPE=application/pdf:https://www.coopernuoto.it/cms/wp-content/uploads/2024/10/locandina-es.b.pdf
END:VEVENT
BEGIN:VEVENT
DTSTART;TZID=Europe/Helsinki:20241222T080000
DTEND;TZID=Europe/Helsinki:20250909T170000
DTSTAMP:20260422T145354
CREATED:20241023T113213Z
LAST-MODIFIED:20250107T124806Z
UID:49107-1734854400-1757437200@www.coopernuoto.it
SUMMARY:COPPA DI NATALE TORNEO INVERNO ESORDIENTI 22/12/2024 - RISULTATI
DESCRIPTION:FINALE TORNEO INVERNO ESORDIENTI 22/12/2024  \nLUOGO: Carpi (MO) \nRISULTATI: https://nuoto.ficr.it/#/NUO/programma/COPPA%20DI%20NATALE%20TORNEO%20INVERNALE%20ESORDIENTI/2024/83/4830
URL:https://www.coopernuoto.it/evento-sportivo/coppa-di-natale-torneo-inverno-esordienti-22-12-2024/
LOCATION:Piscina Coopernuoto Carpi\, P.le delle piscine 4\, Carpi\, 41012\, Italia
CATEGORIES:Esordienti A,Esordienti B,Nuoto
END:VEVENT
BEGIN:VEVENT
DTSTART;TZID=Europe/Helsinki:20250112T080000
DTEND;TZID=Europe/Helsinki:20250831T170000
DTSTAMP:20260422T145354
CREATED:20241119T122123Z
LAST-MODIFIED:20250312T113719Z
UID:49455-1736668800-1756659600@www.coopernuoto.it
SUMMARY:COMBINATA DEGLI STILI e TROFEO STAFFETTE - 12/01/2025 1° TAPPA - RISULTATI
DESCRIPTION:MANIFESTAZIONE: COMBINATA DEGLI STILI 2024/25 \n  \nLOCALITÀ:  Piscina Comunale Reggio Emilia Via Maria Melato \n  \nDATA: Domenica 12 Gennaio 2025 \n  \n CATEGORIA: Esordienti B \n  \nPROGRAMMA GARE:   \nRiscaldamento: Femmine 15.30 – 15.45 \nMaschi 15.45 – 16.00 \nInizio gare 16.10 \n  \nSTAFFETTE 4X25/4X50 STILE LIBERO \n25/50 DORSO – 25/50 STILE LIBERO \nSTAFFETTE 4X25/4X50 MISTI \n  \nRISULTATI: https://www.goandswim.com/follow/PublicEvent.aspx?Event=eedac0253319445eb2c54746a126edc5 \n  \n 
URL:https://www.coopernuoto.it/evento-sportivo/combinata-degli-stili-e-trofeo-staffette-12-01-2025/
CATEGORIES:Esordienti B
ATTACH;FMTTYPE=application/pdf:https://www.coopernuoto.it/cms/wp-content/uploads/2024/11/convocazione-1.pdf
END:VEVENT
BEGIN:VEVENT
DTSTART;TZID=Europe/Helsinki:20250119T080000
DTEND;TZID=Europe/Helsinki:20250831T170000
DTSTAMP:20260422T145354
CREATED:20241121T135052Z
LAST-MODIFIED:20250312T114510Z
UID:49489-1737273600-1756659600@www.coopernuoto.it
SUMMARY:2° TURNO 1° PARTE TORNEO INVERNO - 19/01/2025 - RISULTATI
DESCRIPTION:2° TURNO 1° PARTE TORNEO INVERNO – 19/01/2025 \nDomenica Pomeriggio \nCATEGORIA: Esordienti B e Esordienti A \nLUOGO: Moletolo (PR) \nPROGRAMMA GARE: \nESORDIENTI B: riscaldamento ore 14:00 – 14:25 \nInizio gare ore: 14:35 \nFine gare ore: 16:35 \n  \nESORDIENTI A: riscaldamento ore: 16:35 – 17:00 \nIniziò gare ore : 17:10 \nFine gare: 19:10 \n  \nRISULTATI: https://www.goandswim.com/follow/PublicEvent.aspx?Event=cb0612f8ea4e4510a367bcddbef23a5c
URL:https://www.coopernuoto.it/evento-sportivo/2-turno-1-parte-torneo-inverno-19-01-2025/
CATEGORIES:Esordienti A,Esordienti B
END:VEVENT
BEGIN:VEVENT
DTSTART;TZID=Europe/Helsinki:20250126T080000
DTEND;TZID=Europe/Helsinki:20250831T170000
DTSTAMP:20260422T145354
CREATED:20241121T135545Z
LAST-MODIFIED:20250312T114608Z
UID:49493-1737878400-1756659600@www.coopernuoto.it
SUMMARY:2° TURNO 2° PARTE TORNEO INVERNO - 26/01/2025 - RISULTATI
DESCRIPTION:2° TURNO 2° PARTE TORNEO INVERNO – 26/01/2025 \nDomenica Pomeriggio \n  \nCATEGORIA: Esordienti B e Esordienti A \nLUOGO: Carpi (MO) \nPROGRAMMA GARE: \n  \nESORDIENTI A: riscaldamento ore 14:00 – 14:25 \nInizio gare: 14:35 \nFine gare: 16:35 \n  \nESORDIENTI B: riscaldamento ore 16:35 – 17:00 \nInizio gare 17:10 \nFine gare 19:00 \n  \nRISULTATI: https://www.goandswim.com/follow/PublicEvent.aspx?Event=cb0612f8ea4e4510a367bcddbef23a5c
URL:https://www.coopernuoto.it/evento-sportivo/2-turno-2-parte-torneo-inverno-26-01-2025/
CATEGORIES:Esordienti A,Esordienti B
ATTACH;FMTTYPE=application/pdf:https://www.coopernuoto.it/cms/wp-content/uploads/2024/11/convocazione-26.01-1.pdf
END:VEVENT
BEGIN:VEVENT
DTSTART;TZID=Europe/Helsinki:20250202T080000
DTEND;TZID=Europe/Helsinki:20250831T170000
DTSTAMP:20260422T145354
CREATED:20241119T122406Z
LAST-MODIFIED:20250312T114150Z
UID:49459-1738483200-1756659600@www.coopernuoto.it
SUMMARY:COMBINATA DEGLI STILI e TROFEO STAFFETTE - 02/02/2025 2° TAPPA - RISULTATI
DESCRIPTION:MANIFESTAZIONE: COMBINATA DEGLI STILI 2024/25 \n  \nLOCALITÀ:  Piscina Comunale Reggio Emilia Via Maria Melato \n  \nDATA: Domenica 02 Febbraio 2025 \n  \nCATEGORIA: Esordienti B \n  \nPROGRAMMA GARE:   \nRiscaldamento: Femmine 10.00 -10.20 \nMaschi 10.20 – 10.40 \nInizio gare 10.45 \n  \nMISTAFFETTA 4X25/4X50 STILE LIBERO \n25/50 FARFALLA – 25/50 RANA \nMISTAFFETTA 4X25/4X50 MISTI \n  \nRISULTATI: https://www.goandswim.com/follow/PublicEvent.aspx?Event=eedac0253319445eb2c54746a126edc5 \n 
URL:https://www.coopernuoto.it/evento-sportivo/combinata-degli-stili-e-trofeo-staffette-02-02-2025-2-tappa/
CATEGORIES:Esordienti B
ATTACH;FMTTYPE=application/pdf:https://www.coopernuoto.it/cms/wp-content/uploads/2024/11/CONVOCAZIONE.pdf
END:VEVENT
BEGIN:VEVENT
DTSTART;TZID=Europe/Helsinki:20250205T080000
DTEND;TZID=Europe/Helsinki:20250831T170000
DTSTAMP:20260422T145354
CREATED:20250205T111541Z
LAST-MODIFIED:20250211T133303Z
UID:50641-1738742400-1756659600@www.coopernuoto.it
SUMMARY:2° TROFEO INDOOR BALDESIO - 27 Aprile 2025
DESCRIPTION:2° TROFEO INDOOR BALDESIO – 27 Aprile 2025 \nmattina \nDATA: 27 Aprile 2025 \nLUOGO: Cremona\, Piscina Comunale\, Piazzale Azzurri d’Italia. \nCATEGORIA: Esordienti B e Esordienti A \nPROGRAMMA GARE:  \nRiscaldamento ore: 8.00 – 8.45 \ninizio gare ore 9.00 \n  \n200 SL\, 50 FA\, 50 DO\, 50 RA\, 50 SL\, 100 MX\, 100 FA\, 100 DO\, 100 RA\, 100 SL
URL:https://www.coopernuoto.it/evento-sportivo/32-trofeo-camparini-27-aprile-2025/
CATEGORIES:Esordienti A,Esordienti B
END:VEVENT
BEGIN:VEVENT
DTSTART;TZID=Europe/Helsinki:20250205T080000
DTEND;TZID=Europe/Helsinki:20250831T170000
DTSTAMP:20260422T145354
CREATED:20250205T132432Z
LAST-MODIFIED:20250605T121703Z
UID:50671-1738742400-1756659600@www.coopernuoto.it
SUMMARY:CAMPIONATI ITALIANI UISP - 13\, 14 e 15 GIUGNO 2025
DESCRIPTION:CAMPIONATI ITALIANI UISP – 13\, 14 e 15 GIUGNO 2025 \n  \nDATA: 13\,14 e 15/06/2025 \nLUOGO: Riccione \nCATEGORIA: Esordienti C\, Esordienti B e Medio Livello  \n  \nCATEGORIA: ESO C  \nVenerdì 13 giugno 2025  \npomeriggio  \nVasca mt.25 interna femmine: riscaldamento 14\,00 – 14\,20 \nVasca mt.25 interna maschi: riscaldamento 14\,30 – 14\,50 \nInizio Gare 15\,00 \n25 Rana – 50 Dorso – 4×50 stile libero \nSabato 14 Giugno 2025 \nMattina  \nVasca mt.25 interna femmine: riscaldamento 8\,00 – 8\,20 \nVasca mt.25 interna maschi: riscaldamento 8\,30 – 8\,50 \nInizio Gare ore 9:00 \n25 Dorso – 100 Misti – 100 Rana  \npomeriggio  \nVasca mt.25 interna femmine: riscaldamento 14\,00 – 14\,20 \nVasca mt.25 interna maschi: riscaldamento 14\,50 – 15\,10 \nInizio Gare 15\,15 \n25 stile libero – 100 stile libero – 50 farfalla – 4×50 mista \nDomenica 15 Giugno 2024  \nMattina  \nVasca mt.25 interna femmine: riscaldamento 8\,00 – 8\,20 \nVasca mt.25 interna maschi: riscaldamento 8\,30 – 8\,50 \nInizio Gare ore 9:00 \n25 Farfalla – 100 Dorso – 50 stile libero – staffetta 4×50 mistaffetta mista \n  \n  \nCATEGORIA ESO B e MEDIO LIVELLO \nPartenza CON AUTOBUS Borghi Viaggi: venerdì 13/06 ore 7.00 dal parcheggio scambiatore Autostrada di Parma per gli atleti di Parma\, ore 7.30 dal piazzale Fiere di Mancasale (RE) per gli atleti di Novellara e Correggio e per gli atleti di Carpi e Mirandola ore 8.00 dalla Piazzola di sosta via Cave di Ramo uscita Autostrada Mo Nord di fronte Steak House  \nRientro : Domenica 15/06 – rientro nel pomeriggio con arrivo parcheggio uscita Autostrada di Modena Nord\, successivamente piazzale Fiere di Mancasale (RE) e per ultimo parcheggio scambiatore uscita Autostrada di Parma. Gli orari di rientro verranno comunicati successivamente dagli allenatori di riferimento. \n  \n  \nCuffia e maglietta UNISPORT \n  \nALLENATORI: Sberveglieri\, Guareschi\, Ferri\, Bertacchi\, Baraldi\, Pala\, Mammi\, Varini\, Zonca\, Brioni\, Martinelli\, Paterlini\, Zilioli\, Fabbricatore\, Mencarelli.
URL:https://www.coopernuoto.it/evento-sportivo/campionati-italiani-uisp-13-14-e-15-giugno-2025/
CATEGORIES:Assoluti medio livello,Esordienti B,Esordienti C
ATTACH;FMTTYPE=application/pdf:https://www.coopernuoto.it/cms/wp-content/uploads/2025/02/convocazione-eso-c.pdf
END:VEVENT
BEGIN:VEVENT
DTSTART;TZID=Europe/Helsinki:20250302T080000
DTEND;TZID=Europe/Helsinki:20250928T170000
DTSTAMP:20260422T145354
CREATED:20241121T142651Z
LAST-MODIFIED:20250312T114835Z
UID:49514-1740902400-1759078800@www.coopernuoto.it
SUMMARY:3° TURNO 1° e 2° PARTE TORNEO INVERNO - 02/03/2025 - RISULTATI
DESCRIPTION:MANIFESTAZIONE:  3° Turno Torneo Inverno \nDATA: Domenica 02 Marzo 2025 \nCATEGORIA: ES. A – ES. B  \nLOCALITÀ e PROGRAMMA GARE:  \n  \n\ndomenica mattina: Reggio Emilia\, via Maria Melato (RE)\, 42122     \n\nES. B                                                        ES. A \nRiscaldamento: 08.00-08.25                        Riscaldamento: 10.20-10.45 \nInizio gare: 08.35                                             Inizio gare: 10.55 \nFine gare: 10.35                                                Fine gare: 13.05 \n  \n  \n\ndomenica pomeriggio: Parma\, via Luigi Anedda\, 23/A\, 43122\n\nES. B                                                      ES. A  \nRiscaldamento: 15.00-15.25                         Riscaldamento: 17.00-17.25 \nInizio gare: 15.35                                          Inizio gare: 17.35 \nFine gare: 17.15                                            Fine gare: 19.50 \n  \nRISULTATI: https://www.goandswim.com/follow/PublicEvent.aspx?Event=434c5114148f40c59faa3767b56f7631
URL:https://www.coopernuoto.it/evento-sportivo/3-turno-2-parte-torneo-inverno-02-03-2025/
CATEGORIES:Esordienti A,Esordienti B
ATTACH;FMTTYPE=application/pdf:https://www.coopernuoto.it/cms/wp-content/uploads/2024/11/convocazione-7.pdf
END:VEVENT
BEGIN:VEVENT
DTSTART;TZID=Europe/Helsinki:20250309T080000
DTEND;TZID=Europe/Helsinki:20250831T170000
DTSTAMP:20260422T145354
CREATED:20241121T144624Z
LAST-MODIFIED:20250312T114042Z
UID:49537-1741507200-1756659600@www.coopernuoto.it
SUMMARY:FINALE COMBINATA DEGLI STILI e TROFEO STAFFETTE - 09/03/2025 - RISULTATI
DESCRIPTION:FINALE COMBINATA DEGLI STILI e TROFEO STAFFETTE – 09/03/2025 \nLOCALITÀ: Piscina Comunale di Mirandola – via Dorando Pietri\, 9 \n  \nDATA: Domenica 9 marzo 2025 \n  \nCATEGORIA: Finalisti Esordienti B \n  \nPROGRAMMA GARE:   \n  \nCOMBINATA  \naccesso impianto ore 13.45 \nore 14.00 riscaldamento ESO B1 \nore 14.20 riscaldamento ESO B2 \nore 14.50 INIZIO GARE \n  \nTROFEO STAFFETTE  \naccesso impianto ore 15.50 \nore 16.00 riscaldamento ESO B \nore 16.50 INIZIO GARE \n  \n  \nCuffia e maglietta UNISPORT \n  \n RISULTATI: https://www.goandswim.com/follow/PublicEvent.aspx?Event=285366e59ab04869b0f9ab54e79e02b3 \n  \nFINALSITI COMBINATA DEGLI STILI \nPELLACANI LAURA           100 MX 2:54:80 \nSALCUNI TOMMASO      100 MX 2:36:80 \nBARBIERI LORENZO         100 MX 2:42:80 \nTONONI GIORGIA            2^ RISERVA 100 MX B1 \nRUGGERI MATILDE          1^ RISERVA 100 MX B2 \n  \nSTAFFETTE FINALISTE  \n4×50 SL FEMMINE \nRUGGERI – PELLACANI – TAHA SCACCHETTI – LANCELLOTTI         2:32:10 \nFARRI – CASADIO – BAGNOLI – MARCHINI             2:40:80 \n4×50 SL MASCHI \nBARBIERI – SALCUNI – PELLONI – TIRABASSI       2:20:40 \nPEZZINI – GHERRI – DALLAGLIO – SALUCCI            2:31:20 \n4×50 MX FEMMINE \nRUGGERI – LANCELLOTTI – PELLACANI – TAHA SCACCHETTI         2:59:40 \nCASADIO – MARCHINI – FARRI – BAGNOLI            3:10:60 \n4×50 MX MASCHI \nSALCUNI – PELLONI – BARBIERI – TIRABASSI        2:38:00 \nGHERRI – FORASTIERI – DALLAGLIO – PEZZINI    3:05:90 \n4×50 SL MIXED \nBARBIERI – PELLACANI – SALCUNI – RUGGERI     2:20:70 \nPEZZINI – FARRI – TIRABASSI – LANCELLOTTI       2:30:10 \n4×50 MX MIXED \nSALCUNI – LANCELLOTTI – PELLACANI – BARBIERI             2:46:30 \nGHERRI – TIRABASSI – FASSI – RUGGERI                2:57:20
URL:https://www.coopernuoto.it/evento-sportivo/finale-combinata-degli-stili-e-trofeo-staffette-09-03-2025/
CATEGORIES:Esordienti B
ATTACH;FMTTYPE=application/pdf:https://www.coopernuoto.it/cms/wp-content/uploads/2024/11/CONVOCAZIONE-4.pdf
END:VEVENT
BEGIN:VEVENT
DTSTART;TZID=Europe/Helsinki:20250322T080000
DTEND;TZID=Europe/Helsinki:20250831T170000
DTSTAMP:20260422T145354
CREATED:20241121T145235Z
LAST-MODIFIED:20250604T132653Z
UID:49541-1742630400-1756659600@www.coopernuoto.it
SUMMARY:FINALI TORNEO INVERNO - 22 e 23/03/2025 - RISULTATI
DESCRIPTION:FINALI TORNEO INVERNO – 22 e 23/03/2025 \n  \nCATEGORIA: Finalisti Esordienti B e Finalisti Esordienti A \nLUOGO: Riccione \n  \nRISULTATI:  https://www.goandswim.com/follow/PublicEvent.aspx?Event=125d715787b846e6b9943577793a6f9a
URL:https://www.coopernuoto.it/evento-sportivo/finali-torneo-inverno-22-e-23-03-2025/
CATEGORIES:Esordienti A,Esordienti B
END:VEVENT
BEGIN:VEVENT
DTSTART;TZID=Europe/Helsinki:20250406T080000
DTEND;TZID=Europe/Helsinki:20250831T170000
DTSTAMP:20260422T145354
CREATED:20241119T122643Z
LAST-MODIFIED:20250402T121044Z
UID:49461-1743926400-1756659600@www.coopernuoto.it
SUMMARY:Camp. Interprovinciali UISP - 06/04/2025
DESCRIPTION:MANIFESTAZIONE: CAMPIONATO INTERPROVINCIALE fase di qualificazione Campionati Regionali UISP \n  \nLOCALITÀ: MOLETOLO PR– Centro Sportivo Coopernuoto Piscine e Palestre – via L. Anedda\, 23 \n  \nDATA: Domenica 06 Aprile 2025 \n  \nCATEGORIA: Esordienti C e B \nPROGRAMMA: \n  \nEs C e Giovanissimi femmine e maschi insieme: \nRiscaldamento dalle 13.45 alle 14.15 \nInizio Manifestazione ore 14.15 \n25 DF\, 50 DO\, 100 MIX\, 50 RA\, 50 SL. \n  \nEs. B femmine e maschi insieme: \nRiscaldamento dalle 16.00 alle 16.30 \nInizio Manifestazione ore 16.30 \n50/100 DF\, 50/100 DO\, 100 MIX\, 200 MIX\, 50/100 RA\, 50/100 SL. \n  \nCuffia e maglietta UNISPORT \n  \nALLENATORI: Erica Varini\, Francesca Mammi\, Gessica Ferroni\, Martina Baraldi\, Filippo Baccarani\, Alessia Bertacchi\, Angelo Fabricatore\, Pietro Rosi\, Marcello Zilioli\, \nSilvia Sberveglieri\, Ascari Luca\, Nicola Martinelli\, Federico Mencarelli\, Fausto Foscato. \n  \n 
URL:https://www.coopernuoto.it/evento-sportivo/provinciali-di-nuoto-uisp-13-04-2025/
CATEGORIES:Esordienti B,Esordienti C
ATTACH;FMTTYPE=application/pdf:https://www.coopernuoto.it/cms/wp-content/uploads/2024/11/convocazione-8.pdf
END:VEVENT
BEGIN:VEVENT
DTSTART;TZID=Europe/Helsinki:20250406T080000
DTEND;TZID=Europe/Helsinki:20250831T170000
DTSTAMP:20260422T145354
CREATED:20241121T150002Z
LAST-MODIFIED:20250402T121514Z
UID:49547-1743926400-1756659600@www.coopernuoto.it
SUMMARY:TORNEO A SQUADRE ESORDIENTI - 06/04/2025
DESCRIPTION:MANIFESTAZIONE: Torneo a squadre Esordienti \nDATA: 6 aprile 2025 \nCATEGORIA: selezione ES. A – ES. B  \nLOCALITA’: Piscina O. Campedelli\, Carpi  \nPROGRAMMA GARE:  \n RISC.FEMMINE 14.30-14.55 \nRISC.MASCHI 14.55-15.20 \n  \nINIZIO GARE 15.30 \n  \nPausa di riscaldamento di 15 minuti tra la prima e la seconda parte (dopo la gara num.11 – 100 mx es.B) \n  \n\n\n\n1. 4×50 stile libero B\n12. 200 misti A\n\n\n2. 4×50 stile libero A\n13. 100 dorso B\n\n\n3. 100 rana B\n14. 200 dorso A\n\n\n4. 200 rana A\n15. 50 rana B\n\n\n5. 50 dorso B\n16. 100 rana A\n\n\n6. 100 dorso A\n17. 100 farfalla B\n\n\n7. 50 farfalla B\n18. 200 farfalla A\n\n\n8. 100 farfalla A\n19. 100 stile libero B\n\n\n9. 50 stile libero B\n20. 200 stile libero A\n\n\n10. 100 stile libero A\n21. 4×50 mista B\n\n\n11. 100 misti B\n22. 4×50 mista A\n\n\n\n  \n  \nALLENATORI: Mattia Valentini\, Eleonora Guareschi \n  \nDIVISA: Polo e Cuffia COOPERNUOTO \n  \n  \nATLETI CONVOCATI \n  \nFarri Alice \nLancellotti Ludovica \nPellacani Laura \nTaha Scacchetti Coralie \nTononi Giorgia \n  \nBarbieri Lorenzo \nPezzini Ryan \nGherri Emanuele \nPelloni Federico \nSalcuni Tommaso \nTirabassi Elia \n  \nCortigiani Edoardo \nFerretti DeVirgilis Emanuele \nForapani Paolo \nGazzini Fabio \nGuaitoli Alessandro \nGualtieri Lorenzo \nMaresi Leonardo \nNeri Alessandro \nSomma Francesco Renato
URL:https://www.coopernuoto.it/evento-sportivo/finale-a-squadre-torneo-inverno-06-04-2025/
CATEGORIES:Esordienti A,Esordienti B
ATTACH;FMTTYPE=application/pdf:https://www.coopernuoto.it/cms/wp-content/uploads/2024/11/convocazione-9.pdf
END:VEVENT
BEGIN:VEVENT
DTSTART;TZID=Europe/Helsinki:20250413T080000
DTEND;TZID=Europe/Helsinki:20251010T170000
DTSTAMP:20260422T145354
CREATED:20250304T122425Z
LAST-MODIFIED:20250409T122406Z
UID:51029-1744531200-1760115600@www.coopernuoto.it
SUMMARY:III MEMORIAL O. ZAZZARINI - 13/04/2025
DESCRIPTION:MANIFESTAZIONE:     3°Memorial O. Zazzarini \n  \nLOCALITÀ: SASSUOLO\, Via Ippolito Nievo 12\, Sassuolo (MO) \n  \nDATA: 13 APRILE 2025 \n  \nCATEGORIE: ESORDIENTI A e B \n  \nPROGRAMMA \n  \nMATTINO: \nRiscaldamento Femmine: Ore 8.00 – 8.25 \nRiscaldamento Maschi: Ore 8.25 – 8.50 \nInizio Gare: Ore 9.00 \n  \n50 DO F – 50 RA M – 100 RA F – 100 DO M – 100 SL F – 200 SL M – 200 MX F – 100 FA M – 100 MX F- 50 SL M – 50 FA F – 4X50 MX \n  \nPOMERIGGIO \nInizio Riscaldamento Maschi: Ore 14.00 – 14.25 \nRiscaldamento Femmine: Ore 14.25 – 14.50 \nInizio Gare: Ore 15.00 \n  \n50 DO M – 50 RA F – 100 RA M – 100 DO F – 100 SL M – 200 SL F – 200 MX M – 100 FA F- 100 MX M – 50 SL F – 50 FA M – 4X50 SL \n  \nALLENATORI: Bertacchi\, Valentini\, Varini\, Gualdi\, Zonca\, Zilioli\, Guareschi\, Martinelli\, Foscato.
URL:https://www.coopernuoto.it/evento-sportivo/iii-memorial-o-zazzarini-13-04-2025/
CATEGORIES:Esordienti A,Esordienti B
ATTACH;FMTTYPE=application/pdf:https://www.coopernuoto.it/cms/wp-content/uploads/2025/03/convocazione-1.pdf
END:VEVENT
BEGIN:VEVENT
DTSTART;TZID=Europe/Helsinki:20250427T080000
DTEND;TZID=Europe/Helsinki:20250831T170000
DTSTAMP:20260422T145354
CREATED:20250304T123313Z
LAST-MODIFIED:20250304T123313Z
UID:51033-1745740800-1756659600@www.coopernuoto.it
SUMMARY:2° TROFEO BALDESIO - 27/04/2025
DESCRIPTION:2° TROFEO BALDESIO – 27/04/2025 \n  \nDATA: 27/04/2025 \nLUOGO: Cremona \nCATEGORIA: Esordienti B e Esordienti A \n  \nprogramma gare ed orari da definire
URL:https://www.coopernuoto.it/evento-sportivo/2-trofeo-baldesio-27-04-2025/
CATEGORIES:Esordienti A,Esordienti B
END:VEVENT
BEGIN:VEVENT
DTSTART;TZID=Europe/Helsinki:20250518T080000
DTEND;TZID=Europe/Helsinki:20250831T170000
DTSTAMP:20260422T145354
CREATED:20250205T114414Z
LAST-MODIFIED:20250508T124416Z
UID:50655-1747555200-1756659600@www.coopernuoto.it
SUMMARY:CREA-CREB - 18 MAGGIO 2025
DESCRIPTION:MANIFESTAZIONE: \nCREA CREB \nDATA: Domenica 18 Maggio 2025 \n  \nLOCALITÀ: Carpi – Piazzale delle piscine\, 4\, 41012 Carpi (MO) \n  \nCATEGORIA: ES. A – ES. B NU – ES. B AQD \n  \nMATTINA \n  \nEso B. Riscaldamento: 8.30 – 8.55 \nINIZIO GARE ore 9.05 – TERMINE GARE ore 10.50 \n  \nEso A. Riscaldamento: 10.50 – 11.15 \nINIZIO GARE ore 11.35 TERMINE GARE ore 13.00 \n  \n  \nPOMERIGGIO \n  \nEso B. Riscaldamento: 14.30 -14.55 \nINIZIO GARE ore 15.05 TERMINE GARE ore 16.05 \n  \nEso A. Riscaldamento: 16.05 – 16.30 \nINIZIO GARE ore 16.40 TERMINE GARE ore 18.30 \n  \nPolo e cuffia COOPERNUOTO \n  \nALLENATORI: Civa\, Ferroni\, Bertacchi\, Valentini\, Guareschi\, Martinelli\, Zilioli\, Zonca\, Foscato. \n 
URL:https://www.coopernuoto.it/evento-sportivo/crea-creb-18-maggio-2025/
CATEGORIES:Esordienti A,Esordienti B
ATTACH;FMTTYPE=application/pdf:https://www.coopernuoto.it/cms/wp-content/uploads/2025/02/convocazione-18-maggio-1.pdf
END:VEVENT
BEGIN:VEVENT
DTSTART;TZID=Europe/Helsinki:20250525T080000
DTEND;TZID=Europe/Helsinki:20251218T170000
DTSTAMP:20260422T145354
CREATED:20250205T114707Z
LAST-MODIFIED:20250507T121757Z
UID:50657-1748160000-1766077200@www.coopernuoto.it
SUMMARY:CREA-CREB - 25 MAGGIO 2025
DESCRIPTION:MANIFESTAZIONE: \nCREA CREB \n  \nDATA: Domenica 25 Maggio 2025 \n  \nLOCALITÀ: Parma – Via Luigi Anedda\, 23\, 43122 Parma (PR) \n  \nCATEGORIA: ES. A – ES. B NU – ES. B AQD \n  \nMATTINA \n  \nEso B. Riscaldamento: 8.30 – 8.55 \nINIZIO GARE ore 9.05 – TERMINE GARE ore 11.05 \n  \nEso A. Riscaldamento: 11.05 – 11.30 \nINIZIO GARE ore 11.40 TERMINE GARE ore 12.40 \n  \n  \nPOMERIGGIO \n  \nEso B. Riscaldamento: 14.30 -14.55 \nINIZIO GARE ore 15.05 TERMINE GARE ore 16.40 \n  \nEso A. Riscaldamento: 16.40 – 17.05 \nINIZIO GARE ore 17.15 TERMINE GARE ore 19.45 \n  \n  \n  \nPolo e cuffia COOPERNUOTO \n  \nALLENATORI: Varini\, Gualdi\, Bertacchi\, Valentini\, Guareschi\, Martinelli\, Zilioli\, Zonca\, Foscato.
URL:https://www.coopernuoto.it/evento-sportivo/crea-creb-25-maggio-2025/
CATEGORIES:Esordienti A,Esordienti B
ATTACH;FMTTYPE=application/pdf:https://www.coopernuoto.it/cms/wp-content/uploads/2025/02/convocazione-25-maggio.pdf
END:VEVENT
BEGIN:VEVENT
DTSTART;TZID=Europe/Helsinki:20250608T080000
DTEND;TZID=Europe/Helsinki:20260101T170000
DTSTAMP:20260422T145354
CREATED:20250205T120020Z
LAST-MODIFIED:20250604T124308Z
UID:50669-1749369600-1767286800@www.coopernuoto.it
SUMMARY:FINALI CREB - 8 GIUGNO 2025
DESCRIPTION:FINALI CREB – 8 GIUGNO 2025 \n  \nMANIFESTAZIONE: FINALI CREB \nDATA: DOMENICA 8 GIUGNO 2025 \n LOCALITÀ: Bologna – Piscina Carmen Longo v.50 mt \nCATEGORIA: FINALISTI ES. B NU – ES. B AQD \nPROGRAMMA \nMATTINO \nRISC.FEMMINE h. 09.00-09.25\nRISC.MASCHI h. 09.25-09.50\nINIZIO GARE h. 10.00\nTERMINE GARE ore 12.30 circa\nGARE: 100SL – 200DO – 100RA – 100FA – 400SL – 4x50MX \nPOMERIGGIO\n\nRISC.FEMMINE h. 14.30-14.55\nRISC.MASCHI h. 14.55-15.20\nINIZIO GARE h. 15.30\nTERMINE GARE ore 18.00 circa\nGARE: 200MX – 100DO – 200RA – 50FA – 200SL – 4x50SL \nPolo e cuffia COOPERNUOTO \n  \nALLENATORI: Varini\, Bertacchi\, Martinelli\, Zonca\, Guareschi. \nATLETI CONVOCATI:  \n  \nBAGNOLI\, AZZURRA (21/10/2015) \n1) 100 Farfalla 01:44.45 \n  \nCASADIO\, BEATRICE (01/10/2015) \n1) 400 Stile Libero S.T. \n2) 100 Dorso 01:37.90 \n3) 100 Farfalla 02:03.20 \n  \nFARRI\, ALICE (27/08/2015) \n1) 50 Farfalla 00:39.35 \n2) 100 Farfalla 01:40.50 \n3) 200 Misti 03:52.00 \n  \nLANCELLOTTI\, LUDOVICA (12/12/2015) \n1) 100 Stile Libero 01:22.10 \n2) 50 Farfalla 00:42.50 \n3) 100 Farfalla 01:31.21 \n4) 200 Misti S.T. \n  \nPALMIERI\, INES (16/02/2015) \n1) 100 Farfalla S.T. \n  \nPELLACANI\, LAURA (24/06/2015) \n1) 50 Farfalla 00:40.30 \n2) 100 Farfalla 01:32.90 \n3) 200 Misti S.T. \n  \nRUGGERI\, MATILDE (12/05/2015) \n1) 200 Stile Libero 03:04.80 \n2) 400 Stile Libero S.T. \n3) 100 Dorso 01:34.20 \n4) 200 Dorso 03:25.30 \n  \nTONONI\, GIORGIA (21/01/2016) \n1) 100 Dorso 01:34.44 \n  \nBARBIERI\, LORENZO (04/02/2014) \n1) 200 Stile Libero 02:39.40 \n2) 50 Farfalla 00:37.29 \n3) 100 Farfalla 01:24.80 \n4) 200 Misti S.T. \n  \nGHERRI\, EMANUELE (30/07/2014) \n1) 50 Farfalla 00:41.07 \n  \nPELLONI\, FEDERICO (03/02/2014) \n1) 100 Stile Libero 01:20.40 \n2) 100 Rana 01:32.49 \n3) 200 Rana 03:52.20 \n4) 200 Misti S.T. \n  \nSALCUNI\, TOMMASO (18/06/2014) \n1) 100 Stile Libero 01:09.50 \n2) 200 Stile Libero 02:39.20 \n3) 400 Stile Libero S.T. \n4) 200 Misti S.T. \n  \nSALUCCI\, GERARDO ARTURO MARIA (11/04/2014) \n1) 100 Rana 01:48.20 \n2) 200 Rana S.T. \n  \nTIRABASSI\, ELIA (04/10/2014) \n1) 100 Dorso 01:36.90 \n2) 100 Rana 01:46.10
URL:https://www.coopernuoto.it/evento-sportivo/finali-creb-8-giugno-2025/
CATEGORIES:Esordienti B
ATTACH;FMTTYPE=application/pdf:https://www.coopernuoto.it/cms/wp-content/uploads/2025/02/MANIFESTAZIONE.pdf
END:VEVENT
END:VCALENDAR