BEGIN:VCALENDAR
VERSION:2.0
PRODID:-//Coopernuoto - ECPv6.2.3.2//NONSGML v1.0//EN
CALSCALE:GREGORIAN
METHOD:PUBLISH
X-ORIGINAL-URL:https://www.coopernuoto.it
X-WR-CALDESC:Eventi per Coopernuoto
REFRESH-INTERVAL;VALUE=DURATION:PT1H
X-Robots-Tag:noindex
X-PUBLISHED-TTL:PT1H
BEGIN:VTIMEZONE
TZID:Europe/Helsinki
BEGIN:DAYLIGHT
TZOFFSETFROM:+0200
TZOFFSETTO:+0300
TZNAME:EEST
DTSTART:20230326T010000
END:DAYLIGHT
BEGIN:STANDARD
TZOFFSETFROM:+0300
TZOFFSETTO:+0200
TZNAME:EET
DTSTART:20231029T010000
END:STANDARD
BEGIN:DAYLIGHT
TZOFFSETFROM:+0200
TZOFFSETTO:+0300
TZNAME:EEST
DTSTART:20240331T010000
END:DAYLIGHT
BEGIN:STANDARD
TZOFFSETFROM:+0300
TZOFFSETTO:+0200
TZNAME:EET
DTSTART:20241027T010000
END:STANDARD
BEGIN:DAYLIGHT
TZOFFSETFROM:+0200
TZOFFSETTO:+0300
TZNAME:EEST
DTSTART:20250330T010000
END:DAYLIGHT
BEGIN:STANDARD
TZOFFSETFROM:+0300
TZOFFSETTO:+0200
TZNAME:EET
DTSTART:20251026T010000
END:STANDARD
END:VTIMEZONE
BEGIN:VEVENT
DTSTART;TZID=Europe/Helsinki:20250525T080000
DTEND;TZID=Europe/Helsinki:20251218T170000
DTSTAMP:20260422T003403
CREATED:20250205T114904Z
LAST-MODIFIED:20250304T125044Z
UID:50659-1748160000-1766077200@www.coopernuoto.it
SUMMARY:GITA DI SQUADRA!! 25 MAGGIO 2025
DESCRIPTION:GITA DI SQUADRA!! \n  \nDATA: 25/05/2025 \nLUOGO: SORPRESA!! \nCATEGORIA: Esordienti C
URL:https://www.coopernuoto.it/evento-sportivo/gita-di-squadra-25-maggio-2025/
CATEGORIES:Esordienti C
END:VEVENT
BEGIN:VEVENT
DTSTART;TZID=Europe/Helsinki:20250504T080000
DTEND;TZID=Europe/Helsinki:20251127T170000
DTSTAMP:20260422T003403
CREATED:20250205T114203Z
LAST-MODIFIED:20250508T083455Z
UID:50653-1746345600-1764262800@www.coopernuoto.it
SUMMARY:V PROVA CIRCUITO CSI - 04 MAGGIO 2025 - RISULTATI
DESCRIPTION:MANIFESTAZIONE: \n5^ PROVA CIRCUITO INTERPROVINCIALE DI NUOTO CSI \n  \nLOCALITÀ: Piscina Moletolo “G. Onesti” – via\, Luigi Anedda\, 23/\, Parma (zona Moletolo) \nDATA: Domenica 04 Maggio 2025 \n CATEGORIE: Esordienti C e Esordienti Propaganda \n  \nPROGRAMMA \nOre 13.30 Riscaldamento  Esordienti C  \nOre 14.00 Termine riscaldamento  \nOre 14.15 Inizio gare individuali Esordienti C  \nOre 16\,30 circa Riscaldamento Esordienti B e A  \nOre 17\,00 circa Termine riscaldamento  \nOre 17\,15 circa Inizio gare individuali Esordienti B e A \n  \nRISULTATI: https://www.coopernuoto.it/cms/wp-content/uploads/2025/02/RISULTATI.pdf
URL:https://www.coopernuoto.it/evento-sportivo/v-prova-circuito-csi-11-maggio-2025/
CATEGORIES:Esordienti C,Leve
ATTACH;FMTTYPE=application/pdf:https://www.coopernuoto.it/cms/wp-content/uploads/2025/02/convocazione-1.pdf
END:VEVENT
BEGIN:VEVENT
DTSTART;TZID=Europe/Helsinki:20250406T080000
DTEND;TZID=Europe/Helsinki:20250831T170000
DTSTAMP:20260422T003403
CREATED:20241119T122643Z
LAST-MODIFIED:20250402T121044Z
UID:49461-1743926400-1756659600@www.coopernuoto.it
SUMMARY:Camp. Interprovinciali UISP - 06/04/2025
DESCRIPTION:MANIFESTAZIONE: CAMPIONATO INTERPROVINCIALE fase di qualificazione Campionati Regionali UISP \n  \nLOCALITÀ: MOLETOLO PR– Centro Sportivo Coopernuoto Piscine e Palestre – via L. Anedda\, 23 \n  \nDATA: Domenica 06 Aprile 2025 \n  \nCATEGORIA: Esordienti C e B \nPROGRAMMA: \n  \nEs C e Giovanissimi femmine e maschi insieme: \nRiscaldamento dalle 13.45 alle 14.15 \nInizio Manifestazione ore 14.15 \n25 DF\, 50 DO\, 100 MIX\, 50 RA\, 50 SL. \n  \nEs. B femmine e maschi insieme: \nRiscaldamento dalle 16.00 alle 16.30 \nInizio Manifestazione ore 16.30 \n50/100 DF\, 50/100 DO\, 100 MIX\, 200 MIX\, 50/100 RA\, 50/100 SL. \n  \nCuffia e maglietta UNISPORT \n  \nALLENATORI: Erica Varini\, Francesca Mammi\, Gessica Ferroni\, Martina Baraldi\, Filippo Baccarani\, Alessia Bertacchi\, Angelo Fabricatore\, Pietro Rosi\, Marcello Zilioli\, \nSilvia Sberveglieri\, Ascari Luca\, Nicola Martinelli\, Federico Mencarelli\, Fausto Foscato. \n  \n 
URL:https://www.coopernuoto.it/evento-sportivo/provinciali-di-nuoto-uisp-13-04-2025/
CATEGORIES:Esordienti B,Esordienti C
ATTACH;FMTTYPE=application/pdf:https://www.coopernuoto.it/cms/wp-content/uploads/2024/11/convocazione-8.pdf
END:VEVENT
BEGIN:VEVENT
DTSTART;TZID=Europe/Helsinki:20250309T080000
DTEND;TZID=Europe/Helsinki:20250831T170000
DTSTAMP:20260422T003403
CREATED:20241121T144235Z
LAST-MODIFIED:20250312T113233Z
UID:49533-1741507200-1756659600@www.coopernuoto.it
SUMMARY:IV PROVA CIRCUITO CSI - 09/03/2025 - RISULTATI
DESCRIPTION:MANIFESTAZIONE: \n4^ PROVA CIRCUITO INTERPROVINCIALE DI NUOTO CSI \n  \nLOCALITÀ: Piscina Moletolo “G. Onesti” – via\, Luigi Anedda\, 23/\, Parma (zona Moletolo) \nDATA: Domenica 09 Marzo 2025 \n  \nCATEGORIE: Esordienti C e Esordienti Propaganda \n  \nPROGRAMMA \nOre 14.00 Riscaldamento staffette Esordienti C  \nOre 14.30 Termine riscaldamento  \nOre 14.45 Inizio gare individuali Esordienti C  \nOre 16\,30 circa Riscaldamento Esordienti B e A  \nOre 17\,00 circa Termine riscaldamento  \nOre 17\,15 circa Inizio gare individuali Esordienti B e A \n  \nCategorie C (4 staffette per atleta)  \n4*25 Misti Mista\, Misti F e M\, Stile libero Mista\, Stile libero F e M \nCategoria B (4 staffette per atleta)  \n4*25 Misti Mista\, Misti F e M\, Stile libero\, Stile libero F e M \nCategorie A (4 staffette per atleta)  \n4*50 Misti Mista\, Misti F e M\, Stile libero Mista\, Stile libero F e M \n  \nRISULTATI: https://www.coopernuoto.it/cms/wp-content/uploads/2025/01/Copia-di-Juniores-24-25-aggiornato-al-12-marzo.pdf
URL:https://www.coopernuoto.it/evento-sportivo/iv-prova-circuito-csi-09-03-2025/
CATEGORIES:Esordienti C
ATTACH;FMTTYPE=application/pdf:https://www.coopernuoto.it/cms/wp-content/uploads/2024/11/convocazione-4.pdf
END:VEVENT
BEGIN:VEVENT
DTSTART;TZID=Europe/Helsinki:20250205T080000
DTEND;TZID=Europe/Helsinki:20250831T170000
DTSTAMP:20260422T003403
CREATED:20250205T132432Z
LAST-MODIFIED:20250605T121703Z
UID:50671-1738742400-1756659600@www.coopernuoto.it
SUMMARY:CAMPIONATI ITALIANI UISP - 13\, 14 e 15 GIUGNO 2025
DESCRIPTION:CAMPIONATI ITALIANI UISP – 13\, 14 e 15 GIUGNO 2025 \n  \nDATA: 13\,14 e 15/06/2025 \nLUOGO: Riccione \nCATEGORIA: Esordienti C\, Esordienti B e Medio Livello  \n  \nCATEGORIA: ESO C  \nVenerdì 13 giugno 2025  \npomeriggio  \nVasca mt.25 interna femmine: riscaldamento 14\,00 – 14\,20 \nVasca mt.25 interna maschi: riscaldamento 14\,30 – 14\,50 \nInizio Gare 15\,00 \n25 Rana – 50 Dorso – 4×50 stile libero \nSabato 14 Giugno 2025 \nMattina  \nVasca mt.25 interna femmine: riscaldamento 8\,00 – 8\,20 \nVasca mt.25 interna maschi: riscaldamento 8\,30 – 8\,50 \nInizio Gare ore 9:00 \n25 Dorso – 100 Misti – 100 Rana  \npomeriggio  \nVasca mt.25 interna femmine: riscaldamento 14\,00 – 14\,20 \nVasca mt.25 interna maschi: riscaldamento 14\,50 – 15\,10 \nInizio Gare 15\,15 \n25 stile libero – 100 stile libero – 50 farfalla – 4×50 mista \nDomenica 15 Giugno 2024  \nMattina  \nVasca mt.25 interna femmine: riscaldamento 8\,00 – 8\,20 \nVasca mt.25 interna maschi: riscaldamento 8\,30 – 8\,50 \nInizio Gare ore 9:00 \n25 Farfalla – 100 Dorso – 50 stile libero – staffetta 4×50 mistaffetta mista \n  \n  \nCATEGORIA ESO B e MEDIO LIVELLO \nPartenza CON AUTOBUS Borghi Viaggi: venerdì 13/06 ore 7.00 dal parcheggio scambiatore Autostrada di Parma per gli atleti di Parma\, ore 7.30 dal piazzale Fiere di Mancasale (RE) per gli atleti di Novellara e Correggio e per gli atleti di Carpi e Mirandola ore 8.00 dalla Piazzola di sosta via Cave di Ramo uscita Autostrada Mo Nord di fronte Steak House  \nRientro : Domenica 15/06 – rientro nel pomeriggio con arrivo parcheggio uscita Autostrada di Modena Nord\, successivamente piazzale Fiere di Mancasale (RE) e per ultimo parcheggio scambiatore uscita Autostrada di Parma. Gli orari di rientro verranno comunicati successivamente dagli allenatori di riferimento. \n  \n  \nCuffia e maglietta UNISPORT \n  \nALLENATORI: Sberveglieri\, Guareschi\, Ferri\, Bertacchi\, Baraldi\, Pala\, Mammi\, Varini\, Zonca\, Brioni\, Martinelli\, Paterlini\, Zilioli\, Fabbricatore\, Mencarelli.
URL:https://www.coopernuoto.it/evento-sportivo/campionati-italiani-uisp-13-14-e-15-giugno-2025/
CATEGORIES:Assoluti medio livello,Esordienti B,Esordienti C
ATTACH;FMTTYPE=application/pdf:https://www.coopernuoto.it/cms/wp-content/uploads/2025/02/convocazione-eso-c.pdf
END:VEVENT
BEGIN:VEVENT
DTSTART;TZID=Europe/Helsinki:20250205T080000
DTEND;TZID=Europe/Helsinki:20250831T170000
DTSTAMP:20260422T003403
CREATED:20250205T115807Z
LAST-MODIFIED:20250205T115807Z
UID:50667-1738742400-1756659600@www.coopernuoto.it
SUMMARY:FINALI REGIONALI UISP - 2 GIUGNO 2025
DESCRIPTION:FINALI REGIONALI UISP – 2 GIUGNO 2025 \n  \nDATA: 02/06/2025 \nLUOGO: Moletolo (PR) \nCATEGORIA: Finalisti Esordienti C \n  \nprogramma gare da definire
URL:https://www.coopernuoto.it/evento-sportivo/finali-regionali-uisp-2-giugno-2025/
CATEGORIES:Esordienti C
END:VEVENT
BEGIN:VEVENT
DTSTART;TZID=Europe/Helsinki:20250202T080000
DTEND;TZID=Europe/Helsinki:20250831T170000
DTSTAMP:20260422T003403
CREATED:20241121T140316Z
LAST-MODIFIED:20250204T110954Z
UID:49497-1738483200-1756659600@www.coopernuoto.it
SUMMARY:III PROVA CIRCUITO CSI - 02/02/2025 - RISULTATI
DESCRIPTION:MANIFESTAZIONE: \n3^ PROVA CIRCUITO INTERPROVINCIALE DI NUOTO CSI \nLOCALITÀ: PISCINA MARTIN LUTHER KING  \nVia Dello Sport\, 13 – CASALECCHIO DI RENO(BO) \nDATA: Domenica 02 Febbraio 2025 \n  \nCATEGORIE: Esordienti C e Esordienti Propaganda \nRISULTATI: https://www.coopernuoto.it/cms/wp-content/uploads/2024/11/RISULTATI-2.pdf
URL:https://www.coopernuoto.it/evento-sportivo/iii-prova-circuito-csi-02-02-2025/
CATEGORIES:Esordienti C
ATTACH;FMTTYPE=application/pdf:https://www.coopernuoto.it/cms/wp-content/uploads/2024/11/convocazione-2.pdf
END:VEVENT
BEGIN:VEVENT
DTSTART;TZID=Europe/Helsinki:20250112T080000
DTEND;TZID=Europe/Helsinki:20250831T170000
DTSTAMP:20260422T003403
CREATED:20241121T134431Z
LAST-MODIFIED:20250115T165030Z
UID:49486-1736668800-1756659600@www.coopernuoto.it
SUMMARY:II PROVA CIRCUITO CSI - 12/01/2025_RISULTATI
DESCRIPTION:II PROVA CIRCUITO CSI – 12/01/2025 \nDomenica Pomeriggio \nCATEGORIA: Esordienti C \nLUOGO: Fidenza (PR)\, Via Togliatti 38. \n  \nRISULTATI:https://www.coopernuoto.it/cms/wp-content/uploads/2024/11/RISULTATI-1.pdf
URL:https://www.coopernuoto.it/evento-sportivo/ii-prova-circuito-csi-12-01-2025/
CATEGORIES:Esordienti C,Esordienti propaganda
END:VEVENT
BEGIN:VEVENT
DTSTART;TZID=Europe/Helsinki:20241110T080000
DTEND;TZID=Europe/Helsinki:20250828T170000
DTSTAMP:20260422T003403
CREATED:20241023T113554Z
LAST-MODIFIED:20241119T111845Z
UID:49109-1731225600-1756400400@www.coopernuoto.it
SUMMARY:1° PROVA 4° CIRCUITO REGIONALE C.S.I. 10/11/2024 - RISULTATI
DESCRIPTION:1° PROVA 4° CIRCUITO REGIONALE C.S.I. 10/11/2024 \n  \nLUOGO: Reggio Emilia \nCATEGORIE : ESO C \nRISULTATI: https://www.coopernuoto.it/cms/wp-content/uploads/2024/10/RISULTATI-DEL-12-11-2024.pdf
URL:https://www.coopernuoto.it/evento-sportivo/1-prova-4-circuito-regionale-c-s-i-10-11-2024/
LOCATION:Piscina Melato Reggio Emilia\, Via Melato\, 2\, Reggio Emilia\, Italia
CATEGORIES:Esordienti C,Nuoto
END:VEVENT
BEGIN:VEVENT
DTSTART;TZID=Europe/Helsinki:20240614T080000
DTEND;TZID=Europe/Helsinki:20240831T170000
DTSTAMP:20260422T003403
CREATED:20240222T094355Z
LAST-MODIFIED:20240412T112401Z
UID:45862-1718352000-1725123600@www.coopernuoto.it
SUMMARY:Campionato Nazionale Estivo Giovani - 14 e 16/06/2024
DESCRIPTION:Campionato Nazionale Estivo Giovani \n14/06/2024 e 16/06/2024 \nRiccione \norari e programma da definirsi.
URL:https://www.coopernuoto.it/evento-sportivo/campionato-nazionale-estivo-giovani-14-e-16-06-2024/
CATEGORIES:Assoluti medio livello,Esordienti B,Esordienti C
END:VEVENT
BEGIN:VEVENT
DTSTART;TZID=Europe/Helsinki:20240602T080000
DTEND;TZID=Europe/Helsinki:20240831T170000
DTSTAMP:20260422T003403
CREATED:20240411T093345Z
LAST-MODIFIED:20240528T081408Z
UID:46422-1717315200-1725123600@www.coopernuoto.it
SUMMARY:Campionati Regionali Esordienti - 02/06/2024
DESCRIPTION:MANIFESTAZIONE: Campionato Regionale Esordienti \n  \nLOCALITÀ: Moletolo (PR) – Piscina Centro sportivo Coopernuoto Piscine e Palestre – via L. Anedda\, n°23 \n  \nDATA: Domenica 2 Giugno 2024 \n  \nCATEGORIA: Finalisti ESO C\, ESO B  \n  \nPROGRAMMA:  \nore 13.30 accesso impianto \nore 13.45 riscaldamento femmine \nore 14.05 riscaldamento maschile \nore 14.15 inizio gare \n  \nStaffetta 4X50 – 50 SL ES.A – 50 FA ES. C e B  – 100 FA ES. A – 50 DO ES. C e B – 100 DO ES.A \n50 RA ES. C e B – 100 RA ES.A – 50 SL ES. C e B – 100 SL ES.A – 100 MX ES. C e B – 200 MX ES. A  – 4X50 MX \n  \nCuffia e maglietta UNISPORT \n  \n  \nALLENATORI: Bertacchi Alessia\, Varini Erica\, Zonca Francesca\, Guareschi Eleonora. \n  \n  \n 
URL:https://www.coopernuoto.it/evento-sportivo/campionati-regionali-esordienti-02-06-2024/
CATEGORIES:Esordienti A,Esordienti B,Esordienti C
END:VEVENT
BEGIN:VEVENT
DTSTART;TZID=Europe/Helsinki:20240428T080000
DTEND;TZID=Europe/Helsinki:20240831T170000
DTSTAMP:20260422T003403
CREATED:20240326T100248Z
LAST-MODIFIED:20240423T082423Z
UID:46218-1714291200-1725123600@www.coopernuoto.it
SUMMARY:Campionato Interprovinciale Uisp - 28/04/2024
DESCRIPTION:MANIFESTAZIONE: Campionato Interprovinciale Fase di Qualificazione. \nLOCALITÀ: Moletolo (PR) – Piscina Centro sportico Coopernuoto Piscine e Palestre – via L. Anedda\, n°23 \nDATA: Domenica 28 Aprile 2024 \nCATEGORIA: ESO C\, ESO B (No B Aquademy) \nPROGRAMMA:  \nFemmine \n Riscaldamento femmine: ore 13:30 – 13:50 \nInizio manifestazione:  ore 14:00 \n  \nDelfino 25/50/100\, Dorso 50/100\, Rana 50/100\, Stile 50/100\, Misti 100/200 \n  \nMaschi: \nRiscaldamento Maschi: ore 15:30 – 15:50 \nInizio manifestazione: 16:00 \n  \nDelfino 25/50/100\, Dorso 50/100\, Rana 50/100\, Stile 50/100\, Misti 100/200 \n  \nCuffia e maglietta UNISPORT \n  \n  \nALLENATORI: Baraldi\, Grazioli\, Paterlini\, Mammi\, Zonca\, Reggiani\, Zilioli\, Guareschi\, Tamelli\, Pala. \n 
URL:https://www.coopernuoto.it/evento-sportivo/campionato-interprovinciale-uisp-28-04-2024/
CATEGORIES:Esordienti B,Esordienti C
END:VEVENT
BEGIN:VEVENT
DTSTART;TZID=Europe/Helsinki:20240423T080000
DTEND;TZID=Europe/Helsinki:20240831T170000
DTSTAMP:20260422T003403
CREATED:20240423T081848Z
LAST-MODIFIED:20240502T075324Z
UID:46529-1713859200-1725123600@www.coopernuoto.it
SUMMARY:4° Prova- 3° circuito regionale di nuoto CSI - 05/05/2024
DESCRIPTION:MANIFESTAZIONE: \n4^ PROVA CIRCUITO REGIONALE DI NUOTO CSI \nLOCALITÀ:  Piscina Moletolo “G.Onesti” – Via Moletolo\, 69/A (PR) \n  \nDATA: Domenica 5 MAGGIO 2024 \nCATEGORIE: ES. C – ESORDIENTI PROPAGANDA \nPROGRAMMA \n  \nOre 14.00 Riscaldamento Esordienti C  \nOre 14.30 Termine riscaldamento  \nOre 14.45 Inizio gare individuali Esordienti C  \nOre 16\,30 circa Riscaldamento Esordienti B e A  \nOre 17\,00 circa Termine riscaldamento  \nOre 17\,15 circa Inizio gare individuali Esordienti B e A \n  \n25 Dorso\, 25 Rana\, 25 FA\, 50 Stile. ESORDIENTI C \n100 SL\, 100 MX ESORDIENTI B\, A \n  \nMaglia azzurra Unisport\, cuffia verde Unisport per gli Esordienti di Novellara\, Parma\, Correggio e Mirandola \nMaglia azzurra Unisport\, cuffia Arancio CSI Carpi Sport per gli Esordienti C di Carpi \n 
URL:https://www.coopernuoto.it/evento-sportivo/4-prova-3-circuito-regionale-di-nuoto-csi-05-05-2024/
CATEGORIES:Esordienti C,Esordienti propaganda,Leve
ATTACH;FMTTYPE=application/pdf:https://www.coopernuoto.it/cms/wp-content/uploads/2024/04/convocazione-9-1.pdf
END:VEVENT
BEGIN:VEVENT
DTSTART;TZID=Europe/Helsinki:20240407T080000
DTEND;TZID=Europe/Helsinki:20240831T170000
DTSTAMP:20260422T003403
CREATED:20240314T104402Z
LAST-MODIFIED:20240405T101656Z
UID:46087-1712476800-1725123600@www.coopernuoto.it
SUMMARY:3° Circuito Regionale di nuoto - 3° Prova - 07/04/2024
DESCRIPTION:MANIFESTAZIONE: \n3^ PROVA CIRCUITO REGIONALE DI NUOTO CSI \nLOCALITÀ:  Piscina “Calypso” – Bibbiano (RE) \n                       Via Montegrappa\, 3A  \nDATA: Domenica 7 Aprile 2024 \n  \nCATEGORIE: ES. C – ESORDIENTI PROPAGANDA \n  \nPROGRAMMA \n  \nOre 14.00 Riscaldamento Esordienti C  \nOre 14.30 Termine riscaldamento  \nOre 14.45 Inizio gare individuali Esordienti C  \nOre 16\,30 circa Riscaldamento Esordienti B e A  \nOre 17\,00 circa Termine riscaldamento  \nOre 17\,15 circa Inizio gare individuali Esordienti B e A \n  \n25 Dorso\, 25 Rana\, 25 FA\, 25 Stile. \n50 Dorso\, 25 Rana\,50 FA\, 50 Stile. \n50 Dorso\, 50 Rana\,50 FA\, 50 Stile. \n  \nSTARTING LIST \n  \nMaglia azzurra Unisport\, cuffia verde Unisport per gli Esordienti di Novellara\, Parma\, Correggio e Mirandola \nMaglia azzurra Unisport\, cuffia Arancio CSI Carpi Sport per gli Esordienti C di Carpi \n  \nAllenatori: Baraldi\, Baccarani\, Paterlini\, Mammi\, Zonca\, Reggiani\, Ascari\, Tamelli\, Pala. \n  \n 
URL:https://www.coopernuoto.it/evento-sportivo/3-circuito-regionale-di-nuoto-3-prova-07-04-2024/
CATEGORIES:Esordienti C,Esordienti propaganda
ATTACH;FMTTYPE=application/pdf:https://www.coopernuoto.it/cms/wp-content/uploads/2024/03/convocazione-6.pdf
END:VEVENT
BEGIN:VEVENT
DTSTART;TZID=Europe/Helsinki:20240121T080000
DTEND;TZID=Europe/Helsinki:20240712T170000
DTSTAMP:20260422T003403
CREATED:20240109T143811Z
LAST-MODIFIED:20240125T100816Z
UID:45145-1705824000-1720803600@www.coopernuoto.it
SUMMARY:COMBINATA DEGLI STILI 23/24 del 21/01/24 - 2a PROVA RISULTATI
DESCRIPTION:COMBINATA DEGLI STILI 2023/24 – 2° PROVA \n  \nLOCALITÀ: Piscina EGOvillage Collecchio (PR) \n  \nDATA: Domenica 21 Gennaio 2024 \n  \n  \n  \nCATEGORIA: Esordienti C\, Esordienti C Aquademy\, Esordienti B e Esordienti A \n  \nPROGRAMMA: MISTAFFETTA 4X25/4X50 STILE LIBERO \n25/50 FARFALLA – 25/50 RANA \nMISTAFFETTA 4X25/4X50 \nRISULTATI: https://www.goandswim.com/follow/PublicEvent.aspx?Event=c159be49c769435b86aef872f49c91ac
URL:https://www.coopernuoto.it/evento-sportivo/combinata-degli-stili-23-24-del-21-01-24-2a-prova/
CATEGORIES:Esordienti A,Esordienti B,Esordienti C
ATTACH;FMTTYPE=application/pdf:https://www.coopernuoto.it/cms/wp-content/uploads/2024/01/Convocazioni-Combinata-degli-Stili-2022-2023-UISP-3-1.pdf
END:VEVENT
BEGIN:VEVENT
DTSTART;TZID=Europe/Helsinki:20240114T080000
DTEND;TZID=Europe/Helsinki:20240905T170000
DTSTAMP:20260422T003403
CREATED:20240109T094631Z
LAST-MODIFIED:20240125T103653Z
UID:45128-1705219200-1725555600@www.coopernuoto.it
SUMMARY:2^ prova CIRCUITO INTERPROVINCIALE CSI - Fidenza- RISULTATI
DESCRIPTION:MANIFESTAZIONE:     2^ PROVA CIRCUITO INTERPROVINCIALE DI NUOTO CSI \n  \nLOCALITÀ:  Fidenza – Piscina Comunale di Fidenza – Via Togliatti\, 38 \n  \nDATA: Domenica 14 Gennaio 2024 \n  \nCATEGORIE: ES. C – ESORDIENTI PROPAGANDA \n  \nPROGRAMMA \nOre 13.30 Riscaldamento Esordienti C \nOre 14.00 Termine riscaldamento \nOre 14.15 Inizio gare individuali Esordienti C \nOre 16\,30 circa Riscaldamento Esordienti B e A \nOre 17\,00 circa Termine riscaldamento \nOre 17\,15 circa Inizio gare individuali Esordienti B e A \n  \nRISULTATI:https://www.coopernuoto.it/cms/wp-content/uploads/2024/01/RISULTATI.pdf
URL:https://www.coopernuoto.it/evento-sportivo/2-prova-circuito-interprovinciale-csi-fidenza/
LOCATION:Piscina Comunale Fidenza\, Via Togliatti 38\, Fidenza\, 43036\, Italia
CATEGORIES:Esordienti C,Esordienti propaganda
ATTACH;FMTTYPE=application/pdf:https://www.coopernuoto.it/cms/wp-content/uploads/2024/01/Convocazioni-2--prova-interprovinciale-CSI.pdf
ORGANIZER;CN="Coopernuoto Agonistica":MAILTO:agonistica@coopernuoto.it
END:VEVENT
BEGIN:VEVENT
DTSTART;TZID=Europe/Helsinki:20231217T080000
DTEND;TZID=Europe/Helsinki:20240630T170000
DTSTAMP:20260422T003403
CREATED:20231019T130004Z
LAST-MODIFIED:20231219T101042Z
UID:43946-1702800000-1719766800@www.coopernuoto.it
SUMMARY:Combinata degli stili - 17 Dicembre 2023 RISULTATI
DESCRIPTION:MANIFESTAZIONE: \nCOMBINATA DEGLI STILI 2023/24 \nData: Domenica 17 Dicembre 2023 \n LOCALITÀ: PISCINA COMUNALE REGGIO EMILIA \nCATEGORIA: Esordienti C\, Esordienti C Aquademy e Esordienti B \nPROGRAMMA: STAFFETTE 4X25/4X50 STILE LIBERO\n25/50 DORSO – 25/50 STILE LIBERO\nSTAFFETTE 4X25/4X50 MISTI \n  \nCATEGORIA GIOVANISSIMI ED ESORDIENTI C RISCALDAMENTO : \nFEMMINE dalle 8.00 alle 8.15 MASCHI DALLE 8.15 ALLE 8.30 INIZIO GARA 8.40 \nESORDIENTI B e A RISCALDAMENTO :  \nFEMMINE DALLE 10.30 ALLE 10.50 MASCHI DALLE 10.50 ALLE 11.10 INIZIO GARA 11.15 \n  \nRISULTATI: http://www.goandswim.com/follow/PublicEvent.aspx?Event=c159be49c769435b86aef872f49c91ac \n  \nhttps://www.coopernuoto.it/cms/wp-content/uploads/2023/10/Convocazioni-Combinata-degli-Stili-2023-2024-UISP-1.pdf \n  \n 
URL:https://www.coopernuoto.it/evento-sportivo/combinata-degli-stili/
CATEGORIES:Esordienti A,Esordienti B,Esordienti C,Nuoto
ATTACH;FMTTYPE=application/pdf:https://www.coopernuoto.it/cms/wp-content/uploads/2023/10/Convocazioni-Combinata-degli-Stili-2023-2024-UISP-1.pdf
ORGANIZER;CN="Coopernuoto Agonistica":MAILTO:agonistica@coopernuoto.it
END:VEVENT
BEGIN:VEVENT
DTSTART;VALUE=DATE:20231112
DTEND;VALUE=DATE:20240901
DTSTAMP:20260422T003403
CREATED:20231019T100015Z
LAST-MODIFIED:20231117T110134Z
UID:43935-1699747200-1725148799@www.coopernuoto.it
SUMMARY:1^ prova CIRCUITO INTERPROV. CSI  -  RISULTATI
DESCRIPTION:MANIFESTAZIONE:   1^ PROVA CIRCUITO INTERPROVINCIALE DI NUOTO CSI \n  \nDATA: Domenica 12 Novembre 2023 \n  \nLOCALITÀ:  Piscina Comunale “Ferretti – Ferrari” – Via Melato\, 2\, REGGIO NELL’EMILIA \n  \nRISULTATI :  ES.  PROPAGANDA \nRISULTATI :  ES.  C  \n 
URL:https://www.coopernuoto.it/evento-sportivo/3-circuito-interprovinciale-di-nuoto-csi-2023-2024-1-prova/
LOCATION:Piscina Melato Reggio Emilia\, Via Melato\, 2\, Reggio Emilia\, Italia
CATEGORIES:Esordienti C,Esordienti propaganda,Nuoto
ORGANIZER;CN="Coopernuoto Agonistica":MAILTO:agonistica@coopernuoto.it
END:VEVENT
END:VCALENDAR