BEGIN:VCALENDAR
VERSION:2.0
PRODID:-//Coopernuoto - ECPv6.2.3.2//NONSGML v1.0//EN
CALSCALE:GREGORIAN
METHOD:PUBLISH
X-ORIGINAL-URL:https://www.coopernuoto.it
X-WR-CALDESC:Eventi per Coopernuoto
REFRESH-INTERVAL;VALUE=DURATION:PT1H
X-Robots-Tag:noindex
X-PUBLISHED-TTL:PT1H
BEGIN:VTIMEZONE
TZID:Europe/Helsinki
BEGIN:DAYLIGHT
TZOFFSETFROM:+0200
TZOFFSETTO:+0300
TZNAME:EEST
DTSTART:20240331T010000
END:DAYLIGHT
BEGIN:STANDARD
TZOFFSETFROM:+0300
TZOFFSETTO:+0200
TZNAME:EET
DTSTART:20241027T010000
END:STANDARD
BEGIN:DAYLIGHT
TZOFFSETFROM:+0200
TZOFFSETTO:+0300
TZNAME:EEST
DTSTART:20250330T010000
END:DAYLIGHT
BEGIN:STANDARD
TZOFFSETFROM:+0300
TZOFFSETTO:+0200
TZNAME:EET
DTSTART:20251026T010000
END:STANDARD
END:VTIMEZONE
BEGIN:VEVENT
DTSTART;TZID=Europe/Helsinki:20241110T080000
DTEND;TZID=Europe/Helsinki:20250828T170000
DTSTAMP:20260423T020630
CREATED:20241023T113554Z
LAST-MODIFIED:20241119T111845Z
UID:49109-1731225600-1756400400@www.coopernuoto.it
SUMMARY:1° PROVA 4° CIRCUITO REGIONALE C.S.I. 10/11/2024 - RISULTATI
DESCRIPTION:1° PROVA 4° CIRCUITO REGIONALE C.S.I. 10/11/2024 \n  \nLUOGO: Reggio Emilia \nCATEGORIE : ESO C \nRISULTATI: https://www.coopernuoto.it/cms/wp-content/uploads/2024/10/RISULTATI-DEL-12-11-2024.pdf
URL:https://www.coopernuoto.it/evento-sportivo/1-prova-4-circuito-regionale-c-s-i-10-11-2024/
LOCATION:Piscina Melato Reggio Emilia\, Via Melato\, 2\, Reggio Emilia\, Italia
CATEGORIES:Esordienti C,Nuoto
END:VEVENT
END:VCALENDAR