BEGIN:VCALENDAR
VERSION:2.0
PRODID:-//Coopernuoto - ECPv6.2.3.2//NONSGML v1.0//EN
CALSCALE:GREGORIAN
METHOD:PUBLISH
X-ORIGINAL-URL:https://www.coopernuoto.it
X-WR-CALDESC:Eventi per Coopernuoto
REFRESH-INTERVAL;VALUE=DURATION:PT1H
X-Robots-Tag:noindex
X-PUBLISHED-TTL:PT1H
BEGIN:VTIMEZONE
TZID:Europe/Helsinki
BEGIN:DAYLIGHT
TZOFFSETFROM:+0200
TZOFFSETTO:+0300
TZNAME:EEST
DTSTART:20250330T010000
END:DAYLIGHT
BEGIN:STANDARD
TZOFFSETFROM:+0300
TZOFFSETTO:+0200
TZNAME:EET
DTSTART:20251026T010000
END:STANDARD
END:VTIMEZONE
BEGIN:VEVENT
DTSTART;TZID=Europe/Helsinki:20250413T080000
DTEND;TZID=Europe/Helsinki:20250413T170000
DTSTAMP:20260423T005348
CREATED:20241121T150245Z
LAST-MODIFIED:20250409T115720Z
UID:49549-1744531200-1744563600@www.coopernuoto.it
SUMMARY:FESTA DELLE LEVE - 13/04/2025
DESCRIPTION:     27^ FESTA DELLE LEVE \n  \n Data:  DOMENICA   13 APRILE 2025 \n  \nLocalità: PISCINA di MIRANDOLA – Via D. Pietri\, 9 \n  \n  \n                                                   PROGRAMMA   \n  \nore 14\,30: Ingresso atleti  \nore 14:45 Sfilata \n  \nore 15:00: Inizio Festa \n  \n  \nore 16:30 circa: Premiazione e consegna attestati di partecipazione \n  \n  \nCuffia e maglietta Unisport. \n  \n  \n 
URL:https://www.coopernuoto.it/evento-sportivo/festa-delle-leve-13-04-2025/
CATEGORIES:Leve
ATTACH;FMTTYPE=application/pdf:https://www.coopernuoto.it/cms/wp-content/uploads/2024/11/CONVOCAZIONE-FESTA-DELLE-LEVE.pdf
END:VEVENT
END:VCALENDAR