BEGIN:VCALENDAR
VERSION:2.0
PRODID:-//Coopernuoto - ECPv6.2.3.2//NONSGML v1.0//EN
CALSCALE:GREGORIAN
METHOD:PUBLISH
X-ORIGINAL-URL:https://www.coopernuoto.it
X-WR-CALDESC:Eventi per Coopernuoto
REFRESH-INTERVAL;VALUE=DURATION:PT1H
X-Robots-Tag:noindex
X-PUBLISHED-TTL:PT1H
BEGIN:VTIMEZONE
TZID:Europe/Helsinki
BEGIN:DAYLIGHT
TZOFFSETFROM:+0200
TZOFFSETTO:+0300
TZNAME:EEST
DTSTART:20240331T010000
END:DAYLIGHT
BEGIN:STANDARD
TZOFFSETFROM:+0300
TZOFFSETTO:+0200
TZNAME:EET
DTSTART:20241027T010000
END:STANDARD
BEGIN:DAYLIGHT
TZOFFSETFROM:+0200
TZOFFSETTO:+0300
TZNAME:EEST
DTSTART:20250330T010000
END:DAYLIGHT
BEGIN:STANDARD
TZOFFSETFROM:+0300
TZOFFSETTO:+0200
TZNAME:EET
DTSTART:20251026T010000
END:STANDARD
END:VTIMEZONE
BEGIN:VEVENT
DTSTART;TZID=Europe/Helsinki:20241107T080000
DTEND;TZID=Europe/Helsinki:20250731T170000
DTSTAMP:20260423T020459
CREATED:20241107T143056Z
LAST-MODIFIED:20250605T090938Z
UID:49334-1730966400-1753981200@www.coopernuoto.it
SUMMARY:CALENDARI PARTITE
DESCRIPTION:https://www.coopernuoto.it/cms/wp-content/uploads/2024/11/Copia-di-Ragazzi-24-25-aggiornato-al-04-giugno.pdf
URL:https://www.coopernuoto.it/evento-sportivo/49334/
CATEGORIES:Ragazzi U14
ATTACH;FMTTYPE=application/pdf:https://www.coopernuoto.it/cms/wp-content/uploads/2024/11/images-1.pdf
END:VEVENT
BEGIN:VEVENT
DTSTART;VALUE=DATE:20241112
DTEND;VALUE=DATE:20250901
DTSTAMP:20260423T020459
CREATED:20241112T151813Z
LAST-MODIFIED:20250522T105806Z
UID:49368-1731369600-1756684799@www.coopernuoto.it
SUMMARY:CALENDARI PARTITE
DESCRIPTION:https://www.coopernuoto.it/cms/wp-content/uploads/2024/11/Copia-di-Allievi-24-25-aggiornata-al-21-maggio.pdf
URL:https://www.coopernuoto.it/evento-sportivo/calendari-partite/
CATEGORIES:Allievi U16
ATTACH;FMTTYPE=application/pdf:https://www.coopernuoto.it/cms/wp-content/uploads/2024/11/images.pdf
END:VEVENT
BEGIN:VEVENT
DTSTART;TZID=Europe/Helsinki:20241128T080000
DTEND;TZID=Europe/Helsinki:20250831T170000
DTSTAMP:20260423T020459
CREATED:20241128T145600Z
LAST-MODIFIED:20250605T090655Z
UID:49632-1732780800-1756659600@www.coopernuoto.it
SUMMARY:SERIE C - FORMULA\, GIRONI e CALENDARIO
DESCRIPTION:Normativa-SERIE-C-Maschile-2024-2025_Date-e-Gironi_scan.pdf \n  \nCALENDARIO SERIE C: https://www.coopernuoto.it/cms/wp-content/uploads/2024/11/Copia-di-serie-C-girone-3-aggiornato-al-04-giugno.pdf \nCALENDARIO PROMOZIONE: https://www.coopernuoto.it/cms/wp-content/uploads/2024/11/Copia-di-Promozione-24-25-aggiornato-al-04-giugno.pdf
URL:https://www.coopernuoto.it/evento-sportivo/serie-c-formula-e-gironi/
CATEGORIES:Serie C
ATTACH;FMTTYPE=application/pdf:https://www.coopernuoto.it/cms/wp-content/uploads/2024/11/images-2.pdf
END:VEVENT
BEGIN:VEVENT
DTSTART;TZID=Europe/Helsinki:20250108T080000
DTEND;TZID=Europe/Helsinki:20250831T170000
DTSTAMP:20260423T020459
CREATED:20250108T103445Z
LAST-MODIFIED:20250605T090753Z
UID:50098-1736323200-1756659600@www.coopernuoto.it
SUMMARY:CALENDARI PARTITE
DESCRIPTION:https://www.coopernuoto.it/cms/wp-content/uploads/2025/01/Copia-di-Esordienti-24-25-aggiornato-al-04-giugno.pdf
URL:https://www.coopernuoto.it/evento-sportivo/calendari-partite-2/
CATEGORIES:Esordienti U12
ATTACH;FMTTYPE=application/pdf:https://www.coopernuoto.it/cms/wp-content/uploads/2025/01/images.pdf
END:VEVENT
BEGIN:VEVENT
DTSTART;TZID=Europe/Helsinki:20250108T080000
DTEND;TZID=Europe/Helsinki:20250831T170000
DTSTAMP:20260423T020459
CREATED:20250108T103613Z
LAST-MODIFIED:20250605T090842Z
UID:50101-1736323200-1756659600@www.coopernuoto.it
SUMMARY:CALENDARI PARTITE
DESCRIPTION:https://www.coopernuoto.it/cms/wp-content/uploads/2025/01/Copia-di-Juniores-24-25-aggiornato-al-04-giugno.pdf
URL:https://www.coopernuoto.it/evento-sportivo/calendari-partite-3/
CATEGORIES:Juniores U18
ATTACH;FMTTYPE=application/pdf:https://www.coopernuoto.it/cms/wp-content/uploads/2025/01/images-1.pdf
END:VEVENT
BEGIN:VEVENT
DTSTART;TZID=Europe/Helsinki:20250128T080000
DTEND;TZID=Europe/Helsinki:20250831T170000
DTSTAMP:20260423T020459
CREATED:20250128T134710Z
LAST-MODIFIED:20250128T134710Z
UID:50473-1738051200-1756659600@www.coopernuoto.it
SUMMARY:CALENDARI
DESCRIPTION:
URL:https://www.coopernuoto.it/evento-sportivo/calendari/
CATEGORIES:Acqua goal
ATTACH;FMTTYPE=application/pdf:https://www.coopernuoto.it/cms/wp-content/uploads/2025/01/images-3.pdf
END:VEVENT
END:VCALENDAR