BEGIN:VCALENDAR
VERSION:2.0
PRODID:-//Coopernuoto - ECPv6.2.3.2//NONSGML v1.0//EN
CALSCALE:GREGORIAN
METHOD:PUBLISH
X-ORIGINAL-URL:https://www.coopernuoto.it
X-WR-CALDESC:Eventi per Coopernuoto
REFRESH-INTERVAL;VALUE=DURATION:PT1H
X-Robots-Tag:noindex
X-PUBLISHED-TTL:PT1H
BEGIN:VTIMEZONE
TZID:Europe/Helsinki
BEGIN:DAYLIGHT
TZOFFSETFROM:+0200
TZOFFSETTO:+0300
TZNAME:EEST
DTSTART:20250330T010000
END:DAYLIGHT
BEGIN:STANDARD
TZOFFSETFROM:+0300
TZOFFSETTO:+0200
TZNAME:EET
DTSTART:20251026T010000
END:STANDARD
BEGIN:DAYLIGHT
TZOFFSETFROM:+0200
TZOFFSETTO:+0300
TZNAME:EEST
DTSTART:20260329T010000
END:DAYLIGHT
BEGIN:STANDARD
TZOFFSETFROM:+0300
TZOFFSETTO:+0200
TZNAME:EET
DTSTART:20261025T010000
END:STANDARD
END:VTIMEZONE
BEGIN:VEVENT
DTSTART;TZID=Europe/Helsinki:20250504T080000
DTEND;TZID=Europe/Helsinki:20251127T170000
DTSTAMP:20260423T031851
CREATED:20250205T114203Z
LAST-MODIFIED:20250508T083455Z
UID:50653-1746345600-1764262800@www.coopernuoto.it
SUMMARY:V PROVA CIRCUITO CSI - 04 MAGGIO 2025 - RISULTATI
DESCRIPTION:MANIFESTAZIONE: \n5^ PROVA CIRCUITO INTERPROVINCIALE DI NUOTO CSI \n  \nLOCALITÀ: Piscina Moletolo “G. Onesti” – via\, Luigi Anedda\, 23/\, Parma (zona Moletolo) \nDATA: Domenica 04 Maggio 2025 \n CATEGORIE: Esordienti C e Esordienti Propaganda \n  \nPROGRAMMA \nOre 13.30 Riscaldamento  Esordienti C  \nOre 14.00 Termine riscaldamento  \nOre 14.15 Inizio gare individuali Esordienti C  \nOre 16\,30 circa Riscaldamento Esordienti B e A  \nOre 17\,00 circa Termine riscaldamento  \nOre 17\,15 circa Inizio gare individuali Esordienti B e A \n  \nRISULTATI: https://www.coopernuoto.it/cms/wp-content/uploads/2025/02/RISULTATI.pdf
URL:https://www.coopernuoto.it/evento-sportivo/v-prova-circuito-csi-11-maggio-2025/
CATEGORIES:Esordienti C,Leve
ATTACH;FMTTYPE=application/pdf:https://www.coopernuoto.it/cms/wp-content/uploads/2025/02/convocazione-1.pdf
END:VEVENT
BEGIN:VEVENT
DTSTART;TZID=Europe/Helsinki:20250504T080000
DTEND;TZID=Europe/Helsinki:20250831T170000
DTSTAMP:20260423T031851
CREATED:20250319T140029Z
LAST-MODIFIED:20250319T140327Z
UID:51256-1746345600-1756659600@www.coopernuoto.it
SUMMARY:CAMPIONATO REGIONALE ASSOLUTO ESTIVO LIFESAVING - 4/05/2025
DESCRIPTION:CAMPIONATO REGIONALE ASSOLUTO ESTIVO LIFESAVING – 4/05/2025 \n  \nDATA: 4/05/2025 \nLUOGO: Piscina comunale Reggio Emilia\, Via Melato\, vasca da 50 mt. \nCATEGORIA: Medio Livello
URL:https://www.coopernuoto.it/evento-sportivo/campionato-regionale-assoluto-estivo-lifesaving-4-05-2025/
CATEGORIES:Assoluti medio livello
END:VEVENT
BEGIN:VEVENT
DTSTART;TZID=Europe/Helsinki:20250511T080000
DTEND;TZID=Europe/Helsinki:20250831T170000
DTSTAMP:20260423T031851
CREATED:20241119T121908Z
LAST-MODIFIED:20241119T121908Z
UID:49453-1746950400-1756659600@www.coopernuoto.it
SUMMARY:3° TAPPA TEAM YOUNG CHALLENGE - 11/05/2025
DESCRIPTION:3° TAPPA TEAM YOUNG CHALLENGE – 11/05/2025 \n  \nCATEGORIA: MEDIO LIVELLO \nLUOGO:  da definire \nPROGRAMMA GARE: da definire
URL:https://www.coopernuoto.it/evento-sportivo/3-tappa-team-young-challenge-11-05-2025/
CATEGORIES:Assoluti medio livello
END:VEVENT
BEGIN:VEVENT
DTSTART;TZID=Europe/Helsinki:20250511T080000
DTEND;TZID=Europe/Helsinki:20251204T170000
DTSTAMP:20260423T031851
CREATED:20250205T112726Z
LAST-MODIFIED:20250304T124759Z
UID:50651-1746950400-1764867600@www.coopernuoto.it
SUMMARY:3° TAPPA YOUNG CHALLENGE - 11 MAGGIO 2025
DESCRIPTION:3° TAPPA YOUNG CHALLENGE – 11 MAGGIO 2025 \ndomenica pomeriggio \nDATA: 11/05/2025 \nLUOGO: Casalecchio (BO) \nCATEGORIA: Medio Livello \n  \nprogramma gare da definire
URL:https://www.coopernuoto.it/evento-sportivo/3-tappa-young-challenge-11-maggio-2025/
CATEGORIES:Assoluti medio livello
END:VEVENT
BEGIN:VEVENT
DTSTART;TZID=Europe/Helsinki:20250518T080000
DTEND;TZID=Europe/Helsinki:20250831T170000
DTSTAMP:20260423T031851
CREATED:20250205T114414Z
LAST-MODIFIED:20250508T124416Z
UID:50655-1747555200-1756659600@www.coopernuoto.it
SUMMARY:CREA-CREB - 18 MAGGIO 2025
DESCRIPTION:MANIFESTAZIONE: \nCREA CREB \nDATA: Domenica 18 Maggio 2025 \n  \nLOCALITÀ: Carpi – Piazzale delle piscine\, 4\, 41012 Carpi (MO) \n  \nCATEGORIA: ES. A – ES. B NU – ES. B AQD \n  \nMATTINA \n  \nEso B. Riscaldamento: 8.30 – 8.55 \nINIZIO GARE ore 9.05 – TERMINE GARE ore 10.50 \n  \nEso A. Riscaldamento: 10.50 – 11.15 \nINIZIO GARE ore 11.35 TERMINE GARE ore 13.00 \n  \n  \nPOMERIGGIO \n  \nEso B. Riscaldamento: 14.30 -14.55 \nINIZIO GARE ore 15.05 TERMINE GARE ore 16.05 \n  \nEso A. Riscaldamento: 16.05 – 16.30 \nINIZIO GARE ore 16.40 TERMINE GARE ore 18.30 \n  \nPolo e cuffia COOPERNUOTO \n  \nALLENATORI: Civa\, Ferroni\, Bertacchi\, Valentini\, Guareschi\, Martinelli\, Zilioli\, Zonca\, Foscato. \n 
URL:https://www.coopernuoto.it/evento-sportivo/crea-creb-18-maggio-2025/
CATEGORIES:Esordienti A,Esordienti B
ATTACH;FMTTYPE=application/pdf:https://www.coopernuoto.it/cms/wp-content/uploads/2025/02/convocazione-18-maggio-1.pdf
END:VEVENT
BEGIN:VEVENT
DTSTART;TZID=Europe/Helsinki:20250525T080000
DTEND;TZID=Europe/Helsinki:20251218T170000
DTSTAMP:20260423T031851
CREATED:20250205T114707Z
LAST-MODIFIED:20250507T121757Z
UID:50657-1748160000-1766077200@www.coopernuoto.it
SUMMARY:CREA-CREB - 25 MAGGIO 2025
DESCRIPTION:MANIFESTAZIONE: \nCREA CREB \n  \nDATA: Domenica 25 Maggio 2025 \n  \nLOCALITÀ: Parma – Via Luigi Anedda\, 23\, 43122 Parma (PR) \n  \nCATEGORIA: ES. A – ES. B NU – ES. B AQD \n  \nMATTINA \n  \nEso B. Riscaldamento: 8.30 – 8.55 \nINIZIO GARE ore 9.05 – TERMINE GARE ore 11.05 \n  \nEso A. Riscaldamento: 11.05 – 11.30 \nINIZIO GARE ore 11.40 TERMINE GARE ore 12.40 \n  \n  \nPOMERIGGIO \n  \nEso B. Riscaldamento: 14.30 -14.55 \nINIZIO GARE ore 15.05 TERMINE GARE ore 16.40 \n  \nEso A. Riscaldamento: 16.40 – 17.05 \nINIZIO GARE ore 17.15 TERMINE GARE ore 19.45 \n  \n  \n  \nPolo e cuffia COOPERNUOTO \n  \nALLENATORI: Varini\, Gualdi\, Bertacchi\, Valentini\, Guareschi\, Martinelli\, Zilioli\, Zonca\, Foscato.
URL:https://www.coopernuoto.it/evento-sportivo/crea-creb-25-maggio-2025/
CATEGORIES:Esordienti A,Esordienti B
ATTACH;FMTTYPE=application/pdf:https://www.coopernuoto.it/cms/wp-content/uploads/2025/02/convocazione-25-maggio.pdf
END:VEVENT
BEGIN:VEVENT
DTSTART;TZID=Europe/Helsinki:20250525T080000
DTEND;TZID=Europe/Helsinki:20251218T170000
DTSTAMP:20260423T031851
CREATED:20250205T114904Z
LAST-MODIFIED:20250304T125044Z
UID:50659-1748160000-1766077200@www.coopernuoto.it
SUMMARY:GITA DI SQUADRA!! 25 MAGGIO 2025
DESCRIPTION:GITA DI SQUADRA!! \n  \nDATA: 25/05/2025 \nLUOGO: SORPRESA!! \nCATEGORIA: Esordienti C
URL:https://www.coopernuoto.it/evento-sportivo/gita-di-squadra-25-maggio-2025/
CATEGORIES:Esordienti C
END:VEVENT
BEGIN:VEVENT
DTSTART;TZID=Europe/Helsinki:20250531T080000
DTEND;TZID=Europe/Helsinki:20251224T170000
DTSTAMP:20260423T031851
CREATED:20250205T115119Z
LAST-MODIFIED:20250521T120738Z
UID:50661-1748678400-1766595600@www.coopernuoto.it
SUMMARY:TROFEO CITTA' DI MODENA - 31 MAGGIO 2025
DESCRIPTION:MANIFESTAZIONE: 49° Meeting Nazionale \nCittà di Modena – 4° Trofeo GdF Modena  \n  \nLOCALITÀ: MODENA – Piscina Comunale Dogali \n     Via Dogali\, 12 \n  \n  \nDATA: 31 Maggio 2025 \n  \n  \nCATEGORIE: ESO A \nSabato 31 Maggio inizio gare h 09.30\n50 dorso F Eso A-B\n50 rana M Eso A-B\n100 rana F Eso A-B\n100 dorso M Eso A-B\n100 stile libero F Eso A-B\n200 stile libero M Eso A-B\n400 stile libero F Eso A\n200 rana M Eso A\n200 misti F Eso A-B\n100 farfalla M Eso A-B\n50 farfalla F Eso A-B\n50 stile libero M Eso A-B\n200 dorso F Eso A\n200 farfalla M Eso A\n4×50 STILE F 2 A e 2 B\n4×50 STILE M 2 A e 2 B\n400 misti F Eso A\n400 misti M Eso A\n  \nSabato 31 Maggio inizio gare h 15.30\n50 dorso M Eso A-B\n50 rana F Eso A-B\n100 rana M Eso A-B\n100 dorso F Eso A-B\n100 stile libero M Eso A-B\n200 stile libero F Eso A-B\n400 stile libero M Eso A\n200 rana F Eso A\n200 misti M Eso A-B\n100 farfalla F Eso A-B\n50 farfalla M Eso A-B\n50 stile libero F Eso A-B\n200 dorso M Eso A\n200 farfalla F Eso A\n4×50 MISTA M 2 A e 2 B\n4×50 MISTA F 2 A e 2 B\n1500 stile M Eso A\n800 stile F Eso A\n  \nALLENATORI: Civa\, Valentini\, Martinelli\, Zonca\, Guareschi\, Foscato. \n  \n 
URL:https://www.coopernuoto.it/evento-sportivo/trofeo-citta-di-modena-31-maggio-2025/
CATEGORIES:Esordienti A
ATTACH;FMTTYPE=application/pdf:https://www.coopernuoto.it/cms/wp-content/uploads/2025/02/MANIFESTAZIONE-eso-A.pdf
END:VEVENT
BEGIN:VEVENT
DTSTART;TZID=Europe/Helsinki:20250601T080000
DTEND;TZID=Europe/Helsinki:20250831T170000
DTSTAMP:20260423T031851
CREATED:20250205T115342Z
LAST-MODIFIED:20251202T152912Z
UID:50663-1748764800-1756659600@www.coopernuoto.it
SUMMARY:3° TROFEO GIS MILANO - 01 e 02 GIUGNO 2025
DESCRIPTION:MANIFESTAZIONE: 3^ Edizione Trofeo GIS Milano \nDATA: 1 e 2 Giugno 2025 \n  \nLOCALITÀ: Piscina Faustina\, via Giuseppe Piermarini\, 6/8 Lodi \n  \nCATEGORIA: Alto Livello  \n  \nDIVISA: Polo e Cuffia COOPERNUOTO \n  \nPROGRAMMA GARE: \n  \nDOMENICA 1° GIUGNO: Riscaldamento ore 14.30 \nInizio gare ore 15.15 \n400 SL\, 100 DO\, 200 RA\, 50 SL\, 400 MX \n  \nLUNEDI’ 2 GIUGNO: Riscaldamento MATTINA ore 8.30 \nInizio gare ore 9.15 \n200 FA\, 50 RA\, 200 MX\, 50 FA\, 100 SL \n  \nRiscaldamento POMERIGGIO ore 14.30 \nInizio gare ore 15.15 \n200 DO\, 100 RA\, 50 DO\, 100 FA\, 200 SL \n  \nALLENATORI: Civa\, Ferroni\, Balboni\, Cocchi\, Beggio\, Bonsanto\, Montanari.
URL:https://www.coopernuoto.it/evento-sportivo/3-trofeo-gis-milano-01-e-02-giugno-2025/
CATEGORIES:Assoluti alto livello
ATTACH;FMTTYPE=application/pdf:https://www.coopernuoto.it/cms/wp-content/uploads/2025/02/convocazione-2.pdf
END:VEVENT
BEGIN:VEVENT
DTSTART;TZID=Europe/Helsinki:20250601T080000
DTEND;TZID=Europe/Helsinki:20250831T170000
DTSTAMP:20260423T031851
CREATED:20250521T121219Z
LAST-MODIFIED:20250521T121219Z
UID:52018-1748764800-1756659600@www.coopernuoto.it
SUMMARY:4° TROFEO Gdf MODENA - 1 e 2 GIUGNO 2025
DESCRIPTION:MANIFESTAZIONE: 49° Meeting Nazionale \nCittà di Modena – 4° Trofeo GdF Modena  \n  \nLOCALITÀ: MODENA – Piscina Comunale Dogali \n     Via Dogali\, 12 \n  \n  \nDATA: 1 – 2 Giugno 2025 \n  \nCATEGORIE: MEDIO LIVELLO \nDomenica 1° giugno inizio gare h 10.00\n800 stile F ASS (rag-jun-cad-sen)\n1500 stile M ASS (rag-jun-cad-sen)\nDomenica 1° giugno inizio gare h 15.00\n200 misti M rag-jun-ass.\n400 misti F rag-jun-ass.\n200 rana M rag-jun-ass.\n100 stile libero F rag-jun-ass.\n50 stile libero M rag-jun-ass.\n100 dorso F rag-jun-ass.\n200 dorso M rag-jun-ass.\n200 farfalla F rag-jun-ass.\n100 farfalla M rag-jun-ass.\n50 rana F rag-jun-ass.\n400 stile libero M rag-jun-ass.\n1500 stile F ASS (rag-jun-cad-sen)\n\nLunedì 2 Giugno inizio gare h 8.30\n100 dorso M rag-jun-ass.\n50 dorso F rag-jun-ass.\n200 stile libero M rag-jun-ass.\n200 stile libero F rag-jun-ass.\n100 rana M rag-jun-ass.\n200 rana F rag-jun-ass.\n50 farfalla M rag-jun-ass.\n100 farfalla F rag-jun-ass.\n400 misti M rag-jun-ass.\n200 misti F rag-jun-ass.\n Lunedì 2 Giugno inizio gare h 15.00\n50 stile libero F rag-jun-ass.\n100 stile libero M rag-jun-ass.\n50 farfalla F rag-jun-ass.\n200 farfalla M rag-jun-ass.\n400 stile libero F rag-jun-ass.\n50 rana M rag-jun-ass.\n100 rana F rag-jun-ass.\n50 dorso M rag-jun-ass.\n200 dorso F rag-jun-ass.\n800 stile M ASS (rag-jun-cad-sen)\n  \nALLENATORI: Paterlini\, Brioni\, Fabbricatore\, Ferri. \n 
URL:https://www.coopernuoto.it/evento-sportivo/4-trofeo-gdf-modena-1-e-2-giugno-2025/
CATEGORIES:Assoluti medio livello
ATTACH;FMTTYPE=application/pdf:https://www.coopernuoto.it/cms/wp-content/uploads/2025/05/medio-livello-convocazione.pdf
END:VEVENT
BEGIN:VEVENT
DTSTART;TZID=Europe/Helsinki:20250608T080000
DTEND;TZID=Europe/Helsinki:20260101T170000
DTSTAMP:20260423T031851
CREATED:20250205T120020Z
LAST-MODIFIED:20250604T124308Z
UID:50669-1749369600-1767286800@www.coopernuoto.it
SUMMARY:FINALI CREB - 8 GIUGNO 2025
DESCRIPTION:FINALI CREB – 8 GIUGNO 2025 \n  \nMANIFESTAZIONE: FINALI CREB \nDATA: DOMENICA 8 GIUGNO 2025 \n LOCALITÀ: Bologna – Piscina Carmen Longo v.50 mt \nCATEGORIA: FINALISTI ES. B NU – ES. B AQD \nPROGRAMMA \nMATTINO \nRISC.FEMMINE h. 09.00-09.25\nRISC.MASCHI h. 09.25-09.50\nINIZIO GARE h. 10.00\nTERMINE GARE ore 12.30 circa\nGARE: 100SL – 200DO – 100RA – 100FA – 400SL – 4x50MX \nPOMERIGGIO\n\nRISC.FEMMINE h. 14.30-14.55\nRISC.MASCHI h. 14.55-15.20\nINIZIO GARE h. 15.30\nTERMINE GARE ore 18.00 circa\nGARE: 200MX – 100DO – 200RA – 50FA – 200SL – 4x50SL \nPolo e cuffia COOPERNUOTO \n  \nALLENATORI: Varini\, Bertacchi\, Martinelli\, Zonca\, Guareschi. \nATLETI CONVOCATI:  \n  \nBAGNOLI\, AZZURRA (21/10/2015) \n1) 100 Farfalla 01:44.45 \n  \nCASADIO\, BEATRICE (01/10/2015) \n1) 400 Stile Libero S.T. \n2) 100 Dorso 01:37.90 \n3) 100 Farfalla 02:03.20 \n  \nFARRI\, ALICE (27/08/2015) \n1) 50 Farfalla 00:39.35 \n2) 100 Farfalla 01:40.50 \n3) 200 Misti 03:52.00 \n  \nLANCELLOTTI\, LUDOVICA (12/12/2015) \n1) 100 Stile Libero 01:22.10 \n2) 50 Farfalla 00:42.50 \n3) 100 Farfalla 01:31.21 \n4) 200 Misti S.T. \n  \nPALMIERI\, INES (16/02/2015) \n1) 100 Farfalla S.T. \n  \nPELLACANI\, LAURA (24/06/2015) \n1) 50 Farfalla 00:40.30 \n2) 100 Farfalla 01:32.90 \n3) 200 Misti S.T. \n  \nRUGGERI\, MATILDE (12/05/2015) \n1) 200 Stile Libero 03:04.80 \n2) 400 Stile Libero S.T. \n3) 100 Dorso 01:34.20 \n4) 200 Dorso 03:25.30 \n  \nTONONI\, GIORGIA (21/01/2016) \n1) 100 Dorso 01:34.44 \n  \nBARBIERI\, LORENZO (04/02/2014) \n1) 200 Stile Libero 02:39.40 \n2) 50 Farfalla 00:37.29 \n3) 100 Farfalla 01:24.80 \n4) 200 Misti S.T. \n  \nGHERRI\, EMANUELE (30/07/2014) \n1) 50 Farfalla 00:41.07 \n  \nPELLONI\, FEDERICO (03/02/2014) \n1) 100 Stile Libero 01:20.40 \n2) 100 Rana 01:32.49 \n3) 200 Rana 03:52.20 \n4) 200 Misti S.T. \n  \nSALCUNI\, TOMMASO (18/06/2014) \n1) 100 Stile Libero 01:09.50 \n2) 200 Stile Libero 02:39.20 \n3) 400 Stile Libero S.T. \n4) 200 Misti S.T. \n  \nSALUCCI\, GERARDO ARTURO MARIA (11/04/2014) \n1) 100 Rana 01:48.20 \n2) 200 Rana S.T. \n  \nTIRABASSI\, ELIA (04/10/2014) \n1) 100 Dorso 01:36.90 \n2) 100 Rana 01:46.10
URL:https://www.coopernuoto.it/evento-sportivo/finali-creb-8-giugno-2025/
CATEGORIES:Esordienti B
ATTACH;FMTTYPE=application/pdf:https://www.coopernuoto.it/cms/wp-content/uploads/2025/02/MANIFESTAZIONE.pdf
END:VEVENT
BEGIN:VEVENT
DTSTART;TZID=Europe/Helsinki:20250615T080000
DTEND;TZID=Europe/Helsinki:20250831T170000
DTSTAMP:20260423T031851
CREATED:20250205T132753Z
LAST-MODIFIED:20251105T163431Z
UID:50673-1749974400-1756659600@www.coopernuoto.it
SUMMARY:Qualifiche CRCVL - 16\, 17 e 18/06/25
DESCRIPTION:Qualifiche CRCVL – 16\, 17 e 18/06/25 \n  \nDATA: 16\, 17 e 18/06/25 \nLUOGO: Melato (RE) \nCATEGORIE: Alto Livello \n  \nCONC.B REGGIO EMILIA \n16 giugno 2025 \nRisc.Femmine 18.00-18.25 \nRisc.Maschi 18.25-18.50 \nInizio gare 19.00 \nTermine gare 22.15 \n  \n17 giugno 2025 \nRisc.Femmine 18.00-18.25 \nRisc.Maschi 18.25-18.50 \nInizio gare 19.00 \nTermine gare 22.45 \n  \n18 giugno 2025 \nRisc.Femmine 18.00-18.25 \nRisc.Maschi 18.25-18.50 \nInizio gare 19.00 \nTermine gare 22.45 \n 
URL:https://www.coopernuoto.it/evento-sportivo/qualifiche-crcvl-16-e-17-06-25/
CATEGORIES:Assoluti alto livello
END:VEVENT
BEGIN:VEVENT
DTSTART;TZID=Europe/Helsinki:20250620T080000
DTEND;TZID=Europe/Helsinki:20260113T170000
DTSTAMP:20260423T031851
CREATED:20250205T133117Z
LAST-MODIFIED:20250604T124545Z
UID:50675-1750406400-1768323600@www.coopernuoto.it
SUMMARY:VII TROFEO CITTA' DI CHIANCIANO - 20\, 21 E 22 GIUGNO 2025
DESCRIPTION:VII TROFEO CITTA’ DI CHIANCIANO – 20\, 21 E 22 GIUGNO 2025 \n  \nDATA: 20\, 21 e 22/06/2025 \nLUOGO: Chianciano (SI) \nCATEGORIA: Esordienti A \n  \nORARI PARTENZA/RIENTRO TRSFERTA: \nPartenza: venerdì 20/06 – ritrovo ore 7:00 parcheggio scambiatore Autostrada di Pr per gli atleti di Parma e/o Onda della Pietra. \nOre 7:30 piazzale Fiere di Mancasale (RE) per gli atleti di Novellara\, Reggio Emilia e/o Onda della Pietra \nOre 8:00 Piazzola di sosta via Cave di Ramo uscita Autostrada Mo Nord di fronte Steak House per gli atleti di Carpi e Mirandola. \nRientro: Domenica 22/06 – partenza da Pistoia nel pomeriggio\, arrivo parcheggio uscita Autostrada di Modena Nord\, successivamente piazzale Fiere di Mancasale (RE) e per ultimo parcheggio scambiatore uscita Autostrada di Parma.
URL:https://www.coopernuoto.it/evento-sportivo/vii-trofeo-citta-di-chianciano-20-21-e-22-giugno-2025/
CATEGORIES:Esordienti A
END:VEVENT
BEGIN:VEVENT
DTSTART;TZID=Europe/Helsinki:20250702T080000
DTEND;TZID=Europe/Helsinki:20250831T170000
DTSTAMP:20260423T031851
CREATED:20250205T133905Z
LAST-MODIFIED:20251105T163311Z
UID:50681-1751443200-1756659600@www.coopernuoto.it
SUMMARY:FINALI CREA - 02\, 03 e 04 LUGLIO 2025
DESCRIPTION:FINALI CREA – 02\, 03 e 04 LUGLIO 2025 \n  \nDATA: 02\, 03 e3 04/07/2025 \nLUOGO: Ravenna \nCATEGORIA: Esordienti A \n  \nprogramma gare da definire
URL:https://www.coopernuoto.it/evento-sportivo/finali-crea-02-03-e-04-luglio-2025/
CATEGORIES:Esordienti A
END:VEVENT
BEGIN:VEVENT
DTSTART;TZID=Europe/Helsinki:20250718T080000
DTEND;TZID=Europe/Helsinki:20250831T170000
DTSTAMP:20260423T031851
CREATED:20250205T134140Z
LAST-MODIFIED:20251105T163238Z
UID:50683-1752825600-1756659600@www.coopernuoto.it
SUMMARY:FINALI CRCVL - 18\, 19 e 20 LUGLIO 2025
DESCRIPTION:FINALI CRCVL – 18\, 19 e 20 LUGLIO 2025 \n  \nDATA: 18\, 19 e 20/07/2025 \nLUOGO: Riccione \nCATEGORIA: Finalisti Alto Livello \n  \nprogramma gare da definire
URL:https://www.coopernuoto.it/evento-sportivo/finali-crcvl-18-19-e-20-luglio-2025/
CATEGORIES:Assoluti alto livello
END:VEVENT
BEGIN:VEVENT
DTSTART;TZID=Europe/Helsinki:20250801T080000
DTEND;TZID=Europe/Helsinki:20250831T170000
DTSTAMP:20260423T031851
CREATED:20250205T134344Z
LAST-MODIFIED:20251105T163517Z
UID:50685-1754035200-1756659600@www.coopernuoto.it
SUMMARY:CAMPIONATI ITALIANI CATEGORIA RAGAZZI - 01\, 02\, 03 e 04 AGOSTO 2025
DESCRIPTION:CAMPIONATI ITALIANI CATEGORIA RAGAZZI – 01\, 02\, 03 e 04 AGOSTO 2025 \n  \nDATA: 01-04/08/25 \nLUOGO: Chianciano (SI) \nCATEGORIA: Selezione alto livello \n  \nprogramma gare da definire
URL:https://www.coopernuoto.it/evento-sportivo/campionati-italiani-categoria-ragazzi-01-02-03-e-04-agosto-2025/
CATEGORIES:Assoluti alto livello
END:VEVENT
BEGIN:VEVENT
DTSTART;TZID=Europe/Helsinki:20250805T080000
DTEND;TZID=Europe/Helsinki:20250831T170000
DTSTAMP:20260423T031851
CREATED:20250205T134653Z
LAST-MODIFIED:20251029T163607Z
UID:50688-1754380800-1756659600@www.coopernuoto.it
SUMMARY:CAMPIONATI ITALIANI CATEGORIA JUNIOR\, CADETTI E SENIOR - 05\, 06\, 07\, 08\, 09 AGOSTO 2025
DESCRIPTION:CAMPIONATI ITALIANI CATEGORIA JUNIOR\, CADETTI E SENIOR – 05\, 06\, 07\, 08\, 09 AGOSTO 2025 \n  \nDATA: 05-09/08/2025 \nLUOGO: Chianciano (SI) \nCATEGORIA: Selezione Alto Livello \n  \nprogramma gare da definire
URL:https://www.coopernuoto.it/evento-sportivo/campionati-italiani-categoria-junior-cadetti-e-senior-05-06-07-08-09-agosto-2025/
CATEGORIES:Assoluti alto livello
END:VEVENT
BEGIN:VEVENT
DTSTART;TZID=Europe/Helsinki:20251101T080000
DTEND;TZID=Europe/Helsinki:20260903T170000
DTSTAMP:20260423T031851
CREATED:20251029T135346Z
LAST-MODIFIED:20251105T140543Z
UID:54152-1761984000-1788454800@www.coopernuoto.it
SUMMARY:V Trofeo Coopernuoto  01- 02/11/25 RISULTATI
DESCRIPTION:V Trofeo Coopernuoto 01- 02/11/25 \n  \nData: 01 e 02 Novembre 2025 \nRisultati: https://www.goandswim.com/follow/PublicEvent.aspx?Event=bc8cf56024584a389f993542efe46bce
URL:https://www.coopernuoto.it/evento-sportivo/v-trofeo-coopernuoto-01-02-11-25/
CATEGORIES:Assoluti alto livello
END:VEVENT
BEGIN:VEVENT
DTSTART;TZID=Europe/Helsinki:20251107T080000
DTEND;TZID=Europe/Helsinki:20260630T170000
DTSTAMP:20260423T031851
CREATED:20251107T113327Z
LAST-MODIFIED:20260416T130434Z
UID:54318-1762502400-1782838800@www.coopernuoto.it
SUMMARY:Calendario Ragazzi
DESCRIPTION:Calendario Ragazzi aggiornato al  15/04/26 \n  \nhttps://www.coopernuoto.it/cms/wp-content/uploads/2025/11/Copia-di-Ragazzi-aggiornato-al-15-aprile-1.pdf
URL:https://www.coopernuoto.it/evento-sportivo/calendario-ragazzi/
CATEGORIES:Ragazzi U14
END:VEVENT
BEGIN:VEVENT
DTSTART;TZID=Europe/Helsinki:20251107T080000
DTEND;TZID=Europe/Helsinki:20260630T170000
DTSTAMP:20260423T031851
CREATED:20251107T115428Z
LAST-MODIFIED:20260416T130549Z
UID:54321-1762502400-1782838800@www.coopernuoto.it
SUMMARY:Calendario Allievi
DESCRIPTION:Calendario Allievi aggiornato al 15/04/26 \n  \nhttps://www.coopernuoto.it/cms/wp-content/uploads/2025/11/Copia-di-Allievi-aggiornato-al-15-aprile.pdf
URL:https://www.coopernuoto.it/evento-sportivo/calendario-allievi/
CATEGORIES:Allievi U16
END:VEVENT
BEGIN:VEVENT
DTSTART;TZID=Europe/Helsinki:20251107T080000
DTEND;TZID=Europe/Helsinki:20260630T170000
DTSTAMP:20260423T031851
CREATED:20251107T124825Z
LAST-MODIFIED:20260422T081404Z
UID:54324-1762502400-1782838800@www.coopernuoto.it
SUMMARY:Calendario Juniores
DESCRIPTION:Calendario Juniores aggiornato al 20/04/26 \n  \nhttps://www.coopernuoto.it/cms/wp-content/uploads/2025/11/Copia-di-Juniores-aggiornato-al-20-aprile.pdf
URL:https://www.coopernuoto.it/evento-sportivo/calendario-juniores/
CATEGORIES:Juniores U18
END:VEVENT
BEGIN:VEVENT
DTSTART;TZID=Europe/Helsinki:20251109T080000
DTEND;TZID=Europe/Helsinki:20260831T170000
DTSTAMP:20260423T031851
CREATED:20251029T140010Z
LAST-MODIFIED:20251112T172844Z
UID:54154-1762675200-1788195600@www.coopernuoto.it
SUMMARY:5° Circuito regionale CSI - 1° Prova  9/11/25 - RISULTATI
DESCRIPTION:1° PROVA DEL  \n5° CIRCUITO REGIONALE DI NUOTO CSI 2025/2026  \n15^ RASSEGNA DI NUOTO CSI 2025/2026 \n  \n  \nLOCALITÀ: Piscina Comunale “Ferretti – Ferrari”\, Via Melato\, 2 REGGIO NELL’EMILIA \nDATA: Domenica 9 Novembre 2025 \nCATEGORIE: ESORDIENTI C ed ESO PROPA PARMA  \nPROGRAMMA \n  \nOre 8\,30 Riscaldamento Esordienti C  \nOre 9\,00 Termine riscaldamento  \nOre 9\,15 Inizio gare individuali Esordienti C  \nOre 10\,15 Circa Termine gare individuali Esordienti C  \nOre 10\,30 Circa Premiazioni Esordienti C  \nOre 11\,00 Circa Riscaldamento Esordienti B\, A e Ragazzi  \nOre 11\,30 Circa Termine riscaldamento  \nOre 11\,45 Circa Inizio gare individuali Esordienti B\, A e Ragazzi  \nOre 12\,45 Circa Termine gare individuali Esordienti B\, A e Ragazzi  \nOre 13\,00 Circa Premiazioni Esordienti B\, A e Ragazzi \n  \nRISULTATI: https://www.coopernuoto.it/cms/wp-content/uploads/2025/10/risultati.pdf
URL:https://www.coopernuoto.it/evento-sportivo/5-circuito-regionale-csi-1-prova-9-11-25/
CATEGORIES:Esordienti C,Esordienti propaganda
ATTACH;FMTTYPE=application/pdf:https://www.coopernuoto.it/cms/wp-content/uploads/2025/10/MANIFESTAZIONE-1.pdf
END:VEVENT
BEGIN:VEVENT
DTSTART;TZID=Europe/Helsinki:20251109T080000
DTEND;TZID=Europe/Helsinki:20260831T170000
DTSTAMP:20260423T031851
CREATED:20251029T140251Z
LAST-MODIFIED:20251112T173158Z
UID:54156-1762675200-1788195600@www.coopernuoto.it
SUMMARY:Young Challenge - 1°Tappa  9/11/2025 - RISULTATI
DESCRIPTION:MANIFESTAZIONE: \n1^TAPPA CIRCUITO YOUNG CHALLENGE UISP \n  \nLOCALITÀ: Piscina di San Pietro in Casale (BO) – via Massumatico\, 722 – 40018 \n  \nDATA: Domenica 9 Novembre 2025 \n  \nCATEGORIA: MEDIO LIVELLO \nPROGRAMMA \nGARE IN PROGRAMMA E ORARIO  \n50 FA – 100 DO – 200 SL – 50 RA – 100 SL –3X50 SL ALL IN  \nOre 13:15 accesso impianto \nOre 13:30 riscaldamento maschi \nOre 13:50 riscaldamento femmine \nOre 14:00 inizio gare \n  \nRISULTATI: https://www.goandswim.com/follow/PublicEvent.aspx?Event=ba69846f9e124934b311f25942b9608e \n 
URL:https://www.coopernuoto.it/evento-sportivo/young-challenge-1tappa-9-11-2025/
CATEGORIES:Assoluti medio livello
ATTACH;FMTTYPE=application/pdf:https://www.coopernuoto.it/cms/wp-content/uploads/2025/10/MANIFESTAZIONE-2.pdf
END:VEVENT
BEGIN:VEVENT
DTSTART;TZID=Europe/Helsinki:20251120T080000
DTEND;TZID=Europe/Helsinki:20260831T170000
DTSTAMP:20260423T031851
CREATED:20251029T143231Z
LAST-MODIFIED:20251126T132811Z
UID:54160-1763625600-1788195600@www.coopernuoto.it
SUMMARY:Campionato Italiano FisDir  20-23/11/25 - RISULTATI
DESCRIPTION:Campionato Italiano FisDir \n  \nData: dal 20 al 23 Novembre 2025 \nLuogo: Loano (SV) \nCategoria: FisDir \n  \nRISULTATI: https://www.fidalservizi.it/risultati/2025/LoanoVascaCorta_FISDIR2025/Risultati/IndexRisultatiPerGara.html
URL:https://www.coopernuoto.it/evento-sportivo/campionato-italiano-fisdir-20-23-11-25/
CATEGORIES:FISDIR
END:VEVENT
BEGIN:VEVENT
DTSTART;TZID=Europe/Helsinki:20251123T080000
DTEND;TZID=Europe/Helsinki:20260831T170000
DTSTAMP:20260423T031851
CREATED:20251029T141931Z
LAST-MODIFIED:20251126T133354Z
UID:54158-1763884800-1788195600@www.coopernuoto.it
SUMMARY:XIV Trofeo Città di Reggio Emilia  23/11/2025 - RISULTATI
DESCRIPTION:XIV Trofeo Città di Reggio Emilia \n  \nData: 23 Novembre 2025 \nLuogo: Piscina Melato (RE) \nCategoria: Alto Livello \n  \nRISULTATI: https://nuoto.ficr.it/#/NUO/programma/XIII%20TROFEO%20CITTA%E2%80%99%20DI%20REGGIO%20EMILIA/2025/83/5210 
URL:https://www.coopernuoto.it/evento-sportivo/xiv-trofeo-citta-di-reggio-emilia-23-11-2025/
CATEGORIES:Assoluti alto livello
END:VEVENT
BEGIN:VEVENT
DTSTART;TZID=Europe/Helsinki:20251123T080000
DTEND;TZID=Europe/Helsinki:20260831T170000
DTSTAMP:20260423T031851
CREATED:20251029T143444Z
LAST-MODIFIED:20251126T132526Z
UID:54162-1763884800-1788195600@www.coopernuoto.it
SUMMARY:Torneo Inverno 1°Turno-1°Prova  23/11/25 - RISULTATI
DESCRIPTION:MANIFESTAZIONE: 1° Turno 1^ parte Torneo Inverno \nDATA: Domenica 23 Novembre 2025 \nLOCALITÀ: Moletolo (PR) – Via Luigi Anedda\, 23\, 43122. \nCATEGORIA: ES. A – ES. B   \nDIVISA: Polo e Cuffia COOPERNUOTO \n  \nRISULTATI:  https://www.goandswim.com/follow/PublicEvent.aspx?Event=925010ed193249c59513464c02002bb3 \n 
URL:https://www.coopernuoto.it/evento-sportivo/torneo-inverno-1turno-1prova-23-11-25/
CATEGORIES:Esordienti A,Esordienti B
ATTACH;FMTTYPE=application/pdf:https://www.coopernuoto.it/cms/wp-content/uploads/2025/10/MANIFESTAZIONE-1°-turno-1^parte.pdf
END:VEVENT
BEGIN:VEVENT
DTSTART;TZID=Europe/Helsinki:20251127T080000
DTEND;TZID=Europe/Helsinki:20251127T170000
DTSTAMP:20260423T031851
CREATED:20251127T131743Z
LAST-MODIFIED:20251127T131743Z
UID:54649-1764230400-1764262800@www.coopernuoto.it
SUMMARY:3^ Prova Campionato Regionale - 18/01/26
DESCRIPTION:3^ Prova Campionato Regionale – 18/01/26 \n  \nDATA: 18 Gennaio 2026 \nLUOGO: Forlì \nCATEGORIA: – Esordienti A\, Obbligatori \n– Juniores\, Obbligatori + liberi \n– Assolute\, Obbligatori + liberi \n  \nPROGRAMMA ORARI: \nMattina: 08:30 – 16:00
URL:https://www.coopernuoto.it/evento-sportivo/3-prova-campionato-regionale-18-01-26/
CATEGORIES:Esordienti A agonismo,Ragazze agonismo
END:VEVENT
BEGIN:VEVENT
DTSTART;TZID=Europe/Helsinki:20251130T080000
DTEND;TZID=Europe/Helsinki:20260831T170000
DTSTAMP:20260423T031851
CREATED:20251029T144107Z
LAST-MODIFIED:20251203T144140Z
UID:54164-1764489600-1788195600@www.coopernuoto.it
SUMMARY:Torneo Inverno 1°Turno - 2° Parte  30/11/2025 - RISULTATI
DESCRIPTION:MANIFESTAZIONE: 1° Turno 2^ parte Torneo Inverno \nDATA: Domenica 30 Novembre 2025 \n  \nLOCALITÀ: Piscina Melato (RE) – Via Maria Melato\, 42122. \nCATEGORIA: ES. A – ES. B  \n  \nDIVISA: Polo e Cuffia COOPERNUOTO \n  \nRISULTATI: https://www.goandswim.com/follow/PublicEvent.aspx?Event=925010ed193249c59513464c02002bb3 \n 
URL:https://www.coopernuoto.it/evento-sportivo/torneo-inverno-1turno-2-parte-30-11-2025/
CATEGORIES:Esordienti A,Esordienti B
ATTACH;FMTTYPE=application/pdf:https://www.coopernuoto.it/cms/wp-content/uploads/2025/10/MANIFESTAZIONE-1°-turno-2^-parte-1.pdf
END:VEVENT
BEGIN:VEVENT
DTSTART;TZID=Europe/Helsinki:20251206T080000
DTEND;TZID=Europe/Helsinki:20260831T170000
DTSTAMP:20260423T031851
CREATED:20251029T144304Z
LAST-MODIFIED:20251209T104814Z
UID:54166-1765008000-1788195600@www.coopernuoto.it
SUMMARY:CRCVC 1° TURNO - 1° Parte   06/12/25 - Concentramento D - RISULTATI
DESCRIPTION:MANIFESTAZIONE: \n  \nCRCVC – 1° giornata – CONC. D \n  \nDATA:    Sabato 6 Dicembre 2025 \n  \n  \nLOCALITA’: Reggio Emilia – Piscina Melato \n  \n  \nCATEGORIE: ALTO LIVELLO \n  \nRISULTATI: https://www.goandswim.com/follow/PublicEvent.aspx?Event=395ea2af781647d584a2333e0ff509d5 \n 
URL:https://www.coopernuoto.it/evento-sportivo/torneo-inverno-1turno-2-parte-06-12-25/
CATEGORIES:Assoluti alto livello
ATTACH;FMTTYPE=application/pdf:https://www.coopernuoto.it/cms/wp-content/uploads/2025/10/convocazione-1--giornata-concentramento-D.pdf
END:VEVENT
BEGIN:VEVENT
DTSTART;TZID=Europe/Helsinki:20251206T080000
DTEND;TZID=Europe/Helsinki:20261001T170000
DTSTAMP:20260423T031851
CREATED:20251105T164526Z
LAST-MODIFIED:20251105T165842Z
UID:54297-1765008000-1790874000@www.coopernuoto.it
SUMMARY:CRCVC 1°Prova - 1° Parte 06/12/2025 - Concentramento D
DESCRIPTION:CRCVC 1°Prova – 1° Parte 06/12/2025 – Concentramento D \n  \nData: 06 Dicembre 2025 \nLuogo: Piscina Melato (RE) \nCategoria: Alto Livello
URL:https://www.coopernuoto.it/evento-sportivo/crcvc-1prova-1-parte-06-12-2025-concentramento-d/
CATEGORIES:Assoluti alto livello
END:VEVENT
END:VCALENDAR