BEGIN:VCALENDAR
VERSION:2.0
PRODID:-//Coopernuoto - ECPv6.2.3.2//NONSGML v1.0//EN
CALSCALE:GREGORIAN
METHOD:PUBLISH
X-ORIGINAL-URL:https://www.coopernuoto.it
X-WR-CALDESC:Eventi per Coopernuoto
REFRESH-INTERVAL;VALUE=DURATION:PT1H
X-Robots-Tag:noindex
X-PUBLISHED-TTL:PT1H
BEGIN:VTIMEZONE
TZID:Europe/Helsinki
BEGIN:DAYLIGHT
TZOFFSETFROM:+0200
TZOFFSETTO:+0300
TZNAME:EEST
DTSTART:20240331T010000
END:DAYLIGHT
BEGIN:STANDARD
TZOFFSETFROM:+0300
TZOFFSETTO:+0200
TZNAME:EET
DTSTART:20241027T010000
END:STANDARD
BEGIN:DAYLIGHT
TZOFFSETFROM:+0200
TZOFFSETTO:+0300
TZNAME:EEST
DTSTART:20250330T010000
END:DAYLIGHT
BEGIN:STANDARD
TZOFFSETFROM:+0300
TZOFFSETTO:+0200
TZNAME:EET
DTSTART:20251026T010000
END:STANDARD
END:VTIMEZONE
BEGIN:VEVENT
DTSTART;TZID=Europe/Helsinki:20250126T080000
DTEND;TZID=Europe/Helsinki:20250831T170000
DTSTAMP:20260422T082844
CREATED:20241121T135545Z
LAST-MODIFIED:20250312T114608Z
UID:49493-1737878400-1756659600@www.coopernuoto.it
SUMMARY:2° TURNO 2° PARTE TORNEO INVERNO - 26/01/2025 - RISULTATI
DESCRIPTION:2° TURNO 2° PARTE TORNEO INVERNO – 26/01/2025 \nDomenica Pomeriggio \n  \nCATEGORIA: Esordienti B e Esordienti A \nLUOGO: Carpi (MO) \nPROGRAMMA GARE: \n  \nESORDIENTI A: riscaldamento ore 14:00 – 14:25 \nInizio gare: 14:35 \nFine gare: 16:35 \n  \nESORDIENTI B: riscaldamento ore 16:35 – 17:00 \nInizio gare 17:10 \nFine gare 19:00 \n  \nRISULTATI: https://www.goandswim.com/follow/PublicEvent.aspx?Event=cb0612f8ea4e4510a367bcddbef23a5c
URL:https://www.coopernuoto.it/evento-sportivo/2-turno-2-parte-torneo-inverno-26-01-2025/
CATEGORIES:Esordienti A,Esordienti B
ATTACH;FMTTYPE=application/pdf:https://www.coopernuoto.it/cms/wp-content/uploads/2024/11/convocazione-26.01-1.pdf
END:VEVENT
BEGIN:VEVENT
DTSTART;TZID=Europe/Helsinki:20250125T080000
DTEND;TZID=Europe/Helsinki:20250831T170000
DTSTAMP:20260422T082844
CREATED:20241121T135345Z
LAST-MODIFIED:20250312T121350Z
UID:49491-1737792000-1756659600@www.coopernuoto.it
SUMMARY:1° TROFEO AQUATICA - 25 e 26/01/2025 - RISULTATI
DESCRIPTION:1° TROFEO AQUATICA – 25 e 26/01/2025 \n  \nCATEGORIA: Alto Livello Categoria JUNIOR\, CADETTI e SENIOR \nLUOGO: Ravenna \nil viaggio sarà effettuato con pullman di Borghi viaggi. \n  \nPartenza: sabato 25/01 – ritrovo ore 8:00 parcheggio scambiatore Autostrada di Pr per gli atleti di Parma e/o Onda della Pietra. \n– ore 8:30 piazzale Fiere di Mancasale (RE) per gli atleti di Novellara\, Reggio Emilia e/o Onda della Pietra \n– ore 9:00 Piazzola di sosta via Cave di Ramo uscita Autostrada Mo Nord di fronte Steak House per gli atleti di Carpi e Mirandola. \nRientro: Domenica 26/01 – partenza al termine delle gare con arrivo parcheggio uscita Autostrada di Modena Nord\, successivamente piazzale Fiere di Mancasale (RE) e per ultimo parcheggio scambiatore uscita Autostrada di Parma. \n  \nRISULTATI: https://www.goandswim.com/follow/PublicEvent.aspx?Event=f63af63031764e639ac5fa8cff9cc3d9
URL:https://www.coopernuoto.it/evento-sportivo/1-trofeo-aquatica-25-e-26-01-2025/
CATEGORIES:Assoluti alto livello
END:VEVENT
BEGIN:VEVENT
DTSTART;TZID=Europe/Helsinki:20250125T080000
DTEND;TZID=Europe/Helsinki:20250831T170000
DTSTAMP:20260422T082844
CREATED:20241119T122930Z
LAST-MODIFIED:20250312T121149Z
UID:49463-1737792000-1756659600@www.coopernuoto.it
SUMMARY:TROFEO LUCCA - 25 e 26 GENNAIO 2025 - RISULTATI
DESCRIPTION:TROFEO LUCCA – 25 e 26 GENNAIO 2025 \n  \nCATEGORIA:  Alto Livello Categoria Ragazzi. \nTrasferta con Pullman di Borghi Viaggi \nPartenza: Ritrovo ore 8:00 parcheggio scambiatore Autostrada di Pr per gli atleti di Parma e/o Onda della Pietra.\n– ore 8:30 piazzale Fiere di Mancasale (RE) per gli atleti di Novellara\, Reggio Emilia e/o Onda della Pietra\n– ore 9:00 Piazzola di sosta via Cave di Ramo uscita Autostrada Mo Nord di fronte Steak House per gli atleti di                                                           Carpi e Mirandola. \nRientro:  Domenica 26/01 -partenza al termine delle gare con arrivo parcheggio uscita Autostrada di Modena Nord\,\nsuccessivamente piazzale Fiere di Mancasale (RE) e per ultimo parcheggio scambiatore uscita Autostrada di Parma. \n  \nRISULTATI: http://www.federnuoto.toscana.it/lucca.htm \n 
URL:https://www.coopernuoto.it/evento-sportivo/trofeo-lucca-25-e-26-gennaio-2025/
CATEGORIES:Assoluti alto livello
END:VEVENT
BEGIN:VEVENT
DTSTART;TZID=Europe/Helsinki:20250119T080000
DTEND;TZID=Europe/Helsinki:20250831T170000
DTSTAMP:20260422T082844
CREATED:20241121T135052Z
LAST-MODIFIED:20250312T114510Z
UID:49489-1737273600-1756659600@www.coopernuoto.it
SUMMARY:2° TURNO 1° PARTE TORNEO INVERNO - 19/01/2025 - RISULTATI
DESCRIPTION:2° TURNO 1° PARTE TORNEO INVERNO – 19/01/2025 \nDomenica Pomeriggio \nCATEGORIA: Esordienti B e Esordienti A \nLUOGO: Moletolo (PR) \nPROGRAMMA GARE: \nESORDIENTI B: riscaldamento ore 14:00 – 14:25 \nInizio gare ore: 14:35 \nFine gare ore: 16:35 \n  \nESORDIENTI A: riscaldamento ore: 16:35 – 17:00 \nIniziò gare ore : 17:10 \nFine gare: 19:10 \n  \nRISULTATI: https://www.goandswim.com/follow/PublicEvent.aspx?Event=cb0612f8ea4e4510a367bcddbef23a5c
URL:https://www.coopernuoto.it/evento-sportivo/2-turno-1-parte-torneo-inverno-19-01-2025/
CATEGORIES:Esordienti A,Esordienti B
END:VEVENT
BEGIN:VEVENT
DTSTART;TZID=Europe/Helsinki:20250119T080000
DTEND;TZID=Europe/Helsinki:20250831T170000
DTSTAMP:20260422T082844
CREATED:20241119T121703Z
LAST-MODIFIED:20250227T122344Z
UID:49451-1737273600-1756659600@www.coopernuoto.it
SUMMARY:2° TAPPA TEAM YOUNG CHALLENGE - 19/01/2025 RISULTATI
DESCRIPTION:MANIFESTAZIONE: \n2^TAPPA CIRCUITO YOUNG CHALLENGE UISP \n  \nLOCALITÀ: PISCINA COMUNALE DI FORLI’  \nVia Filippo Turati\, 17/19- 47121 FORLI’ \n  \nDATA: Domenica 19 Gennaio 2025 \n  \nCATEGORIA: MEDIO LIVELLO \nPROGRAMMA \n  \nGARE IN PROGRAMMA E ORARIO  \n  \nMATTINA: 100 SL – 100 FA – 4X50 SL ALL IN \nore 9.00 accesso impianto \nore 9.10 riscaldamento maschi \nore 9.30 riscaldamento femmine \nore 10.00 inizio gare \n  \nPOMERIGGIO: 100 DO – 100 RA – 4X50 SL MIXED – AUSTRALIANA FEMMINILE \nore 14.40 riscaldamento maschi \nore 15.00 riscaldamento femmine \nore 15.30 inizio gare \nCuffia e maglietta UNISPORT \nALLENATORI: Emiliano Brioni\, Stefano Paterlini\, Angelo Fabbricatore\, Ilaria Ferri\, Giuseppe Bonsanto. \n  \nPROGRAMMA 2 TAPPA: \n https://www.coopernuoto.it/cms/wp-content/uploads/2024/11/PROGRAMMA-2-TAPPA.pdf \nRISULTATI: \nhttps://www.goandswim.com/follow/PublicEvent.aspx?Event=78b427d11a804a36b1994fe40e1e9177 \n  \n 
URL:https://www.coopernuoto.it/evento-sportivo/2-tappa-team-young-challenge-19-01-2025/
CATEGORIES:Assoluti medio livello
ATTACH;FMTTYPE=application/pdf:https://www.coopernuoto.it/cms/wp-content/uploads/2024/11/CONVOCAZIONE-2.pdf
END:VEVENT
BEGIN:VEVENT
DTSTART;TZID=Europe/Helsinki:20250112T080000
DTEND;TZID=Europe/Helsinki:20250831T170000
DTSTAMP:20260422T082844
CREATED:20241121T134431Z
LAST-MODIFIED:20250115T165030Z
UID:49486-1736668800-1756659600@www.coopernuoto.it
SUMMARY:II PROVA CIRCUITO CSI - 12/01/2025_RISULTATI
DESCRIPTION:II PROVA CIRCUITO CSI – 12/01/2025 \nDomenica Pomeriggio \nCATEGORIA: Esordienti C \nLUOGO: Fidenza (PR)\, Via Togliatti 38. \n  \nRISULTATI:https://www.coopernuoto.it/cms/wp-content/uploads/2024/11/RISULTATI-1.pdf
URL:https://www.coopernuoto.it/evento-sportivo/ii-prova-circuito-csi-12-01-2025/
CATEGORIES:Esordienti C,Esordienti propaganda
END:VEVENT
BEGIN:VEVENT
DTSTART;TZID=Europe/Helsinki:20250112T080000
DTEND;TZID=Europe/Helsinki:20250831T170000
DTSTAMP:20260422T082844
CREATED:20241119T122123Z
LAST-MODIFIED:20250312T113719Z
UID:49455-1736668800-1756659600@www.coopernuoto.it
SUMMARY:COMBINATA DEGLI STILI e TROFEO STAFFETTE - 12/01/2025 1° TAPPA - RISULTATI
DESCRIPTION:MANIFESTAZIONE: COMBINATA DEGLI STILI 2024/25 \n  \nLOCALITÀ:  Piscina Comunale Reggio Emilia Via Maria Melato \n  \nDATA: Domenica 12 Gennaio 2025 \n  \n CATEGORIA: Esordienti B \n  \nPROGRAMMA GARE:   \nRiscaldamento: Femmine 15.30 – 15.45 \nMaschi 15.45 – 16.00 \nInizio gare 16.10 \n  \nSTAFFETTE 4X25/4X50 STILE LIBERO \n25/50 DORSO – 25/50 STILE LIBERO \nSTAFFETTE 4X25/4X50 MISTI \n  \nRISULTATI: https://www.goandswim.com/follow/PublicEvent.aspx?Event=eedac0253319445eb2c54746a126edc5 \n  \n 
URL:https://www.coopernuoto.it/evento-sportivo/combinata-degli-stili-e-trofeo-staffette-12-01-2025/
CATEGORIES:Esordienti B
ATTACH;FMTTYPE=application/pdf:https://www.coopernuoto.it/cms/wp-content/uploads/2024/11/convocazione-1.pdf
END:VEVENT
BEGIN:VEVENT
DTSTART;TZID=Europe/Helsinki:20250108T080000
DTEND;TZID=Europe/Helsinki:20250831T170000
DTSTAMP:20260422T082844
CREATED:20250108T103613Z
LAST-MODIFIED:20250605T090842Z
UID:50101-1736323200-1756659600@www.coopernuoto.it
SUMMARY:CALENDARI PARTITE
DESCRIPTION:https://www.coopernuoto.it/cms/wp-content/uploads/2025/01/Copia-di-Juniores-24-25-aggiornato-al-04-giugno.pdf
URL:https://www.coopernuoto.it/evento-sportivo/calendari-partite-3/
CATEGORIES:Juniores U18
ATTACH;FMTTYPE=application/pdf:https://www.coopernuoto.it/cms/wp-content/uploads/2025/01/images-1.pdf
END:VEVENT
BEGIN:VEVENT
DTSTART;TZID=Europe/Helsinki:20250108T080000
DTEND;TZID=Europe/Helsinki:20250831T170000
DTSTAMP:20260422T082844
CREATED:20250108T103445Z
LAST-MODIFIED:20250605T090753Z
UID:50098-1736323200-1756659600@www.coopernuoto.it
SUMMARY:CALENDARI PARTITE
DESCRIPTION:https://www.coopernuoto.it/cms/wp-content/uploads/2025/01/Copia-di-Esordienti-24-25-aggiornato-al-04-giugno.pdf
URL:https://www.coopernuoto.it/evento-sportivo/calendari-partite-2/
CATEGORIES:Esordienti U12
ATTACH;FMTTYPE=application/pdf:https://www.coopernuoto.it/cms/wp-content/uploads/2025/01/images.pdf
END:VEVENT
BEGIN:VEVENT
DTSTART;TZID=Europe/Helsinki:20241222T080000
DTEND;TZID=Europe/Helsinki:20250909T170000
DTSTAMP:20260422T082844
CREATED:20241023T113213Z
LAST-MODIFIED:20250107T124806Z
UID:49107-1734854400-1757437200@www.coopernuoto.it
SUMMARY:COPPA DI NATALE TORNEO INVERNO ESORDIENTI 22/12/2024 - RISULTATI
DESCRIPTION:FINALE TORNEO INVERNO ESORDIENTI 22/12/2024  \nLUOGO: Carpi (MO) \nRISULTATI: https://nuoto.ficr.it/#/NUO/programma/COPPA%20DI%20NATALE%20TORNEO%20INVERNALE%20ESORDIENTI/2024/83/4830
URL:https://www.coopernuoto.it/evento-sportivo/coppa-di-natale-torneo-inverno-esordienti-22-12-2024/
LOCATION:Piscina Coopernuoto Carpi\, P.le delle piscine 4\, Carpi\, 41012\, Italia
CATEGORIES:Esordienti A,Esordienti B,Nuoto
END:VEVENT
BEGIN:VEVENT
DTSTART;TZID=Europe/Helsinki:20241222T080000
DTEND;TZID=Europe/Helsinki:20251009T170000
DTSTAMP:20260422T082844
CREATED:20241023T110518Z
LAST-MODIFIED:20250107T132255Z
UID:49096-1734854400-1760029200@www.coopernuoto.it
SUMMARY:Coppa Caduti di Brema 22/12/2024 - RISULTATI
DESCRIPTION:Coppa Caduti di Brema 22/12/2024 \nDATA: Domenica 22/12/2024 \nLUOGO: Riccione (RN) \nCATEGORIE: Selezione Alto Livello \n  \nRISULTATI: https://www.goandswim.com/follow/PublicEvent.aspx?Event=55d1ef47078040eda8029d2fa5aaa7c0
URL:https://www.coopernuoto.it/evento-sportivo/coppa-caduti-di-brema-22-12-2024/
LOCATION:Stadio del Nuoto Riccione\, Via Monte Rosa\, 60\, Riccione\, 47838\, Italia
CATEGORIES:Assoluti alto livello,Nuoto
END:VEVENT
BEGIN:VEVENT
DTSTART;TZID=Europe/Helsinki:20241215T080000
DTEND;TZID=Europe/Helsinki:20251002T170000
DTSTAMP:20260422T082844
CREATED:20241023T112526Z
LAST-MODIFIED:20250107T122403Z
UID:49105-1734249600-1759424400@www.coopernuoto.it
SUMMARY:TROFEO CITTA' DI REGGIO EMILIA - 15/12/2024 - RISULTATI
DESCRIPTION:TROFEO CITTA’ DI REGGIO EMILIA 15/12/2024 \nLUOGO: Reggio Emilia \nCATEGORIE: ESORDIENTI B \n  \nDOMENICA MATTINA:  \nInizio riscaldamento FEMMINILE: 8.00 \nInizio riscaldamento MASCHILE: 8.15 \nInizio manifestazione : 8.45 \nPROGRAMMA GARE: 100 misti\, 50 farfalla\, 100 dorso\, 50 rana\, 100 stile\, 100 farfalla\, 50 dorso\, 100 rana\, 50 stile. \n  \nRISULTATI: https://www.coopernuoto.it/cms/wp-content/uploads/2024/10/Riepilogo-risultati-esordienti-Reggio-Emilia.pdf  \n 
URL:https://www.coopernuoto.it/evento-sportivo/trofeo-citta-di-reggio-emilia-15-12-2024-2/
LOCATION:Piscina Melato Reggio Emilia\, Via Melato\, 2\, Reggio Emilia\, Italia
CATEGORIES:Esordienti B,Nuoto
ATTACH;FMTTYPE=application/pdf:https://www.coopernuoto.it/cms/wp-content/uploads/2024/10/locandina-es.b.pdf
END:VEVENT
BEGIN:VEVENT
DTSTART;TZID=Europe/Helsinki:20241201T080000
DTEND;TZID=Europe/Helsinki:20250918T170000
DTSTAMP:20260422T082844
CREATED:20241023T105704Z
LAST-MODIFIED:20250312T120258Z
UID:49093-1733040000-1758214800@www.coopernuoto.it
SUMMARY:CRCVC 01/12/2024 - RISULTATI
DESCRIPTION:CRCVC  01/12/2024 \nData e Luogo: \n.01/12 Moletolo ( PR) \n.07/12 Reggio Emilia \n.08/12 Carpi (MO) \n  \nCATEGORIE: ALTO LIVELLO \nRISULTATI: https://www.goandswim.com/follow/PublicEvent.aspx?Event=9b3c93bbebd04878be2e4ae2e4848b10 \n  \n 
URL:https://www.coopernuoto.it/evento-sportivo/crcvc-concentramento-d-01-07-08-12-2024/
CATEGORIES:Assoluti alto livello,Nuoto
END:VEVENT
BEGIN:VEVENT
DTSTART;TZID=Europe/Helsinki:20241128T080000
DTEND;TZID=Europe/Helsinki:20250831T170000
DTSTAMP:20260422T082844
CREATED:20241128T145600Z
LAST-MODIFIED:20250605T090655Z
UID:49632-1732780800-1756659600@www.coopernuoto.it
SUMMARY:SERIE C - FORMULA\, GIRONI e CALENDARIO
DESCRIPTION:Normativa-SERIE-C-Maschile-2024-2025_Date-e-Gironi_scan.pdf \n  \nCALENDARIO SERIE C: https://www.coopernuoto.it/cms/wp-content/uploads/2024/11/Copia-di-serie-C-girone-3-aggiornato-al-04-giugno.pdf \nCALENDARIO PROMOZIONE: https://www.coopernuoto.it/cms/wp-content/uploads/2024/11/Copia-di-Promozione-24-25-aggiornato-al-04-giugno.pdf
URL:https://www.coopernuoto.it/evento-sportivo/serie-c-formula-e-gironi/
CATEGORIES:Serie C
ATTACH;FMTTYPE=application/pdf:https://www.coopernuoto.it/cms/wp-content/uploads/2024/11/images-2.pdf
END:VEVENT
BEGIN:VEVENT
DTSTART;TZID=Europe/Helsinki:20241124T080000
DTEND;TZID=Europe/Helsinki:20250731T170000
DTSTAMP:20260422T082844
CREATED:20241017T114630Z
LAST-MODIFIED:20241128T141120Z
UID:49033-1732435200-1753981200@www.coopernuoto.it
SUMMARY:TORNEO INVERNO 1° TURNO/ 2° PARTE 24 NOVEMBRE 2024 - RISULTATI
DESCRIPTION:TORNEO INVERNO 1° TURNO/ 2° PARTE \n24 NOVEMBRE 2024 \n  \nLUOGO : CARPI\, PIAZZALE DELLE PISCINE 4\, 41012\, (MO) \nCATEGORIA: ESO A e ESO B \nRISULTATI: http://www.goandswim.com/follow/PublicEvent.aspx?Event=726512aa2e3945da9e8331dc6364c7fa
URL:https://www.coopernuoto.it/evento-sportivo/torneo-inverno-1-turno-2-parte-24-novembre-2024/
LOCATION:Piscina Coopernuoto Carpi\, P.le delle piscine 4\, Carpi\, 41012\, Italia
CATEGORIES:Esordienti A,Esordienti B
ORGANIZER;CN="Coopernuoto Agonistica":MAILTO:agonistica@coopernuoto.it
END:VEVENT
BEGIN:VEVENT
DTSTART;TZID=Europe/Helsinki:20241123T080000
DTEND;TZID=Europe/Helsinki:20250731T170000
DTSTAMP:20260422T082844
CREATED:20241017T113923Z
LAST-MODIFIED:20241128T140930Z
UID:49031-1732348800-1753981200@www.coopernuoto.it
SUMMARY:TORNEO INVERNO 1° TURNO/ 1° PARTE 23 NOVEMBRE 2024 - RISULTATI
DESCRIPTION:TORNEO INVERNO 1° TURNO/ 1° PARTE \n23 NOVEMBRE 2024 \n  \nLUOGO: REGGIO EMILIA \nCATEGORIA : ESO A e ESO B \nRISULTATI: http://www.goandswim.com/follow/PublicEvent.aspx?Event=726512aa2e3945da9e8331dc6364c7fa
URL:https://www.coopernuoto.it/evento-sportivo/torneo-inverno-1-turno-1-parte-23-novembre-2024/
CATEGORIES:Esordienti A,Esordienti B
ORGANIZER;CN="Coopernuoto Agonistica":MAILTO:agonistica@coopernuoto.it
END:VEVENT
BEGIN:VEVENT
DTSTART;TZID=Europe/Helsinki:20241121T080000
DTEND;TZID=Europe/Helsinki:20250731T170000
DTSTAMP:20260422T082844
CREATED:20241017T120802Z
LAST-MODIFIED:20241128T143222Z
UID:49037-1732176000-1753981200@www.coopernuoto.it
SUMMARY:CAMPIONATI ITALIANI INVERNALI DAL 21 AL 24 NOVEMBRE 2024 - RISULTATI
DESCRIPTION:CAMPIONATI ITALIANI INVERNALI  \nDAL 21 AL 24 NOVEMBRE 2024 \n  \nRISULTATI: https://www.fidalservizi.it/risultati/2024/TorinoVascaCorta_FISDIR2024/Index.htm \n  \nVENERDI’ 22 NOVEMBRE (Mattina)\nOre 8.45/9.15 Riscaldamento F\nOre 9.15/9.45 Riscaldamento M\nInizio gare ore 10.00 (1^ Sessione Gare)\n400 Mt Stile Libero\n50 Mt Rana\n200 Mt Misti\n200 Mt Farfalla\n4×50 Mt Mista/ Misti – Assolute \n  \nVENERDI’ 22 NOVEMBRE (Pomeriggio)\nOre 15:00/15:30 Riscaldamento F\nOre 15:30/16.00 Riscaldamento M\nInizio gare ore 16:15 (2^ Sessione Gare)\n100 Mt Stile Libero\n100 Mt Rana\n400 Mt Misti\n50 Mt Dorso\n4×50 Mt Stile Libero – Assolute \nSABATO 23 NOVEMBRE (Mattina)\nOre 8.45/9.15 Riscaldamento F\nOre 9.15/9.45 Riscaldamento M\nInizio gare ore 10.00 (3^ Sessione Gare)\n200 Mt Dorso\n100 Mt Farfalla\n800 Mt Stile Libero\n4×50 Mt Mista/ Stile Libero – Assolute \nSABATO 23 NOVEMBRE (Pomeriggio)\nOre 15:00/15:30 Riscaldamento F\nOre 15:30/16.00 Riscaldamento M\nInizio gare ore 16:15 (4^ Sessione Gare)\n200 Mt Stile Libero\n50 Mt Farfalla\n200 Mt Rana\n4×50 Mt Mista – Assolute \nDOMENICA 24 NOVEMBRE (Mattina)\nOre 8.45/9.15 Riscaldamento F\nOre 9.15/9.45 Riscaldamento M\nInizio gare ore 10.00 (5^ Sessione Gare)\n50 Mt Stile Libero\n100 Mt Dorso\n1500 Mt Stile Libero\n100 Mt Misti \nALLENATORI CONVOCATI: BONI\, PIZZETTI\, MARTINELLI
URL:https://www.coopernuoto.it/evento-sportivo/campionati-italiani-invernali-dal-21-al-24-novembre-2024/
LOCATION:Palazzo del Nuoto\, Via Filadelfia 89
CATEGORIES:FISDIR
ORGANIZER;CN="Coopernuoto Agonistica":MAILTO:agonistica@coopernuoto.it
END:VEVENT
BEGIN:VEVENT
DTSTART;TZID=Europe/Helsinki:20241114T080000
DTEND;TZID=Europe/Helsinki:20250810T170000
DTSTAMP:20260422T082844
CREATED:20241017T113016Z
LAST-MODIFIED:20241128T143850Z
UID:49029-1731571200-1754845200@www.coopernuoto.it
SUMMARY:CAMPIONATO ITALIANO ASSOLUTI DAL 14 AL 16 NOVEMBRE 2024 - RISULTATI
DESCRIPTION:CAMPIONATO ITALIANO ASSOLUTI \nDAL 14 AL 16 NOVEMBRE 2024 \n  \nLUOGO : RICCIONE (RN) \nCATEGORIA: SELEZIONE ALTO LIVELLO \nRISULTATI: https://www.coopernuoto.it/cms/wp-content/uploads/2024/10/Book_risultati.pdf \n 
URL:https://www.coopernuoto.it/evento-sportivo/campionato-italiano-assoluti-dal-14-al-16-novembre-2024/
CATEGORIES:Assoluti alto livello
ORGANIZER;CN="Coopernuoto Agonistica":MAILTO:agonistica@coopernuoto.it
END:VEVENT
BEGIN:VEVENT
DTSTART;VALUE=DATE:20241112
DTEND;VALUE=DATE:20250901
DTSTAMP:20260422T082844
CREATED:20241112T151813Z
LAST-MODIFIED:20250522T105806Z
UID:49368-1731369600-1756684799@www.coopernuoto.it
SUMMARY:CALENDARI PARTITE
DESCRIPTION:https://www.coopernuoto.it/cms/wp-content/uploads/2024/11/Copia-di-Allievi-24-25-aggiornata-al-21-maggio.pdf
URL:https://www.coopernuoto.it/evento-sportivo/calendari-partite/
CATEGORIES:Allievi U16
ATTACH;FMTTYPE=application/pdf:https://www.coopernuoto.it/cms/wp-content/uploads/2024/11/images.pdf
END:VEVENT
BEGIN:VEVENT
DTSTART;TZID=Europe/Helsinki:20241110T080000
DTEND;TZID=Europe/Helsinki:20250828T170000
DTSTAMP:20260422T082844
CREATED:20241023T113554Z
LAST-MODIFIED:20241119T111845Z
UID:49109-1731225600-1756400400@www.coopernuoto.it
SUMMARY:1° PROVA 4° CIRCUITO REGIONALE C.S.I. 10/11/2024 - RISULTATI
DESCRIPTION:1° PROVA 4° CIRCUITO REGIONALE C.S.I. 10/11/2024 \n  \nLUOGO: Reggio Emilia \nCATEGORIE : ESO C \nRISULTATI: https://www.coopernuoto.it/cms/wp-content/uploads/2024/10/RISULTATI-DEL-12-11-2024.pdf
URL:https://www.coopernuoto.it/evento-sportivo/1-prova-4-circuito-regionale-c-s-i-10-11-2024/
LOCATION:Piscina Melato Reggio Emilia\, Via Melato\, 2\, Reggio Emilia\, Italia
CATEGORIES:Esordienti C,Nuoto
END:VEVENT
BEGIN:VEVENT
DTSTART;TZID=Europe/Helsinki:20241110T080000
DTEND;TZID=Europe/Helsinki:20250828T170000
DTSTAMP:20260422T082844
CREATED:20241023T111618Z
LAST-MODIFIED:20250107T130616Z
UID:49098-1731225600-1756400400@www.coopernuoto.it
SUMMARY:1° Tappa “YOUNG CHALLENGE” 10/11/2024 - RISULTATI
DESCRIPTION:1° Tappa “YOUNG CHALLENGE” 10/11/2024 \nLUOGO: San Giovanni  Persiceto (BO) \nCATEGORIE: Medio Livello \nAPERTURA IMPIANTO:  ORE 13:15 \nINIZIO RISCALDAMENTO settore maschile 13:30 \nINIZIO RISCALDAMENTO settore femminile 13:50 \nINIZIO GARE: 14:20 \n  \nRISULTATI: https://www.coopernuoto.it/cms/wp-content/uploads/2024/10/RISULTATI_GARE-1-tappa.pdf
URL:https://www.coopernuoto.it/evento-sportivo/1-tappa-young-challenge-10-11-2024/
LOCATION:Piscina San Giovanni Persiceto\, Via Castelfranco 16/B
CATEGORIES:Assoluti medio livello,Nuoto
END:VEVENT
BEGIN:VEVENT
DTSTART;TZID=Europe/Helsinki:20241110T080000
DTEND;TZID=Europe/Helsinki:20241130T170000
DTSTAMP:20260422T082844
CREATED:20241017T111656Z
LAST-MODIFIED:20250107T130857Z
UID:49025-1731225600-1732986000@www.coopernuoto.it
SUMMARY:1° TAPPA CHALLENGE TOP SPEED 10 NOVEMBRE 2024
DESCRIPTION:1° TAPPA CHALLENGE TOP SPEED 10 NOVEMBRE 2024 \n  \nLUOGO :  PISCINE IDROPOLIS SOGESE\nVia Castelfranco 16/b San Giovanni in Persiceto (BO) \nPROGRAMMA GARE:\n50 FA – 50 DO – 4X50 MIXED MX – 50 RA – 50 SL – GARA A INSEGUIMENTO – AUSTRALIANA MASCHILE  \nORARIO: \nOre 13:15 accesso impianto\nOre 13:30 riscaldamento maschi\nOre 13:50 riscaldamento femmine\nOre 14:00 inizio gare \n  \nCATEGORIE: MEDIO LIVELLO \n  \nALLENATORI: BRIONI\, PATERLINI\, FABBRICATORE\, FERRI\, BONSANTO. \n 
URL:https://www.coopernuoto.it/evento-sportivo/1-prova-circuito-regionale-10-novembre-2024/
CATEGORIES:Assoluti medio livello,Nuoto
ORGANIZER;CN="Coopernuoto Agonistica":MAILTO:agonistica@coopernuoto.it
END:VEVENT
BEGIN:VEVENT
DTSTART;TZID=Europe/Helsinki:20241107T080000
DTEND;TZID=Europe/Helsinki:20250731T170000
DTSTAMP:20260422T082844
CREATED:20241107T143056Z
LAST-MODIFIED:20250605T090938Z
UID:49334-1730966400-1753981200@www.coopernuoto.it
SUMMARY:CALENDARI PARTITE
DESCRIPTION:https://www.coopernuoto.it/cms/wp-content/uploads/2024/11/Copia-di-Ragazzi-24-25-aggiornato-al-04-giugno.pdf
URL:https://www.coopernuoto.it/evento-sportivo/49334/
CATEGORIES:Ragazzi U14
ATTACH;FMTTYPE=application/pdf:https://www.coopernuoto.it/cms/wp-content/uploads/2024/11/images-1.pdf
END:VEVENT
BEGIN:VEVENT
DTSTART;TZID=Europe/Helsinki:20241103T080000
DTEND;TZID=Europe/Helsinki:20250810T170000
DTSTAMP:20260422T082844
CREATED:20241017T111015Z
LAST-MODIFIED:20241119T111355Z
UID:49023-1730620800-1754845200@www.coopernuoto.it
SUMMARY:IV TROFEO COOPERNUOTO 03 NOVEMBRE 2024 - risultati
DESCRIPTION:IV TROFEO COOPERNUOTO  \n03 NOVEMBRE 2024 \n  \nLUOGO : PISCINE DI CARPI\, Piazzale delle piscine 4\, 41012\, MO \nCATEGORIE: ASSOLUTI ALTO LIVELLO \n  \nPROGRAMMA GARE: \nMATTINO\, INIZIO GARE: 09:10 \nRISCALDAMENTO FEMMINE : 08:00 – 08:25 \nRISCALDAMENTO MASCHILE : 08:30 – 08:55 \n4 X 50 SL\, 200 SL\, 100 RA\, 50 FA\, 200 MX\, 50 SL \n  \nPOMERIGGIO\, INIZIO GARE : 15:10 \nRISCALDAMENTO FEMMINE : 14:00 – 14:25 \nRISCALDAMENTO MASCHILE : 14:30 – 14:55 \n4 X 50 MX\, 100 DO\, 50 RA\, 100 SL\, 50 DO\, 100 FA\, 100 MX\, 400 SL \nABBIGLIAMENTO GARA: POLO BIANCA + CUFFIA COOPERNUOTO \n  \nRISULTATI: https://www.coopernuoto.it/cms/wp-content/uploads/2024/10/RISULTATI_Ordinati.pdf \n  \n 
URL:https://www.coopernuoto.it/evento-sportivo/iv-trofeo-coopernuoto-03-novembre-2024/
LOCATION:Piscina Coopernuoto Carpi\, P.le delle piscine 4\, Carpi\, 41012\, Italia
CATEGORIES:Assoluti alto livello
ORGANIZER;CN="Coopernuoto Agonistica":MAILTO:agonistica@coopernuoto.it
END:VEVENT
BEGIN:VEVENT
DTSTART;TZID=Europe/Helsinki:20241027T080000
DTEND;TZID=Europe/Helsinki:20250731T170000
DTSTAMP:20260422T082844
CREATED:20241017T102359Z
LAST-MODIFIED:20241119T112647Z
UID:49021-1730016000-1753981200@www.coopernuoto.it
SUMMARY:IV TROFEO UNISPORT - 27/10/2024 - RISULTATI
DESCRIPTION:IV TROFEO UNISPORT \nDATA: Domenica 27 Ottobre 2024 \nLUOGO: Mirandola (MO)\, via Dorando Pietri\, 9\, 41037 \nCATEGORIA: ES.B e ES. A \n  \nCATEGORIA ES. B \norario riscaldamento: 14.00-14.25 \ninizio gare: 14.30-16.30 \n100 SL\, 50 FA\, 50 DO\, 50 RN\, 50 SL\, 100 MX \n  \nCATEGORIA ES. A  \norario riscaldamento: 16.30-16.55 \ninizio gare: 17.00-19.30 \n200 SL\, 100 FA\, 100 DO\, 100 RN\, 100 MX\, 100 \n  \nRISULTATI: https://www.coopernuoto.it/cms/wp-content/uploads/2024/10/RISULTATI_Ordinati-1.pdf
URL:https://www.coopernuoto.it/evento-sportivo/iv-trofeo-unisport-27-10-2024/
LOCATION:Piscina Coopernuoto MIrandola\, Via Dorando Pietri\, 9\, Mirandola\, 41037
CATEGORIES:Esordienti A,Esordienti B
ORGANIZER;CN="Coopernuoto Agonistica":MAILTO:agonistica@coopernuoto.it
END:VEVENT
BEGIN:VEVENT
DTSTART;TZID=Europe/Helsinki:20241026T080000
DTEND;TZID=Europe/Helsinki:20250831T170000
DTSTAMP:20260422T082844
CREATED:20241121T152008Z
LAST-MODIFIED:20241121T152108Z
UID:49553-1729929600-1756659600@www.coopernuoto.it
SUMMARY:13^ EDIZIONE TROFEO NUOTO RICCIONE - 26 e 27/10/2024 - RISULTATI
DESCRIPTION:13^ EDIZIONE TROFEO NUOTO RICCIONE – 26 e 27/10/2024 \n  \nCATEGORIA: Alto Livello \nLUOGO: Riccione \n  \nRISULTATI: http://www.goandswim.com/follow/PublicEvent.aspx?Event=4cddc0cd7f5f4ba49b51052b9a7621e6
URL:https://www.coopernuoto.it/evento-sportivo/13-edizione-trofeo-nuoto-riccione-26-e-27-10-2024/
CATEGORIES:Assoluti alto livello
END:VEVENT
BEGIN:VEVENT
DTSTART;TZID=Europe/Helsinki:20241023T080000
DTEND;TZID=Europe/Helsinki:20250810T170000
DTSTAMP:20260422T082844
CREATED:20241023T112152Z
LAST-MODIFIED:20250107T125947Z
UID:49102-1729670400-1754845200@www.coopernuoto.it
SUMMARY:TROFEO CITTA' DI REGGIO EMILIA - 15/12/2024 - RISULTATI
DESCRIPTION:TROFEO CITTA’ DI REGGIO EMILIA 15/12/2024 \nLUOGO: Reggio Emilia \nCATEGORIE: ESORDIENTI A \n  \nDOMENICA POMERIGGIO:  \nInizio riscaldamento FEMMINILE: 13.45 \nInizio riscaldamento MASCHILE: 14.00 \nInizio manifestazione: 14.30 \n  \nPROGRAMMA GARE: 200 stile\, 100 misti\, 50 farfalla\, 100 dorso\, 50 rana\, 100 stile\, 100 farfalla\, 50 dorso\, 100 rana\, 50 stile\, 200 misti. \n  \nRISULTATI:https://www.coopernuoto.it/cms/wp-content/uploads/2024/10/Riepilogo-risultati-esordienti-Reggio-Emilia-1.pdf  \n 
URL:https://www.coopernuoto.it/evento-sportivo/trofeo-citta-di-reggio-emilia-15-12-2024/
LOCATION:Piscina Melato Reggio Emilia\, Via Melato\, 2\, Reggio Emilia\, Italia
CATEGORIES:Esordienti A,Nuoto
ATTACH;FMTTYPE=application/pdf:https://www.coopernuoto.it/cms/wp-content/uploads/2024/10/locandina-es.A.pdf
END:VEVENT
BEGIN:VEVENT
DTSTART;TZID=Europe/Helsinki:20240720T080000
DTEND;TZID=Europe/Helsinki:20240831T170000
DTSTAMP:20260422T082844
CREATED:20240227T094249Z
LAST-MODIFIED:20241121T150952Z
UID:45929-1721462400-1725123600@www.coopernuoto.it
SUMMARY:CRAVL - 20 e 21/07/2024
DESCRIPTION:CAMPIONATO REGIONALE ASSOLUTO VASCA LUNGA \nLUOGO: Riccione
URL:https://www.coopernuoto.it/evento-sportivo/cravl-20-e-21-07-2024/
CATEGORIES:Assoluti alto livello
END:VEVENT
BEGIN:VEVENT
DTSTART;TZID=Europe/Helsinki:20240706T080000
DTEND;TZID=Europe/Helsinki:20240831T170000
DTSTAMP:20260422T082844
CREATED:20240514T103935Z
LAST-MODIFIED:20240514T103935Z
UID:46764-1720252800-1725123600@www.coopernuoto.it
SUMMARY:2° Verona Summer Trophy - 6/7 Luglio 2024
DESCRIPTION:MANIFESTAZIONE:    2° Verona Summer Trophy \n  \nLOCALITÀ: Verona – Centro Federale A. Castagnetti\, Via Colonnello Galliano. \n     Via Dogali\, 12 \n  \nDATA:  6 – 7 Luglio 2024 \n  \n  \nCATEGORIE: Alto Livello  \n  \nProgramma Gare: \n\nSabato Mattina : apertura impianto 7.30\n\n                              Riscaldamento 7.45 – 8.15 \n                              Inizio gare previsto alle 8.30 \n50 FA \, 100 RA \, 200 SL\, 400 MX  \n\nSabato Pomeriggio : Apertura Impianto 13.30\n\n                                    Riscaldamento 13.45 – 14.15 \n                                    Inizio gare previsto alle 14.30 \n800 SL\, 100 FA\, 50 RA\, 200 DO\, 100 SL \n  \n\nDomenica Mattina : apertura impianto 7.30\n\n                                   Riscaldamento 7.45 – 8.15 \n                                   Inizio gare previsto 8.30 \n100 DO\, 200 RA\, 400 SL\, 200 FA \n\nDomenica Pomeriggio : Apertura Impianto 13.30\n\n                                         Riscaldamento 13.45 – 14.15 \n                                         Inizio gare previsto 14.30 \n1500 SL\, 50 DO\, 200 MX\, 50 SL \n  \nAllenatori: Gianni Civa\, Giuseppe Bonsanto\, Giulia Giovanardi\, Leonardo Beggio\, Marcello Zilioli
URL:https://www.coopernuoto.it/evento-sportivo/2-verona-summer-trophy-6-7-luglio-2024/
CATEGORIES:Assoluti alto livello
END:VEVENT
BEGIN:VEVENT
DTSTART;TZID=Europe/Helsinki:20240706T080000
DTEND;TZID=Europe/Helsinki:20240831T170000
DTSTAMP:20260422T082844
CREATED:20240227T100802Z
LAST-MODIFIED:20241121T151050Z
UID:45933-1720252800-1725123600@www.coopernuoto.it
SUMMARY:2^ Verona Summer Trophy - 6 e 7/07/2024
DESCRIPTION:2^ Verona Summer Trophy  \n6 e 7/07/2024 \nLUOGO: Verona \n  \n 
URL:https://www.coopernuoto.it/evento-sportivo/2-verona-summer-trophy-6-e-7-07-2024/
CATEGORIES:Assoluti alto livello
END:VEVENT
END:VCALENDAR