BEGIN:VCALENDAR
VERSION:2.0
PRODID:-//Coopernuoto - ECPv6.2.3.2//NONSGML v1.0//EN
CALSCALE:GREGORIAN
METHOD:PUBLISH
X-ORIGINAL-URL:https://www.coopernuoto.it
X-WR-CALDESC:Eventi per Coopernuoto
REFRESH-INTERVAL;VALUE=DURATION:PT1H
X-Robots-Tag:noindex
X-PUBLISHED-TTL:PT1H
BEGIN:VTIMEZONE
TZID:Europe/Helsinki
BEGIN:DAYLIGHT
TZOFFSETFROM:+0200
TZOFFSETTO:+0300
TZNAME:EEST
DTSTART:20260329T010000
END:DAYLIGHT
BEGIN:STANDARD
TZOFFSETFROM:+0300
TZOFFSETTO:+0200
TZNAME:EET
DTSTART:20261025T010000
END:STANDARD
END:VTIMEZONE
BEGIN:VEVENT
DTSTART;TZID=Europe/Helsinki:20260426T080000
DTEND;TZID=Europe/Helsinki:20260831T170000
DTSTAMP:20260423T004652
CREATED:20251211T091548Z
LAST-MODIFIED:20260402T081738Z
UID:54859-1777190400-1788195600@www.coopernuoto.it
SUMMARY:FESTA DELLE LEVE - 26/04/26
DESCRIPTION:28^ FESTA DELLE LEVE \n  \n Data:  DOMENICA   26 APRILE 2026 \n  \nLocalità: PISCINA di MIRANDOLA – Via D. Pietri\, 9 \n  \n  \n                                                   PROGRAMMA   \n  \nore 14\,30: Ingresso atleti  \nore 14:45 Sfilata \n  \nore 15:00: Inizio Festa \n  \n  \nore 16:30 circa: Premiazione e consegna attestati di partecipazione \n  \n  \nCuffia e maglietta Unisport.
URL:https://www.coopernuoto.it/evento-sportivo/festa-delle-leve-26-04-26/
CATEGORIES:Leve
ATTACH;FMTTYPE=application/pdf:https://www.coopernuoto.it/cms/wp-content/uploads/2025/12/CONVOCAZIONE-FESTA-DELLE-LEVE.pdf
END:VEVENT
BEGIN:VEVENT
DTSTART;TZID=Europe/Helsinki:20260426T080000
DTEND;TZID=Europe/Helsinki:20260831T170000
DTSTAMP:20260423T004652
CREATED:20260422T082209Z
LAST-MODIFIED:20260422T125538Z
UID:57175-1777190400-1788195600@www.coopernuoto.it
SUMMARY:33°TROFEO SAURO CAMPRINI - 26/04/2026
DESCRIPTION:33°TROFEO SAURO CAMPRINI \n  \nDATA: domenica 26 Aprile 2026 \nLUOGO: Piscina G. Gambi\, Ravenna \nCATEGORIA: Esordienti B ed Esordienti A \n  \nPROGRAMMA GARE: \n  \nRiscaldamento femmine ore 7:30 – 7:50 \nRiscaldamento maschi 7:50 – 8:20 \nInizio gare ore 8:30 \nEsordienti B: 50 FA\, 100 SL\, 50 DO\, 50 SL\, 50 RN\, 4×50 mista mista \nEsordienti A: 100 FA\, 200 SL\, 100 DO\, 100 SL\, 100 RN\, 50 SL\, 4×50 mista mista \n  \n 
URL:https://www.coopernuoto.it/evento-sportivo/33trofeo-sauro-camprini-26-04-2026/
CATEGORIES:Esordienti A,Esordienti B
END:VEVENT
BEGIN:VEVENT
DTSTART;TZID=Europe/Helsinki:20260501T080000
DTEND;TZID=Europe/Helsinki:20260831T170000
DTSTAMP:20260423T004652
CREATED:20260407T130728Z
LAST-MODIFIED:20260407T141342Z
UID:56743-1777622400-1788195600@www.coopernuoto.it
SUMMARY:15° MEETING SQUALO BLU - 1\,2\,3/05/2026
DESCRIPTION:15° MEETING SQUALO BLU \n  \nDATA: dal 1 al 3 Maggio 2026 \nLUOGO: Multieventi Sport Domus\, via Rancaglia\, 30\, Serravalle (SRM) \nCATEGORIA: atleti convocati alla rappresentativa FIN CRER Ragazzi \n  \nPROGRAMMA GARE: \n01/05 POMERIGGIO                                                                                   02/05 MATTINA                                                                     02/05 POMERIGGIO\nGARE                                            CATEGORIA                                                    GARE                                        CATEGORIA                                GARE                                              CATEGORIA  \n200 MISTI                                    ASSOLUTI                                                        200 FARFALLA                    ASSOLUTI                                    50 FARFALLA                                      es. B\n400 STILE LIBERO                    ASSOLUTI                                                        200 DORSO                          ASSOLUTI                                    50 DORSO                                             es. B\n50 FARFALLA                             RAG/JUN/ASS                                                200 RANA                             ASSOLUTI                                    100 RANA                                              es. A\n50 DORSO                                    RAG/JUN/ASS                                                200 STILE LIBERO            ASSOLUTI                                    100 STILE LIBERO                              es. A\n50 RANA                                       RAG/JUN/ASS                                                                                                                                                         200 MISTI                                             es. A\n50 STILE LIBERO                      RAG/JUN/ASS                                                                                                                                                         100 RANA                                              RAG/JUN/SENIOR\n100 STILE LIBERO                             RAG/JUN/SENIOR\n400 MISTI                                            ASSOLUTI \n03/05 MATTINA                                                                                                             03/05 POMERIGGIO\nGARE                                          CATEGORIA                                                                         GARE                                                CATEGORIA \n50 STILE LIBERO                      es. B/A                                                                                100 FARFALLA                                B/A/RAG/JUN/ASS \n50 RANA                                       es. B/A                                                                                100 DORSO                                      B/A/RAG/JUN/ASS\n100 FARFALLA                           es. A                                                                                     100 RANA                                         B/A/RAG/JUN/ASS\n100 DORSO                                  es. A                                                                                    100 STILE LIBERO                         B/A/RAG/JUN/ASS\n100 FARFALLA                           RAG/JUN/ASS\n100 DORSO                                  RAG/JUN/ASS \n800 STILE                                    ASSOLUTI FEMMINE\n1500 STILE                                  ASSOLUTI MASCHI \n  \nATLETI CONVOCATI: \n\nBarozzi Arianna\nBravi Rebecca\nBergonzini Cristian Vittorio\nCasetti Alessandro
URL:https://www.coopernuoto.it/evento-sportivo/15-meeting-squalo-blu-123-05-2026/
CATEGORIES:Assoluti alto livello
END:VEVENT
BEGIN:VEVENT
DTSTART;TZID=Europe/Helsinki:20260503T080000
DTEND;TZID=Europe/Helsinki:20260831T170000
DTSTAMP:20260423T004652
CREATED:20251211T090529Z
LAST-MODIFIED:20260416T150327Z
UID:54855-1777795200-1788195600@www.coopernuoto.it
SUMMARY:CAMPIONATO INTERPROVINCIALE UISP - 03/05/2026
DESCRIPTION:MANIFESTAZIONE: CAMPIONATO INTERPROVINCIALE fase di qualificazione Campionati Regionali UISP \n LOCALITÀ: MOLETOLO PR– Centro Sportivo Coopernuoto Piscine e Palestre – via L. Anedda\, 23 \nDATA: Domenica 03 Maggio 2026 \n CATEGORIA: Leve\, Esordienti C\, Esordienti B \n  \nPROGRAMMA: \n  \nEsordienti C e Giovanissimi: \nRiscaldamento ore: 13:45 – 14:15 \nInizio Manifestazione ore: 14:15 \nTermine manifestazione ore 16:00 circa \n  \n25 mt FA\, 50 MT do\, 100 mt MX\, 50 mt RN\, 50 mt SL\, \nFuori gara: 50 mt FA\, 100 mt SL \n  \nEsordienti B: \nRiscaldamento ore: 16:00 – 16:30 \nInizio gare ore: 16:30 \nTermine manifestazione ore 18:30 circa \n  \n50 mt FA\, 50 mt DO\, 100 mt MX\, 50 mt RN\, 100 mt SL \nFuori gara:100 mt SL\, 200 mt SL \n  \nCuffia e maglietta UNISPORT
URL:https://www.coopernuoto.it/evento-sportivo/campionato-interprovinciale-uisp-29-03-2026/
CATEGORIES:Esordienti B,Esordienti C
ATTACH;FMTTYPE=application/pdf:https://www.coopernuoto.it/cms/wp-content/uploads/2025/12/convocazione-5.pdf
END:VEVENT
BEGIN:VEVENT
DTSTART;TZID=Europe/Helsinki:20260509T080000
DTEND;TZID=Europe/Helsinki:20260831T170000
DTSTAMP:20260423T004652
CREATED:20260415T083702Z
LAST-MODIFIED:20260415T083719Z
UID:56993-1778313600-1788195600@www.coopernuoto.it
SUMMARY:XVI TROFEO DEL TRICOLORE - 09-10/05/2026
DESCRIPTION:XVI TROFEO DEL TRICOLORE \n  \nDATA: 9 e 10 Maggio 2026 \nLUOGO: Piscina Melato\, in via Melato\, 2\, Reggio Emilia \nCATEGORIA: Alto Livello \n  \nPROGRAMMA GARE: \n  \n-SABATO MATTINA: Riscaldamento ore 9:00 \nInizio Gare ore 10:00 \n                                         50 SL\, 50 FA\, 50 RN\, 50 DO\, 1500 SL\, 50 MX \n-SABATO POMERIGGIO: Riscaldamento ore 14:00 \nInizio gare ore: 15:00 \n200 SL\, 200 FA\, 200 RN\, 200 DO \n50 SL FINALE\, 50 FA FINALE\, 50 RN FINALE\, 50 DO FINALE \n  \n-DOMENICA POMERIGGIO: Riscaldamento ore 8:00 \nInizio gare ore 9:00 \n100 SL\, 100 FA\, 100 RN\, 100 DO\, 800 SL \n-DOMENICA POMERIGGIO: Riscaldamento ore: 14:00 \nInizio gare ore: 15:00 \n200 MX\, 400 SL \n100 SL FINALI\, 100 FA FINALI\, 100 FA FINALI\, 100 DORSO FINALI \n 
URL:https://www.coopernuoto.it/evento-sportivo/xvi-trofeo-del-tricolore-09-10-05-2026/
CATEGORIES:Assoluti alto livello
END:VEVENT
BEGIN:VEVENT
DTSTART;TZID=Europe/Helsinki:20260510T080000
DTEND;TZID=Europe/Helsinki:20260831T170000
DTSTAMP:20260423T004652
CREATED:20251126T135751Z
LAST-MODIFIED:20260407T102922Z
UID:54626-1778400000-1788195600@www.coopernuoto.it
SUMMARY:5° Circuito regionale CSI - 5° Prova 10/05/26
DESCRIPTION:MANIFESTAZIONE: \n5° PROVA DEL  \n5° CIRCUITO REGIONALE DI NUOTO CSI 2025/2026  \n15^ RASSEGNA DI NUOTO CSI 2025/2026 \n  \n  \nLOCALITÀ: Piscina Moletolo “G. Onesti”\, Via Moletolo\, 69/A\,  Parma \n  \n  \nDATA: Domenica 10 Maggio 2026 \n  \n  \nCATEGORIE: LEVE\, ESORDIENTI C ed ESO PROPA PARMA  \n  \n  \n  \nPROGRAMMA \n  \n  \nOre 13\,30 Riscaldamento Esordienti C – LEVE \nOre 14\,00 Termine riscaldamento  \nOre 14\,15 Inizio gare individuali Esordienti C – LEVE \nOre 16\,30 Circa Riscaldamento Esordienti B\, A e Ragazzi  \nOre 17\,00 Circa Termine riscaldamento  \nOre 17\,15 Circa Inizio gare individuali Esordienti B\, A e Ragazzi \n  \n25 dorso: Leve \n25 dorso – 25 rana – 25 farfalla – 50 stile: Esordienti C \n100 stile – 100 misti : Esordienti propaganda gruppo di Parma
URL:https://www.coopernuoto.it/evento-sportivo/5-circuito-regionale-csi-5-prova-10-05-26/
CATEGORIES:Esordienti C,Esordienti propaganda,Leve
ATTACH;FMTTYPE=application/pdf:https://www.coopernuoto.it/cms/wp-content/uploads/2025/11/MANIFESTAZIONE-5.pdf
END:VEVENT
BEGIN:VEVENT
DTSTART;TZID=Europe/Helsinki:20260510T080000
DTEND;TZID=Europe/Helsinki:20260831T170000
DTSTAMP:20260423T004652
CREATED:20260422T095734Z
LAST-MODIFIED:20260422T095734Z
UID:57187-1778400000-1788195600@www.coopernuoto.it
SUMMARY:4° TAPPA YOUNG CHALLENGE\, TROFEO STAFFETTE - 10/05/2026
DESCRIPTION:4° TAPPA YOUNG CHALLENGE\, TROFEO STAFFETTE \n  \nDATA: 10 Maggio 2026 \nLUOGO: Piscina Comunale M.L.King – Via dello Sport\, 13\, Casalecchio di Reno (BO) \nCATEGORIA: Medio Livello \n  \nPROGRAMMA GARE: \nOre 13:15 accesso impianto \nore: 13:30 riscaldamento maschi \nore: 13:50 riscaldamento femmine \nore 14:15 Premiazioni classifiche TOP 350 E TOP ALL IN e società (delle tappe precedenti) \nore 14:30 inizio gare \n  \n4×50 SL F/M\, 4×50 MX F/M\, 4×50 MISTAFFETTA SL\, 4×50 MISTAFFETTA MX
URL:https://www.coopernuoto.it/evento-sportivo/4-tappa-young-challenge-trofeo-staffette-10-05-2026/
CATEGORIES:Assoluti medio livello
END:VEVENT
BEGIN:VEVENT
DTSTART;TZID=Europe/Helsinki:20260517T080000
DTEND;TZID=Europe/Helsinki:20260831T170000
DTSTAMP:20260423T004652
CREATED:20251029T162100Z
LAST-MODIFIED:20251029T162100Z
UID:54210-1779004800-1788195600@www.coopernuoto.it
SUMMARY:CREA CREB  17/05/2026
DESCRIPTION:CREA CREB \n  \nData: 17 Maggio 2026 \nLuogo: Carpi (MO) \nCategoria: Esordienti B ed Esordienti A
URL:https://www.coopernuoto.it/evento-sportivo/crea-creb-17-05-2026/
CATEGORIES:Esordienti A,Esordienti B
END:VEVENT
BEGIN:VEVENT
DTSTART;TZID=Europe/Helsinki:20260517T080000
DTEND;TZID=Europe/Helsinki:20260831T170000
DTSTAMP:20260423T004652
CREATED:20251127T152351Z
LAST-MODIFIED:20251127T152351Z
UID:54685-1779004800-1788195600@www.coopernuoto.it
SUMMARY:5° TROFEO FIN - 17/05/2026
DESCRIPTION:5° TROFEO FIN – 17/05/2026 \n  \nDATA: 17 Maggio 2026 \nLUOGO: da definirsi \nCATEGORIA: – Esordienti C\, Duo – Squadra – Combo \n– Esordienti B\, Duo – Squadra – Combo \n– Esordienti A\, Duo – Squadra – Combo \n– Ragazze\, Duo – Squadra – Combo \n– Junior\, Duo – Squadra – Combo \n– Assolute\, Duo – Squadra – Combo \n  \nPROGRAMMA ORARI: \nMattino: 08:30 – 13:00 \nPomeriggio: 14:30 – 18:00
URL:https://www.coopernuoto.it/evento-sportivo/5-trofeo-fin-17-05-2026/
CATEGORIES:Assolute propaganda,Esordienti A propaganda,Esordienti B,Esordienti C,Ragazze propaganda
END:VEVENT
BEGIN:VEVENT
DTSTART;TZID=Europe/Helsinki:20260522T080000
DTEND;TZID=Europe/Helsinki:20260831T170000
DTSTAMP:20260423T004652
CREATED:20260312T124347Z
LAST-MODIFIED:20260312T124347Z
UID:56077-1779436800-1788195600@www.coopernuoto.it
SUMMARY:Nazionali FIN - 22-24 Maggio 2026
DESCRIPTION:Nazionali FIN – 22-24 Maggio 2026 \n  \nData: dal 22 al 24 Maggio 2026 \nLuogo: Napoli \nCategoria: Juniores propaganda \n  \ntrasferta di squadra
URL:https://www.coopernuoto.it/evento-sportivo/nazionali-fin-22-24-maggio-2026/
CATEGORIES:Assolute propaganda
END:VEVENT
BEGIN:VEVENT
DTSTART;TZID=Europe/Helsinki:20260524T080000
DTEND;TZID=Europe/Helsinki:20260831T170000
DTSTAMP:20260423T004652
CREATED:20251029T162230Z
LAST-MODIFIED:20251029T162230Z
UID:54212-1779609600-1788195600@www.coopernuoto.it
SUMMARY:CREA CREB  24/05/2026
DESCRIPTION:CREA CREB \n  \nData: 24 Maggio 2026 \nLuogo: Moletolo (PR) \nCategoria: Esordienti B ed Esordienti A
URL:https://www.coopernuoto.it/evento-sportivo/crea-creb-24-05-2026/
CATEGORIES:Esordienti A,Esordienti B
END:VEVENT
BEGIN:VEVENT
DTSTART;TZID=Europe/Helsinki:20260524T080000
DTEND;TZID=Europe/Helsinki:20260831T170000
DTSTAMP:20260423T004652
CREATED:20251127T133927Z
LAST-MODIFIED:20251127T133927Z
UID:54657-1779609600-1788195600@www.coopernuoto.it
SUMMARY:7^ Prova Campionato Regionale - 24/05/26
DESCRIPTION:7^ Prova Campionato Regionale – 24/05/26 \n  \nDATA: 24 Maggio 2026 \nLUOGO: Forlì \nCATEGORIA: – Esordienti A\, Obbligatori + liberi \n– Ragazze\, Obbligatori + liberi \n– Juniores\, Obbligatori + liberi \n  \nPROGRAMMA ORARI:  \nMattina: 08:30 – 13:00 \nPomeriggio: 14:00 – 16:00 \n 
URL:https://www.coopernuoto.it/evento-sportivo/7-prova-campionato-regionale-24-05-26/
CATEGORIES:Esordienti A agonismo,Ragazze agonismo
END:VEVENT
BEGIN:VEVENT
DTSTART;TZID=Europe/Helsinki:20260524T080000
DTEND;TZID=Europe/Helsinki:20260831T170000
DTSTAMP:20260423T004652
CREATED:20251211T091743Z
LAST-MODIFIED:20260311T163127Z
UID:54861-1779609600-1788195600@www.coopernuoto.it
SUMMARY:GITA ESORDIENTI C - 24/05/2026
DESCRIPTION:
URL:https://www.coopernuoto.it/evento-sportivo/gita-esordienti-c-24-05-2026/
CATEGORIES:Esordienti C
ATTACH;FMTTYPE=image/png:https://www.coopernuoto.it/cms/wp-content/uploads/2025/12/sito1.png
END:VEVENT
BEGIN:VEVENT
DTSTART;TZID=Europe/Helsinki:20260530T080000
DTEND;TZID=Europe/Helsinki:20260601T170000
DTSTAMP:20260423T004652
CREATED:20260414T102311Z
LAST-MODIFIED:20260414T102311Z
UID:56952-1780128000-1780333200@www.coopernuoto.it
SUMMARY:50°Meeting Nazionale Città di Modena\, 5°Trofeo GDF Modena - 30-31/05\, 1/06/2026
DESCRIPTION:50°Meeting Nazionale Città di Modena\, 5°Trofeo GDF Modena \n  \nData: 30-31 Maggio e 1 Giugno 2026 \nLuogo: Piscine Comunali Dogali\, Modena \nCategoria: Alto Livello\, Medio Livello ed Esordienti A
URL:https://www.coopernuoto.it/evento-sportivo/50meeting-nazionale-citta-di-modena-5trofeo-gdf-modena-30-31-05-1-06-2026/
CATEGORIES:Assoluti alto livello,Assoluti medio livello,Esordienti A
END:VEVENT
BEGIN:VEVENT
DTSTART;TZID=Europe/Helsinki:20260607T080000
DTEND;TZID=Europe/Helsinki:20260831T170000
DTSTAMP:20260423T004652
CREATED:20260415T084859Z
LAST-MODIFIED:20260421T122226Z
UID:56995-1780819200-1788195600@www.coopernuoto.it
SUMMARY:FINALI CREB - 07/06/2026
DESCRIPTION:FINALI CREB \n  \nDATA: 7 Giugno 2026 \nLUOGO: Piscina Carmen Longo\, Bologna \nCATEGORIA: Finalisti Esordienti B
URL:https://www.coopernuoto.it/evento-sportivo/finali-creb-07-06-2026/
CATEGORIES:Esordienti B
END:VEVENT
BEGIN:VEVENT
DTSTART;TZID=Europe/Helsinki:20260612T080000
DTEND;TZID=Europe/Helsinki:20260831T170000
DTSTAMP:20260423T004652
CREATED:20251029T162920Z
LAST-MODIFIED:20251029T162920Z
UID:54214-1781251200-1788195600@www.coopernuoto.it
SUMMARY:Campionati Italiani UISP  12-14/06/2026
DESCRIPTION:Campionati Italiani UISP \n  \nData: 12-14 Giugno 2026 \nLuogo: Riccione \nCategoria: Esordienti C ed Esordienti B
URL:https://www.coopernuoto.it/evento-sportivo/campionati-italiani-uisp-12-14-06-2026/
CATEGORIES:Esordienti B,Esordienti C
END:VEVENT
BEGIN:VEVENT
DTSTART;TZID=Europe/Helsinki:20260614T080000
DTEND;TZID=Europe/Helsinki:20260831T170000
DTSTAMP:20260423T004652
CREATED:20251127T134300Z
LAST-MODIFIED:20251127T134300Z
UID:54659-1781424000-1788195600@www.coopernuoto.it
SUMMARY:8^ Prova Campionato Regionale - 14/06/26
DESCRIPTION:8^ Prova Campionato Regionale – 14/06/26 \n  \nDATA: 14 Giugno 2026 \nLUOGO: Forlì \nCATEGORIA: – Esordienti A\, Obbligatori + liberi \n– Ragazze\, Obbligatori + liberi \n– Juniores\, Obbligatori + liberi \n  \nPROGRAMMA ORARI:  \nMattina: 08:30 – 13:00 \nPomeriggio: 14: 00 – 16:00
URL:https://www.coopernuoto.it/evento-sportivo/8-prova-campionato-regionale-14-06-26/
CATEGORIES:Esordienti A agonismo,Ragazze agonismo
END:VEVENT
BEGIN:VEVENT
DTSTART;TZID=Europe/Helsinki:20260622T080000
DTEND;TZID=Europe/Helsinki:20260831T170000
DTSTAMP:20260423T004652
CREATED:20260415T085251Z
LAST-MODIFIED:20260415T085251Z
UID:56997-1782115200-1788195600@www.coopernuoto.it
SUMMARY:CRCVL\, concentramento B - 22-25/06/2026
DESCRIPTION:CRCVL \n  \nDATA: dal 22 al 25 Giugno 2026 \nLUOGO: Piscina Melato\, Reggio Emilia \nCATEGORIA: Alto Livello
URL:https://www.coopernuoto.it/evento-sportivo/crcvl-concentramento-b-22-25-06-2026/
CATEGORIES:Assoluti alto livello
END:VEVENT
BEGIN:VEVENT
DTSTART;TZID=Europe/Helsinki:20260622T080000
DTEND;TZID=Europe/Helsinki:20260831T170000
DTSTAMP:20260423T004652
CREATED:20260415T085603Z
LAST-MODIFIED:20260415T085603Z
UID:56999-1782115200-1788195600@www.coopernuoto.it
SUMMARY:CRCVL\, concentramento C - 22-25/06/2026
DESCRIPTION:CRCVL \n  \nDATA: dal 22 al 25 giugno 2026 \nLUOGO: Piscina Gambi\, Ravenna \nCATEGORIA: Alto Livello (Ravenna e Cesena) \n 
URL:https://www.coopernuoto.it/evento-sportivo/crcvl-concentramento-c-22-25-06-2026/
CATEGORIES:Assoluti alto livello
END:VEVENT
BEGIN:VEVENT
DTSTART;TZID=Europe/Helsinki:20260625T080000
DTEND;TZID=Europe/Helsinki:20260831T170000
DTSTAMP:20260423T004652
CREATED:20251127T143253Z
LAST-MODIFIED:20251127T143253Z
UID:54671-1782374400-1788195600@www.coopernuoto.it
SUMMARY:ITALIANI ESTIVI RAGAZZI -  25-28/06/2025
DESCRIPTION:ITALIANI ESTIVI RAGAZZI – 25-28/06/2025 \n  \nDATA: dal 25 al 28 Giugno 2026 \nLUOGO: Riccione \nCATEGORIA: Ragazze
URL:https://www.coopernuoto.it/evento-sportivo/italiani-estivi-ragazzi-25-28-06-2025/
CATEGORIES:Ragazze agonismo
END:VEVENT
BEGIN:VEVENT
DTSTART;TZID=Europe/Helsinki:20260626T080000
DTEND;TZID=Europe/Helsinki:20260831T170000
DTSTAMP:20260423T004652
CREATED:20260312T124854Z
LAST-MODIFIED:20260312T124854Z
UID:56079-1782460800-1788195600@www.coopernuoto.it
SUMMARY:Nazionali FIN - 26-28/06/2026
DESCRIPTION:Nazionali FIN – 26-28/06/2026 \n  \nData: dal 26 al 28 Giugno 2026 \nLuogo: Novara \nCategoria: Ragazze propa \n  \ntrasferta di squadra
URL:https://www.coopernuoto.it/evento-sportivo/nazionali-fin-26-28-06-2026/
CATEGORIES:Ragazze propaganda
END:VEVENT
BEGIN:VEVENT
DTSTART;TZID=Europe/Helsinki:20260701T080000
DTEND;TZID=Europe/Helsinki:20260831T170000
DTSTAMP:20260423T004652
CREATED:20260415T085749Z
LAST-MODIFIED:20260415T085749Z
UID:57001-1782892800-1788195600@www.coopernuoto.it
SUMMARY:FINALI CREA - 01-03/07/2026
DESCRIPTION:FINALI CREA \n  \nDATA: dal 1 al 3 Luglio 2026 \nLUOGO: Piscina Gambi\, Ravenna \nCATEGORIA: Finalisti Esordienti A
URL:https://www.coopernuoto.it/evento-sportivo/finali-crea-01-03-07-2026/
CATEGORIES:Esordienti A
END:VEVENT
BEGIN:VEVENT
DTSTART;TZID=Europe/Helsinki:20260716T080000
DTEND;TZID=Europe/Helsinki:20260831T170000
DTSTAMP:20260423T004652
CREATED:20251127T143435Z
LAST-MODIFIED:20251127T143435Z
UID:54673-1784188800-1788195600@www.coopernuoto.it
SUMMARY:ITALIANI ESTIVI JUNIORES -  16-19/07/2026
DESCRIPTION:ITALIANI ESTIVI JUNIORES – 16-19/07/2026 \n  \nDATA: dal 16 al 19 Luglio 2026 \nLUOGO: Savona \nCATEGORIA: Juniores
URL:https://www.coopernuoto.it/evento-sportivo/italiani-estivi-juniores-16-19-07-2026/
CATEGORIES:Ragazze agonismo
END:VEVENT
BEGIN:VEVENT
DTSTART;TZID=Europe/Helsinki:20260717T080000
DTEND;TZID=Europe/Helsinki:20260831T170000
DTSTAMP:20260423T004652
CREATED:20260415T085938Z
LAST-MODIFIED:20260415T085938Z
UID:57003-1784275200-1788195600@www.coopernuoto.it
SUMMARY:FINALI CRCVL - 17-19/07/2026
DESCRIPTION:FINALI CRCVL \n  \nDATA: dal 17 al 19 Luglio 2026 \nLUOGO: Stadio del nuoto\, Riccione \nCATEGORIA: Finalisti Alto Livello
URL:https://www.coopernuoto.it/evento-sportivo/finali-crcvl-17-19-07-2026/
CATEGORIES:Assoluti alto livello
END:VEVENT
BEGIN:VEVENT
DTSTART;TZID=Europe/Helsinki:20260723T080000
DTEND;TZID=Europe/Helsinki:20260831T170000
DTSTAMP:20260423T004652
CREATED:20251127T143611Z
LAST-MODIFIED:20251127T143611Z
UID:54675-1784793600-1788195600@www.coopernuoto.it
SUMMARY:ITALIANI ESTIVI ESORDIENTI A -  23-26/07/2026
DESCRIPTION:ITALIANI ESTIVI ESORDIENTI A – 23-26/07/2026 \n  \nDATA: dal 23 al 26 Luglio 2026 \nLUOGO: Roma \nCATEGORIA: Esordienti A
URL:https://www.coopernuoto.it/evento-sportivo/italiani-estivi-esordienti-a-23-26-07-2026/
CATEGORIES:Esordienti A agonismo
END:VEVENT
BEGIN:VEVENT
DTSTART;TZID=Europe/Helsinki:20260731T080000
DTEND;TZID=Europe/Helsinki:20260831T170000
DTSTAMP:20260423T004652
CREATED:20260415T090135Z
LAST-MODIFIED:20260415T090135Z
UID:57005-1785484800-1788195600@www.coopernuoto.it
SUMMARY:CAMPIONATO ITALIANO DI CATEGORIA: RAGAZZI - 31/07-02/08/2026
DESCRIPTION:CAMPIONATO ITALIANO DI CATEGORIA: RAGAZZI \n  \nDATA: dal 31 Luglio al 2 Agosto 2026 \nLUOGO: Foro Italico \nCATEGORIA: Alto Livello atleti qualificati
URL:https://www.coopernuoto.it/evento-sportivo/campionato-italiano-di-categoria-ragazzi-31-07-02-08-2026/
CATEGORIES:Assoluti alto livello
END:VEVENT
BEGIN:VEVENT
DTSTART;TZID=Europe/Helsinki:20260804T080000
DTEND;TZID=Europe/Helsinki:20260831T170000
DTSTAMP:20260423T004652
CREATED:20260415T090350Z
LAST-MODIFIED:20260415T090350Z
UID:57007-1785830400-1788195600@www.coopernuoto.it
SUMMARY:CAMPIONATO ITALIANO DI CATEGORIA: J\, C\, S - 04-08/08/2026
DESCRIPTION:CAMPIONATO ITALIANO DI CATEGORIA: J\, C\, S \n  \nDATA: dal 04 allo 08 agosto 2026 \nLUOGO: Foro Italico \nCATEGORIA: Alto Livello atleti qualificati
URL:https://www.coopernuoto.it/evento-sportivo/campionato-italiano-di-categoria-j-c-s-04-08-08-2026/
CATEGORIES:Assoluti alto livello
END:VEVENT
END:VCALENDAR